Workbook

Sheet RREO
A1: Prefeitura Municipal de Cacapava do Sul - RS
A2: Relatório Resumido da Execução Orçamentária
A3: Demonstrativo Simplificado do Relatório Resumido da Execução Orçamentária
A4: Orçamentos Fiscal e da Seguridade Social
A5: Janeiro a Junho 2023/Bimestre Maio-Junho
A6: RREO - Anexo 14 (LRF, Art. 48) | H6: Em Reais
A7: BALANÇO ORÇAMENTÁRIO | D7: 1º Bimentre | E7: 2º Bimentre | F7: 3º Bimentre | H7: Até o bimestre
A8: RECEITAS
B9: Previsão Inicial | D9: 2.3501919e+08 | E9: 2.3501919e+08 | F9: 2.3501919e+08 | H9: 2.3501919e+08
B10: Previsão Atualizada | D10: 2.3501919e+08 | E10: 2.3503294e+08 | F10: 2.3587022e+08 | H10: 2.3587022e+08
B11: Receitas Realizadas | D11: 30373838 | E11: 60509687 | F11: 91605278 | H11: 91605278
B12: Déficit Orçamentário
B13: Saldos de Exercícios Anteriores(Utilizados para Créditos Adicionais) | D13: 1260790.3 | E13: 1853823.1 | F13: 2285209.8 | H13: 2285209.8
A14: DESPESAS
B15: Dotação Inicial | D15: 2.182765e+08 | E15: 2.182765e+08 | F15: 2.182765e+08 | H15: 2.182765e+08
B16: Dotação Atualizada | D16: 2.2056008e+08 | E16: 2.2116308e+08 | F16: 2.225189e+08 | H16: 2.225189e+08
B17: Despesas Empenhadas | D17: 40259038 | E17: 72337403 | F17: 1.0367137e+08 | H17: 1.0367137e+08
B18: Despesas Liquidadas | D18: 26853396 | E18: 58167778 | F18: 90917225 | H18: 90917225
B19: Despesas Pagas | D19: 19501449 | E19: 45189535 | F19: 75599828 | H19: 75599828
B20: Superávit Orçamentário | D20: 3520443 | E20: 2341908.8 | F20: 688053 | H20: 688053
A22: DESPESAS POR FUNÇÃO/SUBFUNÇÃO | D22: 1º Bimentre | E22: 2º bemestre | F22: 3º bemestre | G22: bimestre Anterior | H22: Até o bimestre
A23: Despesas Empenhadas | D23: 40259038 | E23: 72337403 | F23: 1.0367137e+08 | H23: 72337403
A24: Despesas Liquidadas | D24: 26853396 | E24: 58167778 | F24: 90917225 | H24: 58167778
D25: RCL gerada p/ Sistema | F25: RCL apurada p/ Contabilidade¹
A26: RECEITA CORRENTE LÍQUIDA - RCL | D26: 2º Bimentre | E26: 1º Semestre | F26: 2º Bimentre | G26: 1º Semestre | H26: Até o bimestre
A27: Receita Corrente Líquida | D27: 1.3601737e+08 | E27: 1.349182e+08 | F27: 1.3285731e+08 | G27: =130014671.91 -> 1.3001467e+08 | H27: 1.349182e+08
A28: Receita Corrente Líquida Ajustada para Cálculo dos Limites de Endividamento | D28: 1.3561737e+08 | E28: 1.347682e+08 | F28: 1.3260731e+08 | G28: =129745178.91 -> 1.2974518e+08 | H28: 1.347682e+08
A29: ¹Receita Corrente Líquida Ajustada para Cálculo dos Limites da Despesa c/ Pessoal | D29: 1.3561737e+08 | E29: 1.347682e+08 | F29: 1.2740874e+08 | G29: =129745178.91 -> 1.2974518e+08 | H29: 1.347682e+08
A31: RECEITAS E DESPESAS DO REGIME PRÓPRIO DE PREVIDÊNCIA DOS SERVIDORES | D31: 1º Bimentre | E31: 2º Semestre | F31: 3º Semestre | H31: Até o bimestre
A32: Fundo em Capitalização (PLANO PREVIDENCIÁRIO)
B33: Receitas Previdenciárias Realizadas | D33: 7047198.8 | E33: 12801508 | F33: 21208278 | H33: 21208278
B34: Despesas Previdenciárias Empenhadas | D34: 5127182.3 | E34: 10531940 | F34: 17325616 | H34: 17325616
B35: Despesas Previdenciárias Liquidadas | D35: 5127182.3 | E35: 10531940 | F35: 17325616 | H35: 17325616
B36: Despesas Previdenciárias Pagas | D36: 5127182.3 | E36: 10530760 | F36: 17317380 | H36: 17317380
B37: Resultado Previdenciário | D37: 1920016.5 | E37: 2269631.3 | F37: 3882661.3 | H37: 3882661.3
A38: Fundo em Repartição (PLANO FINANCEIRO)
B39: Receitas Previdenciárias Realizadas | D39: 0 | E39: 0 | F39: 0 | H39: 0
B40: Despesas Previdenciárias Empenhadas | D40: 0 | E40: 0 | F40: 0 | H40: 0
B41: Despesas Previdenciárias Liquidadas | D41: 0 | E41: 0 | F41: 0 | H41: 0
B42: Despesas Previdenciárias Pagas | D42: 0 | E42: 0 | F42: 0 | H42: 0
...

Sheet RGF
A7: PREFEITURA MUNICIPAL DE CACAPAVA DO SUL - RS - PODER EXECUTIVO
A8: RELATÓRIO DE GESTÃO FISCAL
A9: DEMONSTRATIVO SIMPLIFICADO DO RELATÓRIO DE GESTÃO FISCAL
A10: ORÇAMENTOS FISCAL E DA SEGURIDADE SOCIAL
A11: 1º SEMESTRE DE 2023
A12: Janeiro a Junho 2023/Bimestre Maio-Junho
A13: LRF, Art. 48 - Anexo 6 | E13: R$ 1,00
A14: RECEITA CORRENTE LÍQUIDA | C14: VALOR ATÉ O QUADRIMESTRE/SEMESTRE
A15: Receita Corrente líquida | E15: 1.3001467e+08
A16: Receita Corrente Líquida Ajustada para Cálculo dos Limites de Endividamento | E16: 1.2974518e+08
A17: Receita Corrente Líquida Ajustada para Cálculo dos Limites da Despesa com Pessoal | E17: 1.2974518e+08
A19: DESPESA COM PESSOAL | C19: VALOR | E19: % SOBRE A RCL AJUSTADA
A20: Despesa Total com Pessoal DTP | C20: 98216679 | E20: =C20/E17 -> 0.75699675
A21: Limite Máximo (incisos I,II e III, art. 20 da LRF) - 54,00% | C21: =E17*0.54 -> 70062397 | E21: 54
A22: Limite Prudencial (§ único, art. 22 da LRF) - 51,30% | C22: =C20/0.513 -> 1.9145552e+08 | E22: 51.3
A23: Limite de Alerta (inciso II do §1º do art. 59 da LRF) - 48,60% | C23: =E17*0.486 -> 63056157 | E23: 48.6
A25: DÍVIDA CONSOLIDADA | C25: VALOR ATÉ O QUADRIMESTRE DE REFERÊNCIA | E25: % SOBRE A RCL AJUSTADA
A26: Dívida Consolidada Líquida
A27: Limite Definido por Resolução do Senado Federal | C27: 0 | E27: 0
A29: GARANTIAS DE VALORES | C29: VALOR ATÉ O QUADRIMESTRE DE REFERÊNCIA | E29: % SOBRE A RCL AJUSTADA
A30: Total das Garantias Concedidas | C30: 0 | E30: 0
A31: Limite Definido por Resolução do Senado Federal | C31: 0 | E31: 0
A33: OPERAÇÕES DE CRÉDITO | C33: VALOR | E33: % SOBRE A RCL AJUSTADA
A34: Operações de Crédito Internas e Externas | C34: 0 | E34: 0
A35: Limite Definido pelo Senado Federal para Operações de | C35: =E17*1.2 -> 1.5569421e+08 | E35: 120
A36: Crédito Externas e Internas | E36: =(C36/E17)*100 -> 0
A37: Operações de Crédito por Antecipação da Receita | C37: 0 | E37: 0
A38: Limite Definido pelo Senado Federal para Operações de
A39: Crédito por Antecipação da Receita | C39: 0 | E39: 0
A41: RESTOS A PAGAR | C41: RESTOS A PAGAR EMPENHADOS E NÃO LIQUIDADOS DO EXERCÍCIO | E41: DISPONIBILIDADE DE CAIXA LÍQUIDA (APÓS A INSCRIÇÃO EM RESTOS A PAGAR NÃO PROCESSADOS DO EXERCÍCIO)
A42: Valor Total
A43: Fonte: SIAFIC/Cálculos da Contabilidade.
A46: Giovani Amestoy da Silva | C46: Ihoko Nakashima Mota | E46: Arlei Lopes Souza
A47: Prefeito Municipal | C47: Secret. de Município da Fazenda | E47: Contador - CRC/RS: 068452/O-6

Sheet BalOrç
A1: Prefeitura Municipal de Cacapava do Sul-RS | S1: Página 1 de 3
A2: Relatório Resumido da Execução Orçamentária
A3: Balanço Orçamentário
A4: Orçamento Fiscal e da Seguridade Socials
A5: Janeiro a Junho 2023/Bimestre Maio-Junho
A7: RREO - Anexo 1 (LRF, Art. 52, inciso I, alineas "a" e "b" do inciso II e §1º) | Q7: R$ 1,00
A8: RECEITAS | B8: PREVISÃO INICIAL | D8: PREVISÃO ATUALIZADA (a) | E8: RECEITAS REALIZADAS | O8: SALDO (a-c)
E9: No Bimestre (b) | F9: % (b/a) | I9: Até o Bimestre (c) | M9: % (c/a)
A10: RECEITAS (EXCETO INTRA-ORÇAMENTÁRIAS) (I) | B10: 189.246.719,66 | D10: 190.097.748,56 | E10: 25.239.939,90 | F10: 13,28 | I10: 77.235.417,23 | M10: 40,63 | O10: 112.862.331,33
A11: RECEITAS CORRENTES | B11: 189.131.998,70 | D11: 189.798.782,31 | E11: 25.186.964,56 | F11: 13,27 | I11: 76.793.103,95 | M11: 40,46 | O11: 113.005.678,36
A12: IMPOSTOS, TAXAS E CONTRIBUIÇÕES DE MELHORIA | B12: 19.859.945,64 | D12: 19.859.945,64 | E12: 3.654.072,13 | F12: 18,40 | I12: 11.231.625,76 | M12: 56,55 | O12: 8.628.319,88
A13: Impostos | B13: 18.633.280,21 | D13: 18.633.280,21 | E13: 3.571.507,02 | F13: 19,17 | I13: 10.711.965,67 | M13: 57,49 | O13: 7.921.314,54
A14: Taxas | B14: 1.225.690,17 | D14: 1.225.690,17 | E14: 82.565,11 | F14: 6,74 | I14: 519.660,02 | M14: 42,40 | O14: 706.030,15
A15: Contribuição de Melhoria | B15: 975,26 | D15: 975,26 | E15: - | F15: - | I15: 0,07 | M15: 0,01 | O15: 975,19
A16: CONTRIBUIÇÕES | B16: 10.754.571,21 | D16: 10.754.571,21 | E16: 1.544.730,20 | F16: 14,36 | I16: 4.858.223,68 | M16: 45,17 | O16: 5.896.347,53
A17: Contribuições Sociais | B17: 9.471.291,35 | D17: 9.471.291,35 | E17: 1.544.730,20 | F17: 16,31 | I17: 4.578.166,36 | M17: 48,34 | O17: 4.893.124,99
A18: Contribuição para o Custeio do Serviço de Iluminação Pública | B18: 1.283.279,86 | D18: 1.283.279,86 | E18: - | F18: - | I18: 280.057,32 | M18: 21,82 | O18: 1.003.222,54
A19: RECEITA PATRIMONIAL | B19: 4.063.837,31 | D19: 4.116.638,41 | E19: 1.662.834,56 | F19: 40,39 | I19: 7.188.732,88 | M19: 174,63 | O19: (3.072.094,47)
A20: Exploração do Patrimônio Imobiliário do Estado | B20: 1.283.279,86 | D20: 1.283.279,86 | E20: 4.000,68 | F20: 0,31 | I20: 13.042,54 | M20: 1,02 | O20: 1.270.237,32
A21: Valores Mobiliários | B21: 2.780.557,45 | D21: 2.833.358,55 | E21: 1.658.833,88 | F21: 58,55 | I21: 4.565.690,28 | M21: 161,14 | O21: (1.732.331,73)
... A46: RECEITAS (INTRA-ORÇAMENTÁRIAS) (II) | B46: 45.772.471,39 | D46: 45.772.471,39 | E46: 5.855.651,33 | F46: 12,79 | I46: 14.369.860,85 | M46: 31,39 | O46: 31.402.610,54
A47: FONTE: GOVBR - Responsabilidade Fiscal, SECRETARIA DE MUNICÍPIO DA FAZENDA, 26/Jul/2023, 13h e 58m.
A49: Prefeitura Municipal de Cacapava do Sul-RS | S49: Página 2 de 3
A50: Relatório Resumido da Execução Orçamentária
A51: Balanço Orçamentário
A52: Orçamento Fiscal e da Seguridade Socials
A53: Janeiro a Junho 2023/Bimestre Maio-Junho
A55: RREO - Anexo 1 (LRF, Art. 52, inciso I, alineas "a" e "b" do inciso II e §1º) | Q55: R$ 1,00
A56: RECEITAS | B56: PREVISÃO INICIAL | D56: PREVISÃO ATUALIZADA (a) | E56: RECEITAS REALIZADAS | O56: SALDO (a-c)
E57: No Bimestre (b) | F57: % (b/a) | I57: Até o Bimestre (c) | M57: % (c/a)
A58: SUBTOTAL DAS RECEITAS (III) = (I + II) | B58: 235.019.191,05 | D58: 235.870.219,95 | E58: 31.095.591,23 | F58: 13,18 | I58: 91.605.278,08 | M58: 38,84 | O58: 144.264.941,87
A59: TOTAL DAS RECEITAS (V) = (III + IV) | B59: 235.019.191,05 | D59: 235.870.219,95 | E59: 31.095.591,23 | F59: 13,23 | I59: 91.605.278,08 | M59: 38,98 | O59: 144.264.941,87
A60: DÉFICIT (VI) | B60: - | D60: - | E60: - | F60: - | I60: - | M60: - | O60: -
A61: TOTAL COM DÉFICIT (VII) = (V + VI) | B61: 235.019.191,05 | D61: 235.870.219,95 | E61: 31.095.591,23 | F61: 13,23 | I61: 91.605.278,08 | M61: 38,98 | O61: -
A62: SALDOS DE EXERCÍCIOS ANTERIORES | B62: - | D62: - | E62: - | F62: - | I62: 2.285.209,83 | M62: - | O62: -
A63: Recursos Arrecadados em Exercícios Anteriores - RPPS | B63: - | D63: - | E63: - | F63: - | I63: - | M63: - | O63: -
A64: Superávit Financeiro Utilizado para Créditos Adicionais | B64: - | D64: - | E64: - | F64: - | I64: 2.285.209,83 | M64: - | O64: -
A66: DESPESAS | B66: DOTAÇÃO INICIAL (d) | D66: DOTAÇÃO ATUALIZADA (e) | E66: DESPESAS EMPENHADAS | J66: SALDO (g)=(e-f) | L66: DESPESAS LIQUIDADAS | P66: SALDO (i)=(e-h) | Q66: DESPESAS PAGAS ATÉ O BIMESTRE (j) | R66: INSCRITAS EM RESTOS A PAGAR NÃO PROCESSADOS (k)
E67: No Bimestre | F67: Até o Bimestre (f) | L67: No Bimestre | O67: Até o Bimestre (h)
A68: DESPESAS (EXCETO INTRAORÇAMENTÁRIAS) (VIII) | B68: 169.179.269,60 | D68: 173.487.151,09 | E68: 24.224.665,68 | F68: 82.405.107,07 | J68: 91.082.044,02 | L68: 25.640.148,12 | O68: 69.650.964,91 | P68: 103.836.186,18 | Q68: 65.785.374,93 | R68: -
...

Sheet Funç
A1: Prefeitura Municipal de Cacapava do Sul - RS
A2: Relatório Resumido de Execução Orçamentária
A3: Demonstrativo da Execução das Despesas por Função/Subfunção
A4: Orçamento Fiscal e da Seguridade Social
A5: Janeiro a Junho 2023/Bimestre Maio-Junho
A7: RREO - ANEXO 2 (LRF, Art. 52, inciso II, alínea 'c') | L7: R$ 1,00
A8: FUNÇÃO/SUBFUNÇÃO | C8: Dotação | D8: Dotação | E8: Despesas Empenhadas | H8: SALDO | I8: Despesas Liquidadas | L8: Saldo
C9: Inicial | D9: Atualizada | E9: No Bimestre | F9: Até o Bimestre | G9: % | I9: No Bimestre | J9: Até o Bimestre | K9: %
D10: (a) | F10: (b) | G10: (b/total b) | H10: (c)=(a-b) | J10: (d) | K10: (d/Total d) | L10: (e)=(a-d)
A12: DESPESAS(EXCETO INTRAORÇAMENTÁRIAS)(I) | C12: 1.6917927e+08 | D12: 1.7348715e+08 | E12: 24224666 | F12: 82405107 | G12: 79.49 | H12: 91082044 | I12: 25640148 | J12: 69650965 | K12: 76.61 | L12: 1.0383619e+08
A13: Legislativa | C13: 5160368 | D13: 5160368 | E13: 643421.08 | F13: 2267063.8 | G13: 2.19 | H13: 2893304.2 | I13: 702773.58 | J13: 2041066.1 | K13: 2.24 | L13: 3119301.9
B14: Ação Legislativa | C14: 5160368 | D14: 5160368 | E14: 643421.08 | F14: 2267063.8 | G14: 2.19 | H14: 2893304.2 | I14: 702773.58 | J14: 2041066.1 | K14: 2.24 | L14: 3119301.9
A15: Essencial à Justiça | C15: 15000 | D15: 20001 | E15: 0 | F15: 9937.42 | G15: 0.01 | H15: 10063.58 | I15: 0 | J15: 8728.62 | K15: 0.01 | L15: 11272.38
B16: Representação Judicial e Extrajudicial | C16: 15000 | D16: 20001 | E16: 0 | F16: 9937.42 | G16: 0.01 | H16: 10063.58 | I16: 0 | J16: 8728.62 | K16: 0.01 | L16: 11272.38
A17: Administração | C17: 21993961 | D17: 22214617 | E17: 2919193.1 | F17: 10101196 | G17: 9.74 | H17: 12113421 | I17: 2850313.1 | J17: 9115032.2 | K17: 10.03 | L17: 13099585
B18: Planejamento e Orçamento | C18: 117985.93 | D18: 103485.93 | E18: 1367.48 | F18: 53991.7 | G18: 0.05 | H18: 49494.23 | I18: 21344.93 | J18: 38613.86 | K18: 0.04 | L18: 64872.07
B19: Administração Geral | C19: 18516829 | D19: 18740054 | E19: 2377409.9 | F19: 8286646.9 | G19: 7.99 | H19: 10453407 | I19: 2457091.9 | J19: 7909654.8 | K19: 8.7 | L19: 10830399
B20: Administração Financeira | C20: 1340000 | D20: 1332000 | E20: 254655.95 | F20: 926849.85 | G20: 0.89 | H20: 405150.15 | I20: 128390.7 | J20: 429706.06 | K20: 0.47 | L20: 902293.94
B21: Controle Interno | C21: 18000 | D21: 14502 | E21: 0 | F21: 1278.35 | G21: 0 | H21: 13223.65 | I21: 0 | J21: 1278.35 | K21: 0 | L21: 13223.65
B22: Normatização e Fiscalização | C22: 5 | D22: 5 | E22: 0 | F22: 0 | G22: 0 | H22: 5 | I22: 0 | J22: 0 | K22: 0 | L22: 5
B23: Tecnologia da Informação | C23: 145000 | D23: 145000 | E23: 62135.65 | F23: 103585.65 | G23: 0.1 | H23: 41414.35 | I23: 8710 | J23: 43130 | K23: 0.05 | L23: 101870
B24: Formação de Recursos Humanos | C24: 27332.88 | D24: 37258.12 | E24: 11506.74 | F24: 22516.84 | G24: 0.02 | H24: 14741.28 | I24: 10410.54 | J24: 18018.84 | K24: 0.02 | L24: 19239.28
B25: Administração de Receitas | C25: 60000 | D25: 60000 | E25: 0 | F25: 0 | G25: 0 | H25: 60000 | I25: 0 | J25: 0 | K25: 0 | L25: 60000
B26: Comunicação Social | C26: 10000 | D26: 22000 | E26: 3000 | F26: 3000 | G26: 0 | H26: 19000 | I26: 0 | J26: 0 | K26: 0 | L26: 22000
B27: Previdência Básica | C27: 590195.45 | D27: 590491.45 | E27: 83506.56 | F27: 247923.68 | G27: 0.24 | H27: 342567.77 | I27: 83506.56 | J27: 247923.68 | K27: 0.27 | L27: 342567.77
B28: Previdência Complementar | C28: 10 | D28: 10 | E28: 0 | F28: 0 | G28: 0 | H28: 10 | I28: 0 | J28: 0 | K28: 0 | L28: 10
B29: Proteção e Benefícios ao Trabalhador | C29: 934104.05 | D29: 934104.05 | E29: 123643.94 | F29: 362249.8 | G29: 0.35 | H29: 571854.25 | I29: 123643.94 | J29: 362249.8 | K29: 0.4 | L29: 571854.25
B30: Turismo | C30: 234498.66 | D30: 235706.92 | E30: 1966.9 | F30: 93153.56 | G30: 0.09 | H30: 142553.36 | I30: 17214.56 | J30: 64456.86 | K30: 0.07 | L30: 171250.06
A31: Segurança Pública | C31: 104763.03 | D31: 113320.03 | E31: 4816.54 | F31: 34763.4 | G31: 0.03 | H31: 78556.63 | I31: 1567.93 | J31: 15800.7 | K31: 0.02 | L31: 97519.33
B32: Policiamento | C32: 27510 | D32: 27510 | E32: 0 | F32: 0 | G32: 0 | H32: 27510 | I32: 0 | J32: 0 | K32: 0 | L32: 27510
B33: Defesa Civil | C33: 77252.03 | D33: 85809.03 | E33: 4816.54 | F33: 34763.4 | G33: 0.03 | H33: 51045.63 | I33: 1567.93 | J33: 15800.7 | K33: 0.02 | L33: 70008.33
B34: Proteção e Benefícios ao Trabalhador | C34: 1 | D34: 1 | E34: 0 | F34: 0 | G34: 0 | H34: 1 | I34: 0 | J34: 0 | K34: 0 | L34: 1
A35: Assistência Social | C35: 1535589.4 | D35: 1915681.3 | E35: 191450.53 | F35: 682991.24 | G35: 0.66 | H35: 1232690.1 | I35: 193129.86 | J35: 444718.82 | K35: 0.49 | L35: 1470962.5
B36: Administração Geral | C36: 208067.68 | D36: 201591.29 | E36: 25581.18 | F36: 152347.08 | G36: 0.15 | H36: 49244.21 | I36: 36855.32 | J36: 95537.73 | K36: 0.11 | L36: 106053.56
B37: Assistência ao Idoso | C37: 237469.03 | D37: 237169.03 | E37: 0 | F37: 1988.2 | G37: 0 | H37: 235180.83 | I37: 0 | J37: 1988.2 | K37: 0 | L37: 235180.83
B38: Assistência ao Portador de Deficiência | C38: 61018 | D38: 271018 | E38: 0 | F38: 6891.63 | G38: 0.01 | H38: 264126.37 | I38: 0 | J38: 6891.63 | K38: 0.01 | L38: 264126.37
B39: Assistência à Criança e ao Adolescente | C39: 335857.32 | D39: 399033.91 | E39: 18763.72 | F39: 173461.34 | G39: 0.17 | H39: 225572.57 | I39: 18006 | J39: 104064.26 | K39: 0.11 | L39: 294969.65
B40: Assistência Comunitária | C40: 609754.56 | D40: 704413.59 | E40: 127181.07 | F40: 327573.8 | G40: 0.32 | H40: 376839.79 | I40: 137036.91 | J40: 234789.37 | K40: 0.26 | L40: 469624.22
B41: Previdência Básica | C41: 122 | D41: 122 | E41: 0 | F41: 0 | G41: 0 | H41: 122 | I41: 0 | J41: 0 | K41: 0 | L41: 122
B42: Direitos Individuais, Coletivos e Difusos | C42: 7300.82 | D42: 7300.82 | E42: 0 | F42: 0 | G42: 0 | H42: 7300.82 | I42: 0 | J42: 0 | K42: 0 | L42: 7300.82
...

Sheet Result
A1: Prefeitura Municipal de Cacapava do Sul-RS | L1: Página 1 de 3
A2: Relatório Resumido da Execução Orçamentária
A3: Demonstrativo dos Resultados Primário e Nominal
A4: Orçamento Fiscal e da Seguridade Social
A5: Janeiro a Junho 2023/Bimestre Maio-Junho
A7: RREO - ANEXO VI(LRF, art. 53, inciso III) | J7: R$ 1,00
A8: ACIMA DA LINHA
A9: RECEITAS PRIMÁRIAS | F9: Previsão Atualizada | G9: Até o Bimestre/2023
G10: Receitas Realizadas
G11: (a)
A12: RECEITAS CORRENTES (EXCETO FONTES RPPS) (I) | F12: 181.748.299,79 | G12: 69.866.411,83
A13: Impostos, Taxas e Contribuições de Melhoria | F13: 19.859.945,64 | G13: 11.231.625,76
A14: IPTU | F14: 3.387.739,85 | G14: 1.876.271,30
A15: ISS | F15: 7.166.361,38 | G15: 4.098.230,35
A16: ITBI | F16: 2.375.922,52 | G16: 1.323.448,60
A17: IRRF | F17: 5.703.256,46 | G17: 3.414.015,42
A18: Outros Impostos, Taxas, e Contribuições de Melhoria | F18: 1.226.665,43 | G18: 519.660,09
A19: Contribuições | F19: 5.173.184,02 | G19: 1.874.097,11
A20: Receita Patrimonial | F20: 1.658.863,08 | G20: 3.506.703,93
A21: Aplicações Financeiras (II) | F21: 375.583,22 | G21: 883.661,33
A22: Outras Receitas Patrimoniais | F22: 1.283.279,86 | G22: 2.623.042,60
A23: Transferências Correntes | F23: 151.220.249,49 | G23: 51.757.435,56
... A54: RECEITA PRIMÁRIA TOTAL (EXCETO FONTES RPPS) (XVII) = (IV + XIII) | F54: 180.359.224,88 | G54: 69.149.575,60
A56: DESPESAS PRIMÁRIAS | C56: Dotação Atualizada | D56: Até o Bimestre/2023
D57: Despesas Empenhadas | F57: Despesas Liquidadas | G57: Despesas Pagas | I57: Restos a Pagar Processados Pagos | K57: Restos a Pagar não Processados
K58: Liquidados | M58: Pagos (c)
G59: (a) | I59: (b)
A60: DESPESAS CORRENTES (EXCETO FONTES RPPS) (XVIII) | C60: 173.839.685,57 | D60: 82.309.180,01 | F60: 72.002.160,34 | G60: 57.385.479,66 | I60: 7.620.012,06 | K60: 1.570.123,92 | M60: 1.483.408,25
A61: Pessoal e Encargos Sociais | C61: 117.650.330,61 | D61: 55.257.636,74 | F61: 53.510.758,52 | G61: 42.244.688,90 | I61: 4.146.277,03 | K61: 402.541,35 | M61: 402.541,35
A62: Juros e Encargos da Dívida (XIX) | C62: 606.451,00 | D62: 569.746,56 | F62: 569.746,56 | G62: 337.159,06 | I62: - | K62: - | M62: -
A63: Outras Despesas Correntes | C63: 55.582.903,96 | D63: 26.481.796,71 | F63: 17.921.655,26 | G63: 14.803.631,70 | I63: 3.473.735,03 | K63: 1.167.582,57 | M63: 1.080.866,90
A64: DESPESAS PRIMÁRIAS CORRENTES (EXCETO FONTES RPPS) (XX) = (XVIII - XIX) | C64: 173.233.234,57 | D64: 81.739.433,45 | F64: 71.432.413,78 | G64: 57.048.320,60 | I64: 7.620.012,06 | K64: 1.570.123,92 | M64: 1.483.408,25
A66: DESPESAS PRIMÁRIAS CORRENTES (COM FONTES RPPS) (XXI) | C66: 37.066.785,48 | D66: 17.347.767,93 | F66: 17.330.717,39 | G66: 17.322.406,57 | I66: 4.008,39 | K66: - | M66: -
A67: DESPESAS NÃO PRIMÁRIAS CORRENTES (COM FONTES RPPS) (XXII) | C67: - | D67: - | F67: - | G67: - | I67: - | K67: - | M67: -
A69: DESPESAS DE CAPITAL (EXCETO FONTES RPPS) (XXIII) | C69: 11.598.804,99 | D69: 4.014.419,30 | F69: 1.584.347,35 | G69: 891.941,61 | I69: 184.114,48 | K69: 1.455.778,87 | M69: 1.413.701,79
A71: FONTE: GOVBR - Responsabilidade Fiscal, SECRETARIA DE MUNICÍPIO DA FAZENDA, 26/Jul/2023, 14h e 05m.
A72: Prefeitura Municipal de Cacapava do Sul-RS | L72: Página 2 de 3
A73: Relatório Resumido da Execução Orçamentária
A74: Demonstrativo dos Resultados Primário e Nominal
A75: Orçamento Fiscal e da Seguridade Social
...

Sheet FAPS
A1: Prefeitura Municipal de Cacapava do Sul-RS | L1: Página 1 de 5
A2: RELATÓRIO RESUMIDO DA EXECUÇÃO ORÇAMENTÁRIA
A3: DEMONSTRATIVO DAS RECEITAS E DESPESAS PREVIDENCIÁRIAS
A4: ORÇAMENTO FISCAL E DA SEGURIDADE SOCIAL
A5: Junho de 2023
A7: RREO - Anexo 4 (LRF, Art. 53, inciso II) | H7: Em Reais
A8: REGIME PRÓPRIO DE PREVIDÊNCIA DOS SERVIDORES - RPPS
A9: FUNDO EM CAPITALIZAÇÃO (PLANO PREVIDENCIÁRIO)
A10: RECEITAS PREVIDENCIÁRIAS - RPPS (FUNDO EM CAPITALIZAÇÃO) | B10: PREVISÃO ATUALIZADA (a) | E10: RECEITAS REALIZADAS Até o Bimestre (b)
A11: RECEITAS CORRENTES (I) | B11: 53.595.330,64 | E11: 21.195.390,67
A12: Receita de Contribuições dos Segurados | B12: 9.116.339,27 | E12: 3.558.746,49
A13: Ativo | B13: 7.000.721,81 | E13: 2.567.122,29
A14: Inativo | B14: 1.995.936,49 | E14: 932.249,75
A15: Pensionista | B15: 119.680,97 | E15: 59.374,45
A16: Receita de Contribuições Patronais | B16: 41.931.551,69 | E16: 13.036.816,64
A17: Ativo | B17: 30.973.518,94 | E17: 10.683.676,91
A18: Inativo | B18: 10.316.870,02 | E18: 2.219.377,07
A19: Pensionista | B19: 641.162,73 | E19: 133.762,66
A20: Receita Patrimonial | B20: 2.450.000,00 | E20: 3.665.906,96
A21: Receitas Imobiliárias | B21: - | E21: -
... A33: TOTAL DAS RECEITAS DO FUNDO EM CAPITALIZAÇÃO - (IV) = (I+III-II) | B33: 53.585.330,64 | E33: 21.208.277,61
A35: DESPESAS PREVIDENCIÁRIAS - RPPS (FUNDO EM CAPITALIZAÇÃO) | B35: DOTAÇÃO ATUALIZADA (c) | D35: DESPESAS EMPENHADAS Até o Bimestre (d) | F35: DESPESAS LIQUIDADAS Até o Bimestre (e) | G35: DESPESAS PAGAS Até o Bimestre (f) | J35: INSCRITAS EM RESTOS A PAGAR NÃO PROCESSADOS No Exercício (g)
A36: Benefícios | B36: 37.000.265,48 | D36: 17.325.616,29 | F36: 17.325.616,29 | G36: 17.317.380,47 | J36: -
A37: Aposentadorias | B37: 33.019.128,31 | D37: 15.470.021,95 | F37: 15.470.021,95 | G37: 15.464.795,96 | J37: -
A38: Pensões por Morte | B38: 3.981.137,17 | D38: 1.855.594,34 | F38: 1.855.594,34 | G38: 1.852.584,51 | J38: -
A39: Outras Despesas Previdenciárias | B39: - | D39: - | F39: - | G39: - | J39: -
A40: Compensação Financeira entre os regimes | B40: - | D40: - | F40: - | G40: - | J40: -
A41: Demais Despesas Previdenciárias | B41: - | D41: - | F41: - | G41: - | J41: -
A42: TOTAL DAS DESPESAS DO FUNDO EM CAPITALIZAÇÃO (V) | B42: 37.000.265,48 | D42: 17.325.616,29 | F42: 17.325.616,29 | G42: 17.317.380,47 | J42: -
A44: RESULTADO PREVIDENCIÁRIO - FUNDO EM CAPITALIZAÇÃO (VI) = (IV – V)² | B44: 16.585.065,16 | D44: 3.882.661,32 | F44: 3.882.661,32 | G44: 3.890.897,14
A46: FONTE: GOVBR - Responsabilidade Fiscal, SECRETARIA DE MUNICÍPIO DA FAZENDA, 26/Jul/2023, 14h e 11m.
A47: Prefeitura Municipal de Cacapava do Sul-RS | L47: Página 2 de 5
A48: RELATÓRIO RESUMIDO DA EXECUÇÃO ORÇAMENTÁRIA
A49: DEMONSTRATIVO DAS RECEITAS E DESPESAS PREVIDENCIÁRIAS
A50: ORÇAMENTO FISCAL E DA SEGURIDADE SOCIAL
A51: Junho de 2023
A53: RREO - Anexo 4 (LRF, Art. 53, inciso II) | H53: Em Reais
A54: RECURSOS RPPS ARRECADADOS EM EXERCÍCIOS ANTERIORES | B54: PREVISÃO ORÇAMENTÁRIA
A55: VALOR | B55: -
A56: RESERVA ORÇAMENTÁRIA DO RPPS | B56: PREVISÃO ORÇAMENTÁRIA
...

Sheet Restos
A2: Prefeitura Municipal de Cacapava do Sul - RS
A3: Relatório Resumido da Execução Orçamentária
A4: Demonstrativo dos Restos a Pagar por Poder e Órgão
A5: Orçamentos Fiscal e da Seguridade Social
A6: Janeiro a Junho 2023/Bimestre Maio-Junho
A8: RREO - ANEXO 7 (LRF, art.53, inciso V) | M8: R$ 1,00
A9: PODER/ÓRGÃO | B9: RESTOS A PAGAR PROCESSADOS | G9: RESTOS A PAGAR NÃO PROCESSADOS | M9: Saldo Total
B11: Inscritos | D11: Pagos | E11: Cancelados | F11: Saldo | G11: Inscritos | I11: Liquidados | J11: Pagos | K11: Cancelados | L11: Saldo | M11: Saldo Total
B12: Em Exercícios | C12: Em 31 de | G12: Em Exercícios | H12: Em 31 de
B13: Anteriores | C13: dezembro de 2022 | G13: Anteriores | H13: dezembro de 2022
B14: (a) | C14: (b) | D14: (c) | E14: (d) | F14: e=(a+b)-(c+d) | G14: (f) | H14: (g) | I14: (h) | J14: (i) | K14: (j) | L14: k=(f+g)-(i+j) | M14: L=(e+k)
A15: RESTOS A PAGAR(EXCETO INTRA-ORÇAMENTÁRIOS) (I) | B15: 1380765.9 | C15: 3496082.7 | D15: 3252727 | E15: 5971.88 | F15: 1618149.7 | G15: 1424297.1 | H15: 3295727.5 | I15: 3025902.8 | J15: 2897110 | K15: 211054.78 | L15: 1611859.7 | M15: 3230009.4
A16: PODER EXECUTIVO | B16: 1380765.9 | C16: 3494245.3 | D16: 3250889.6 | E16: 5971.88 | F16: 1618149.7 | G16: 1424297.1 | H16: 3295727.5 | I16: 3025902.8 | J16: 2897110 | K16: 211054.78 | L16: 1611859.7 | M16: 3230009.4
A17: PODER LEGISLATIVO | B17: 0 | C17: 1837.41 | D17: 1837.41 | E17: 0 | F17: 0 | G17: 0 | H17: 0 | I17: 0 | J17: 0 | K17: 0 | L17: 0 | M17: 0
A18: CAMARA MUNICIPAL CACAPAVA DO SUL | B18: 0 | C18: 1837.41 | D18: 1837.41 | E18: 0 | F18: 0 | G18: 0 | H18: 0 | I18: 0 | J18: 0 | K18: 0 | L18: 0 | M18: 0
A19: RESTOS A PAGAR(INTRA-ORÇAMENTÁRIOS) (II) | B19: 9576538.5 | C19: 10178592 | D19: 4555407.9 | E19: 0 | F19: 15199723 | G19: 0 | H19: 0 | I19: 0 | J19: 0 | K19: 0 | L19: 0 | M19: 15199723
A20: PODER EXECUTIVO | B20: 9576538.5 | C20: 10178592 | D20: 4555407.9 | E20: 0 | F20: 15199723 | G20: 0 | H20: 0 | I20: 0 | J20: 0 | K20: 0 | L20: 0 | M20: 15199723
A21: TOTAL (III) = (I+II) | B21: 10957304 | C21: 13674675 | D21: 7808134.9 | E21: 5971.88 | F21: 16817873 | G21: 1424297.1 | H21: 3295727.5 | I21: 3025902.8 | J21: 2897110 | K21: 211054.78 | L21: 1611859.7 | M21: 18429732
A28: __________________________________ __________________________________ __________________________________
A29: GIOVANI AMESTOY DA SILVA IHOKO NAKASHIMA MOTA ARLEI LOPES SOUZA
A30: PREFEITO MUNICIPAL SECRETARIA DE MUNICIPIO DA FAZENDA 610.320.420-87
A31: CPF: 009.854.830-16 CPF: 390.226.680-53 CONTADOR: RS-068452/O-6

Sheet MDE
A1: Prefeitura Municipal de Cacapava do Sul-RS | W1: Página 1 de 6
A2: RELATÓRIO RESUMIDO DA EXECUÇÃO ORÇAMENTÁRIA
A3: DEMONSTRATIVO DAS RECEITAS E DESPESAS COM MANUTENÇÃO E DESENVOLVIMENTO DO ENSINO - MDE
A4: ORÇAMENTO FISCAL E DA SEGURIDADE SOCIAL
A5: Janeiro a Junho 2023/Bimestre Maio-Junho
A7: RREO - Anexo 8 (LDB,art. 72) | P7: Em Reais
A8: RECEITA RESULTANTE DE IMPOSTOS (Arts. 212 e 212-A da Constituição Federal)
A9: RECEITA RESULTANTE DE IMPOSTOS | B9: PREVISÃO ATUALIZADA (a) | I9: RECEITAS REALIZADAS Até o Bimestre (b)
A10: 1- RECEITA DE IMPOSTOS | B10: 18.633.280,21 | I10: 10.711.965,67
A11: 1.1- Receita Resultante do Imposto sobre a Propriedade Predial e Territorial Urbana – IPTU | B11: 3.387.739,85 | I11: 1.876.271,30
A12: 1.2- Receita Resultante do Imposto sobre Transmissão Inter Vivos – ITBI | B12: 2.375.922,52 | I12: 1.323.448,60
A13: 1.3- Receita Resultante do Imposto sobre Serviços de Qualquer Natureza – ISS | B13: 7.166.361,38 | I13: 4.098.230,35
A14: 1.4- Receita Resultante do Imposto de Renda Retido na Fonte – IRRF | B14: 5.703.256,46 | I14: 3.414.015,42
A15: 2- RECEITA DE TRANSFERÊNCIAS CONSTITUCIONAIS E LEGAIS | B15: 85.004.282,57 | I15: 38.402.085,18
A16: 2.1- Cota-Parte FPM | B16: 39.778.847,43 | I16: 19.072.744,61
A17: 2.1.1- Parcela referente à CF, art. 159, I, alínea b | B17: 37.262.913,64 | I17: 19.072.744,61
A18: 2.1.2- Parcela referente à CF, art. 159, I, alíneas d e e | B18: 2.515.933,79 | I18: -
A19: 2.2- Cota-Parte ICMS | B19: 36.531.088,44 | I19: 15.880.541,99
A20: 2.3- Cota-Parte IPI-Exportação | B20: 486.327,09 | I20: 156.800,45
... A27: 5- VALOR MÍNIMO A SER APLICADO ALÉM DO VALOR DESTINADO AO FUNDEB - 5% DE ((2.1.1) + (2.2) + (2.3) + (2.4) + (2.5) + (2.7)) + 25% DE ((1.1) + (1.2) + (1.3) + (1.4) + (2.1.2) + (2.6)) | B27: 9.411.720,94 | I27: 4.598.095,68
A29: FUNDEB
A30: RECEITAS DO FUNDEB RECEBIDAS NO EXERCÍCIO | B30: PREVISÃO ATUALIZADA (a) | I30: RECEITAS REALIZADAS Até o Bimestre (b)
A31: 6- TOTAL DAS RECEITAS DO FUNDEB RECEBIDAS | B31: 36.042.779,42 | I31: 13.904.664,05
A32: 6.1- FUNDEB - Impostos e Transferências de Impostos | B32: 36.042.779,42 | I32: 13.904.664,05
A33: 6.1.1- Principal | B33: 36.032.673,99 | I33: 13.831.746,43
A34: 6.1.2- Rendimentos de Aplicação Financeira | B34: 10.105,43 | I34: 72.917,62
A35: 6.1.3- Ressarcimento de recursos do Fundeb | B35: - | I35: -
A36: 6.2- FUNDEB - Complementação da União - VAAF | B36: - | I36: -
A37: 6.2.1- Principal | B37: - | I37: -
A38: 6.2.2- Rendimentos de Aplicação Financeira | B38: - | I38: -
A39: 6.2.3- Ressarcimento de recursos do Fundeb | B39: - | I39: -
A40: 6.3- FUNDEB - Complementação da União - VAAT | B40: - | I40: -
A41: 6.3.1- Principal | B41: - | I41: -
... A43: 6.3.3- Ressarcimento de recursos do Fundeb | B43: - | I43: -
A45: FONTE: GOVBR - Responsabilidade Fiscal, SECRETARIA DE MUNICÍPIO DA FAZENDA, 26/Jul/2023, 14h e 19m.
A46: Prefeitura Municipal de Cacapava do Sul-RS | W46: Página 2 de 6
A47: RELATÓRIO RESUMIDO DA EXECUÇÃO ORÇAMENTÁRIA
A48: DEMONSTRATIVO DAS RECEITAS E DESPESAS COM MANUTENÇÃO E DESENVOLVIMENTO DO ENSINO - MDE
A49: ORÇAMENTO FISCAL E DA SEGURIDADE SOCIAL
A50: Janeiro a Junho 2023/Bimestre Maio-Junho
...

Sheet Saúde
A1: Prefeitura Municipal de Cacapava do Sul-RS | AE1: Página 1 de 5
A2: Relatório Resumido da Execução Orçamentária
A3: Demonstrativo das Receitas e Despesas com Ações e Serviços Públicos de Saúde
A4: Orçamento Fiscal e da Seguridade Social
A5: Janeiro a Junho 2023/Meses Janeiro-Junho
A7: RREO – ANEXO XII (LC n° 141/2012 art.35)
A8: RECEITAS RESULTANTES DE IMPOSTOS E TRANSFERÊNCIAS CONSTITUCIONAIS E LEGAIS | J8: PREVISÃO INICIAL | P8: PREVISÃO ATUALIZADA (a) | W8: RECEITAS REALIZADAS
W9: Até o Bimestre (b) | AC9: % (b/a) x 100
A10: RECEITA DE IMPOSTOS (I) | J10: 18.633.280,21 | P10: 18.633.280,21 | W10: 10.711.965,67 | AC10: 57,49
A11: Receita Resultante do Imposto Predial e Territorial Urbano - IPTU | J11: 3.387.739,85 | P11: 3.387.739,85 | W11: 1.876.271,30 | AC11: 55,38
A12: Receita Resultante do Imposto sobre Transmissão Inter Vivos - ITBI | J12: 2.375.922,52 | P12: 2.375.922,52 | W12: 1.323.448,60 | AC12: 55,70
A13: Receita Resultante do Imposto sobre Serviços de Qualquer Natureza - ISS | J13: 7.166.361,38 | P13: 7.166.361,38 | W13: 4.098.230,35 | AC13: 57,19
A14: Receita Resultante do Imposto sobre a Renda e Proventos de Qualquer Natureza Retido na Fonte – IRRF | J14: 5.703.256,46 | P14: 5.703.256,46 | W14: 3.414.015,42 | AC14: 59,86
A15: RECEITA DE TRANSFERÊNCIAS CONSTITUCIONAIS E LEGAIS (II) | J15: 82.488.348,78 | P15: 82.488.348,78 | W15: 38.402.085,18 | AC15: 46,55
A16: Cota-Parte FPM | J16: 37.262.913,64 | P16: 37.262.913,64 | W16: 19.072.744,61 | AC16: 51,18
A17: Cota-Parte ITR | J17: 1.209.876,17 | P17: 1.209.876,17 | W17: 52.295,48 | AC17: 4,32
A18: Cota-Parte IPVA | J18: 6.998.143,44 | P18: 6.998.143,44 | W18: 3.239.702,65 | AC18: 46,29
A19: Cota-Parte ICMS | J19: 36.531.088,44 | P19: 36.531.088,44 | W19: 15.880.541,99 | AC19: 43,47
A20: Cota-Parte IPI-Exportação | J20: 486.327,09 | P20: 486.327,09 | W20: 156.800,45 | AC20: 32,24
A21: Outras Transferências ou Compensações Financeiras Provenientes de Impostos e Transferências Constitucionais | J21: - | P21: - | W21: - | AC21: -
A22: TOTAL DAS RECEITAS RESULTANTES DE IMPOSTOS E TRANFERÊNCIAS CONSTITUCIONAIS E LEGAIS - (III) = (I) + (II) | J22: 101.121.628,99 | P22: 101.121.628,99 | W22: 49.114.050,85 | AC22: 48,57
A24: DESPESAS COM AÇÕES E SERVIÇOS PÚBLICOS DE SAÚDE (ASPS) – POR SUBFUNÇÃO E CATEGORIA ECONÔMICA | F24: DOTAÇÃO INICIAL | H24: DOTAÇÃO ATUALIZADA (c) | L24: DESPESAS EMPENHADAS | S24: DESPESAS LIQUIDADAS | AA24: DESPESAS PAGAS
L25: Até o bimestre (d) | O25: % (d/c) x 100 | S25: Até o bimestre (e) | X25: % (e/c) x 100 | AA25: Até o bimestre (f) | AE25: % (f/c) x 100
A26: ATENÇÃO BÁSICA (IV) | F26: 3.401.695,16 | H26: 3.171.582,78 | L26: 1.606.993,85 | O26: 50,67 | S26: 1.271.799,94 | X26: 40,10 | AA26: 1.203.425,41 | AE26: 37,94
A27: Despesas Correntes | F27: 3.205.305,02 | H27: 3.003.849,81 | L27: 1.606.993,85 | O27: 53,50 | S27: 1.271.799,94 | X27: 42,34 | AA27: 1.203.425,41 | AE27: 40,06
A28: Despesas de Capital | F28: 196.390,14 | H28: 167.732,97 | L28: - | O28: - | S28: - | X28: - | AA28: - | AE28: -
A29: ASSISTÊNCIA HOSPITALAR E AMBULATORIAL (V) | F29: 15.080.918,08 | H29: 15.328.373,29 | L29: 8.512.146,09 | O29: 55,53 | S29: 5.525.471,63 | X29: 36,05 | AA29: 5.447.288,76 | AE29: 35,54
A30: Despesas Correntes | F30: 15.008.818,08 | H30: 15.288.273,29 | L30: 8.512.146,09 | O30: 55,68 | S30: 5.525.471,63 | X30: 36,14 | AA30: 5.447.288,76 | AE30: 35,63
A31: Despesas de Capital | F31: 72.100,00 | H31: 40.100,00 | L31: - | O31: - | S31: - | X31: - | AA31: - | AE31: -
A32: SUPORTE PROFILÁTICO E TERAPÊUTICO (VI) | F32: 1.254.192,93 | H32: 1.253.192,93 | L32: 431.095,95 | O32: 34,40 | S32: 302.157,49 | X32: 24,11 | AA32: 227.535,29 | AE32: 18,16
A33: Despesas Correntes | F33: 1.254.192,93 | H33: 1.253.192,93 | L33: 431.095,95 | O33: 34,40 | S33: 302.157,49 | X33: 24,11 | AA33: 227.535,29 | AE33: 18,16
A34: Despesas de Capital | F34: - | H34: - | L34: - | O34: - | S34: - | X34: - | AA34: - | AE34: -
A35: VIGILÂNCIA SANITÁRIA (VII) | F35: 508.330,60 | H35: 478.330,60 | L35: 63.376,55 | O35: 13,25 | S35: 59.729,73 | X35: 12,49 | AA35: 34.518,03 | AE35: 7,22
A36: Despesas Correntes | F36: 508.230,60 | H36: 478.230,60 | L36: 63.376,55 | O36: 13,25 | S36: 59.729,73 | X36: 12,49 | AA36: 34.518,03 | AE36: 7,22
A37: Despesas de Capital | F37: 100,00 | H37: 100,00 | L37: - | O37: - | S37: - | X37: - | AA37: - | AE37: -
... A45: Despesas Correntes | F45: 15.197.299,22 | H45: 15.210.956,39 | L45: 6.444.640,83 | O45: 42,37 | S45: 6.183.550,14 | X45: 40,65 | AA45: 3.389.790,97 | AE45: 22,29
A47: FONTE: GOVBR - Responsabilidade Fiscal, SECRETARIA DE MUNICÍPIO DA FAZENDA, 26/Jul/2023, 14h e 22m.
A49: Prefeitura Municipal de Cacapava do Sul-RS | AE49: Página 2 de 5
A50: Relatório Resumido da Execução Orçamentária
A51: Demonstrativo das Receitas e Despesas com Ações e Serviços Públicos de Saúde
...

Sheet RecDesp_Capital
J1: Página 1 de 1
D3: PREFEITURA MUNICIPAL DE CACAPAVA DO SUL-RS
D4: RELATÓRIO RESUMIDO DA EXECUÇÃO ORÇAMENTÁRIA
D5: DEMONSTRATIVO DAS RECEITAS DE OPERAÇÕES DE CRÉDITO E DESPESAS DE CAPITAL (REGRA DE OURO)
D6: ORÇAMENTOS FISCAL E DA SEGURIDADE SOCIAL
D7: JANEIRO A JUNHO 2023/BIMESTRE MAIO-JUNHO
A11: RREO – ANEXO 9 (LRF, art.53, § 1º, inciso I) | K11: Em Reais
A12: RECEITAS | F12: PREVISÃO ATUALIZADA | H12: RECEITAS REALIZADAS | I12: SALDO NÃO REALIZADO
F13: (a) | H13: (b) | I13: (c) = (a-b)
A14: RECEITAS DE OPERAÇÕES DE CRÉDITO¹ (I) | F14: 2 | H14: - | I14: 2
A16: DESPESAS | F16: DOTAÇÃO ATUALIZADA | H16: DESPESAS | I16: SALDO NÃO EXECUTADO
H17: LIQUIDADAS
F18: (d) | H18: (e) | I18: (f)=(d-e)
A19: DESPESAS DE CAPITAL | F19: 11.612.284,99 | H19: 1.584.347,35 | I19: 7.597.865,69
A20: Investimentos | F20: 11.611.119,99 | H20: 1.584.347,35 | I20: 7.596.700,69
A21: Inversões Financeiras | F21: 252 | H21: - | I21: 252
A22: Amortização da Dívida | F22: 913 | H22: - | I22: 913
A23: (-)Incentivos Fiscais a Contribuinte | F23: - | H23: - | I23: -
A24: (-)Incentivos Fiscais a Contribuinte por Instituições Financeiras | F24: - | H24: - | I24: -
A25: DESPESAS DE CAPITAL LÍQUIDA (II) | F25: 11.612.284,99 | H25: 1.584.347,35 | I25: 7.597.865,69
A27: RESULTADO PARA APURAÇÃO DA REGRA DE OURO (III)=(II–I) | F27: 11.612.282,99 | H27: 1.584.347,35 | I27: 7.597.863,69
A28: Notas: ¹ Operações de Crédito descritas na CF, art. 167, inciso III
D33: __________________________________ __________________________________ __________________________________
D34: GIOVANI AMESTOY DA SILVA IHOKO NAKASHIMA MOTA ARLEI LOPES SOUZA
G35: Prefeito Municipal | I35: Secret. de Município da Fazenda | L35: CPF: 610.320.420.87
D36: CPF: 009.854.830-16 CPF: 390.226.680-53 CONTADOR: RS-068452/O-6
A40: FONTE: GOVBR - Responsabilidade Fiscal, SECRETARIA DE MUNICÍPIO DA FAZENDA, 26/Jul/2023, 14h e 27m.

Sheet Alienação
A1: PREFEITURA MUNICIPAL DE CACAPAVA DO SUL - RS
A2: RELATÓRIO RESUMIDO DA EXECUÇÃO ORÇAMENTÁRIA
A3: DEMONSTRATIVO DA RECEITA DE ALIENAÇÃO DE ATIVOS E APLICAÇÃO DOS RECURSOS
A4: ORÇAMENTOS FISCAL E DA SEGURIDADE SOCIAL
A5: JANEIRO A JUNHO 2023/BIMESTRE MAIO-JUNHO
A6: RREO - ANEXO 11 (LRF, art. 53, § 1º, inciso III) | J6: Em Reais
A7: RECEITAS | D7: PREVISÃO ATUALIZADA | E7: RECEITAS REALIZADAS | J7: SALDO
D8: (a) | E8: (b) | J8: (c)=(a-b)
A9: RECEITAS DE ALIENAÇÃO DE ATIVOS (I) | D9: 0 | E9: - | J9: 0
C10: Receita de Alienação de Bens Móveis | D10: 0 | E10: - | J10: 0
C11: Receita de Alienação de Bens Imóveis | D11: 0 | E11: - | J11: 0
C12: Receita de Alienação de Bens Intangíveis | D12: 0 | E12: - | J12: 0
C13: Receita de Rendimentos de Aplicações Financeiras | D13: 0 | E13: - | J13: 0
A15: DESPESAS | D15: DOTAÇÃO ATUALIZADA | E15: DESPESAS | F15: DESPESAS | G15: DESPESAS | H15: DESPESAS | I15: PAGAMENTO | J15: SALDO
E16: EMPENHADAS | F16: LIQUIDADAS | G16: PAGAS | H16: INSCRITAS EM RESTOS A | I16: DE RESTOS A PAGAR
H17: PAGAR NÃO PROCESSADOS
D18: (d) | E18: (e) | G18: (f) | I18: (g) | J18: (h)=(d-e)
A19: APLICAÇÃO DOS RECURSOS DA ALIENAÇÃO DE ATIVOS (II) | D19: 0 | E19: 0 | F19: 0 | G19: 0 | H19: 0 | I19: 0 | J19: 0
A20: Despesas de Capital | D20: 0 | E20: 0 | F20: 0 | G20: 0 | H20: 0 | I20: 0 | J20: 0
B21: Investimentos | D21: 0 | E21: 0 | F21: 0 | G21: 0 | H21: 0 | I21: 0 | J21: 0
B22: Inversões Financeiras | D22: 0 | E22: 0 | F22: 0 | G22: 0 | H22: 0 | I22: 0 | J22: 0
B23: Amortização da Dívida | D23: 0 | E23: 0 | F23: 0 | G23: 0 | H23: 0 | I23: 0 | J23: 0
A24: Despesas Correntes dos Regimes de Previdência | D24: 0 | E24: 0 | F24: 0 | G24: 0 | H24: 0 | I24: 0 | J24: 0
B25: Regime Próprio dos Servidores Públicos | D25: 0 | E25: 0 | F25: 0 | G25: 0 | H25: 0 | I25: 0 | J25: 0
A27: SALDO FINANCEIRO A APLICAR | D27: 2022 | E27: 2023 | J27: SALDO ATUAL
D28: (i) | E28: (j) = (Ib - (IIf + IIg)) | J28: (k) = (IIIi + IIIj)
A29: VALOR (III) | E29: - | J29: 0
A35: __________________________________ __________________________________ __________________________________
A36: GIOVANI AMESTOY DA SILVA IHOKO NAKASHIMA MOTA ARLEI LOPES SOUZA
A37: PREFEITO MUNICIPAL SECRETARIA DE MUNICIPIO DA FAZENDA 610.320.420-87
A38: CPF: 009.854.830-16 CPF: 390.226.680-53 CONTADOR: RS-068452/O-6

Sheet Demon_PPP
A1: Prefeitura Municipal de Cacapava do Sul-RS
A2: RELATÓRIO RESUMIDO DA EXECUÇÃO ORÇAMENTÁRIA
A3: DEMONSTRATIVO DAS PARCERIAS PÚBLICO-PRIVADAS
A4: ORÇAMENTOS FISCAL E DA SEGURIDADE SOCIAL
A5: Janeiro a Junho 2023/Bimestre Maio-Junho
A7: RREO - Anexo 13 (Lei nº 11.079, de 30.12.2004, arts. 22, 25 e 28) | O7: Em reais
A8: IMPACTOS DAS CONTRATAÇÕES DE PPP | E8: SALDO TOTAL EM | H8: SALDO FINAL | J8: SALDO FINAL
E9: 31 DE DEZEMBRO DO
E10: EXERCÍCIO ANTERIOR | H10: Até o Bimestre
A11: TOTAL DE ATIVOS
A12: Ativos Constituídos pela SPE
A13: TOTAL DE PASSIVOS
A14: Obrigações decorrentes de Ativos Constituídos pela SPE
A15: Provisões de PPP
A16: Outros Passivos
A17: ATOS POTENCIAIS PASSIVOS
A18: Obrigações contratuais
A19: Riscos não Provisionados
A20: Garantias concedidas
A21: Outros Passivos Contingentes
A23: DESPESAS DE PPP | E23: EXERCÍCIO | F23: EXERCÍCIO
E24: ANTERIOR | F24: CORRENTE | G24: 2024 | H24: 2025 | I24: 2026 | J24: 2027 | K24: 2028 | L24: 2029 | M24: 2030 | N24: 2031 | O24: 2032
F25: 2023
A26: DO ENTE FEDERADO, EXCETO ESTATAIS NÃO DEPENDENTES (I) = (I.1 + I.2) | E26: 0 | F26: 0 | G26: 0 | H26: 0 | I26: 0 | J26: 0 | K26: 0 | L26: 0 | M26: 0 | N26: 0 | O26: 0
A27: Contratadas(I.1) | E27: 0 | F27: 0 | G27: 0 | H27: 0 | I27: 0 | J27: 0 | K27: 0 | L27: 0 | M27: 0 | N27: 0 | O27: 0
A28: A contratar (I.2)
A29: DAS ESTATAIS NÃO-DEPENDENTES (II) = (II.1 + II.2)
A30: Contratadas (II.1)
A31: A contratar (II.2)
A32: TOTAL DAS DESPESAS DE PPP (III) = (I + II) | E32: 0 | F32: 0 | G32: 0 | H32: 0 | I32: 0 | J32: 0 | K32: 0 | L32: 0 | M32: 0 | N32: 0 | O32: 0
A33: RECEITA CORRENTE LÍQUIDA (RCL) (IV) | E33: 0 | F33: 0 | G33: 0 | H33: 0 | I33: 0 | J33: 0 | K33: 0 | L33: 0 | M33: 0 | N33: 0 | O33: 0
A34: TOTAL DAS DESPESAS CONSIDERADAS PARA O LIMITE (I)
A35: TOTAL DAS DESPESAS CONSIDERADAS PARA O LIMITE / RCL (%) (V) = (I / IV)

Sheet Dívida
A2: PREFEITURA MUNICIPAL DE CACAPAVA DO SUL - RS
A3: RELATÓRIO DE GESTÃO FISCAL
A4: DEMONSTRATIVO DA DÍVIDA CONSOLIDADA LÍQUIDA
A5: ORÇAMENTOS FISCAL E DA SEGURIDADE SOCIAL
A6: JANEIRO A JUNHO DE 2023
A8: RGF - ANEXO 2 (LRF, art.55, inciso I, alínea "b") | H8: R$ 1,00
A10: DÍVIDA CONSOLIDADA | E10: SALDO DO | F10: SALDO DO EXERCÍCIO DE 2023
E11: EXERCÍCIO | F11: Até o 1º | G11: Até o 1º | H11: Até o 3º
E12: ANTERIOR | F12: Quadrimestre | G12: Semestre | H12: Quadrimestre
A13: DÍVIDA CONSOLIDADA - DC (I) | E13: 5629528.2 | F13: 8016049 | G13: 8163947.5 | H13: 0
B14: Dívida Mobiliária | E14: 0 | F14: 0 | G14: 0 | H14: 0
B15: Dívida Contratual | E15: 5618230.2 | F15: 8014032.4 | G15: 8161930.8 | H15: 0
C16: Empréstimos | E16: 4999980 | F16: 4999980 | G16: 4999980 | H16: 0
D17: Internos | E17: 4999980 | F17: 4999980 | G17: 4999980 | H17: 0
D18: Externos | E18: 0 | F18: 0 | G18: 0 | H18: 0
C19: Reestruturação da Dívida de Estados e Municípios | E19: 0 | F19: 0 | G19: 0 | H19: 0
C20: Financiamentos | E20: 0 | F20: 0 | G20: 232587.5 | H20: 0
D21: Internos | E21: 0 | F21: 0 | G21: 232587.5 | H21: 0
D22: Externos | E22: 0 | F22: 0 | G22: 0 | H22: 0
C23: Parcelamento e Renegociação de dívidas | E23: 618250.24 | F23: 607052.38 | G23: 605363.3 | H23: 0
D24: De Tributos | E24: 0 | F24: 0 | G24: 0 | H24: 0
D25: De Contribuições Previdenciárias | E25: 290000 | F25: 278802.14 | G25: 277113.06 | H25: 0
D26: De Demais Contribuições Sociais | E26: 0 | F26: 0 | G26: 0 | H26: 0
D27: Do FGTS | E27: 0 | F27: 0 | G27: 0 | H27: 0
D28: Com Instituição Não Financeira | E28: 328250.24 | F28: 328250.24 | G28: 328250.24 | H28: 0
C29: Demais Dívidas Contratuais - Cessão onerosa da F. de Pgto | E29: 0 | F29: 2407000 | G29: 2324000 | H29: 0
B30: Precatórios Posteriores a 05/05/2000 (inclusive) - Vencidos e não pagos | E30: 11297.94 | F30: 2016.67 | G30: 2016.67 | H30: 0
B31: Outras Dívidas | E31: 0 | F31: 0 | G31: 0 | H31: 0
A32: DEDUÇÕES (II) | E32: 11385969 | F32: 18118366 | G32: 1572780.5 | H32: 0
B33: Disponibilidade de Caixa¹ | E33: 10860034 | F33: 17584223 | G33: 1038637.7 | H33: 0
C34: Disponibilidade de Caixa Bruta | E34: 17239674 | F34: 20853039 | G34: 19126609 | H34: 0
C35: (-) Restos a Pagar Processados | E35: 5282949 | F35: 2110711.6 | G35: 16821842 | H35: 0
C36: (-) Depósitos Restituíveis e Valores Vinculados | E36: 1096690.6 | F36: 1158103.9 | G36: 1266129.7 | H36: 0
B37: Demais Haveres Financeiros | E37: 525935.16 | F37: 534142.74 | G37: 534142.74 | H37: 0
A38: DÍVIDA CONSOLIDADA LÍQUIDA (DCL) (III) = (I - II) | E38: (5.756.441,00) | F38: (10.102.317,00) | G38: 6591167 | H38: 0
A39: RECEITA CORRENTE LÍQUIDA - RCL (IV) | E39: 1.3123123e+08 | F39: 1.3601737e+08 | G39: 1.349182e+08 | H39: 0
A40: (-) Transferências obrigatórias da União relativas às emendas individuais (art. 166-A, § 1º, da CF) (V) | E40: 250000 | F40: 400000 | G40: 150000 | H40: 0
A41: RECEITA CORRENTE LÍQUIDA AJUSTADA PARA CÁLCULO DOS LIMITES DE ENDIVIDAMENTO (VI) = (IV - V)³ | E41: 1.3098123e+08 | F41: 1.3561737e+08 | G41: 1.347682e+08 | H41: 0
A42: % da DC sobre a RCL AJUSTADA (I/VI) | E42: =(E13/E41)*100 -> 4.2979654 | F42: =(F13/F41)*100 -> 5.9107832 | G42: =(G13/G41)*100 -> 6.0577699 | H42: 0
A43: % da DCL sobre a RCL AJUSTADA (III/VI) | E43: (4,39) | F43: (7,45) | G43: =(G38/G39)*100 -> 4.885306 | H43: 0
...

Sheet RCL
A1: Modelo I - DEMONSTRATIVO DA RECEITA CORRENTE LÍQUIDA | D1: INSTRUÇÃO NORMATIVA nº 13/2022 - TCE/RS. | F1: Página: 1/2 | I1: DEMONSTRATIVO DA RECEITA CORRENTE LÍQUIDA | N1: INSTRUÇÃO NORMATIVA nº 13/2022 - TCE/RS. | R1: Página: 2/2
A2: Lei Complementar Federal nº 101/2000 - Inciso I do artigo 53 | B2: 12 últimos Meses | D2: 45078 | E2: 45047 | F2: 45017 | G2: 44986 | H2: 44958 | I2: 44927 | J2: 44896 | K2: 44866 | L2: 44835 | M2: 44805 | N2: 44774 | O2: 44743
A3: Discriminação | B3: Codificação | C3: TOTAIS: | D3: 12º Mês | E3: 11º mês | F3: 10º Mês | G3: 09º mês | H3: 08º Mês | I3: 07º mês | J3: 06º Mês | K3: 05º Mês | L3: 04º Mês | M3: 03º Mês | N3: 02º Mês | O3: 01º Mês
A4: I - RECEITAS CORRENTES | C4: =C5-C6 -> 1.4967613e+08 | D4: =D5-D6 -> 11797672 | E4: =E5-E6 -> 13389293 | F4: =F5-F6 -> 12640024 | G4: =G5-G6 -> 13654040 | H4: =H5-H6 -> 11854362 | I4: =I5-I6 -> 13457713 | J4: =J5-J6 -> 16871300 | ... O4: =O5-O6 -> 11950113
A5: Receitas Correntes | B5: 1.0.0.0.00 | C5: =SUM(D5:O5) -> 1.6563452e+08 | D5: 13019105 | E5: 14875937 | F5: =13983443.81 -> 13983444 | G5: 14715118 | H5: 13202654 | I5: =15151342.37 -> 15151342 | J5: =18787626.17 -> 18787626 | K5: =12217609.16 -> 12217609 | L5: =12709999.32 -> 12709999 | M5: =12015391.06 -> 12015391 | N5: =11887679.67 -> 11887680 | O5: =13068617.18 -> 13068617
A6: (R) Dedução das Receitas Correntes | B6: 9.1.0.0.00 | C6: =SUM(D6:O6) -> 15958398 | D6: =1221433.71 -> 1221433.7 | E6: =1486644.42 -> 1486644.4 | F6: =1343420 -> 1343420 | G6: 1061078.1 | H6: =1348292.03 -> 1348292 | I6: =1693628.96 -> 1693629 | J6: =1916326.14 -> 1916326.1 | K6: =1319404 -> 1319404 | L6: =1190587.1 -> 1190587.1 | M6: =1094846.27 -> 1094846.3 | N6: =1164232.76 -> 1164232.8 | O6: =1118504.09 -> 1118504.1
A7: II - DEDUÇÕES: II = (1.+ 2.+ 3.+ 4.) | C7: =C8+C12+C13+C14+C17+C20+C15+C16 -> 19661454 | D7: =D8+D12+D13+D14+D17+D20+D15+D16 -> 2039339.9 | E7: =E8+E12+E13+E14+E17+E20+E15+E16 -> 1917060.1 | F7: =F8+F12+F13+F14+F17+F20+F15+F16 -> 1824204.3 | G7: =G8+G12+G13+G14+G17+G20+G15+G16 -> 2027727.3 | H7: =H8+H12+H13+H14+H17+H20+H15+H16 -> 1784988.3 | I7: =I8+I12+I13+I14+I17+I20+I15+I16 -> 1832155.4 | J7: =J8+J12+J13+J14+J17+J20+J15+J16 -> 2545623.2 | ... O7: =O8+O12+O13+O14+O17+O20+O15+O16 -> 1440803.7
A8: 1. Contribuições Socias Específicas de Estado, DF, e Municípios | B8: 1.2.1.5.00 | C8: =SUM(C9:C11) -> 9595385.3 | D8: =SUM(D9:D16) -> 961649.91 | E8: =SUM(E9:E16) -> 962875.14 | F8: =SUM(F9:F16) -> 978178.99 | G8: =SUM(G9:G16) -> 950433.09 | H8: =SUM(H9:H16) -> 917225.24 | I8: =SUM(I9:I16) -> 932729.09 | J8: =SUM(J9:J16) -> 1611041.3 | K8: =SUM(K9:K16) -> 937055.45 | ... O8: =SUM(O9:O16) -> 853025.02
A9: Contribuições descontadas dos Servidores para o regime próprio de previdência Social - RPPS | C9: =SUM(D9:O9) -> 7588747.2 | D9: =426202.06+158054.11+9175.47 -> 593431.64 | E9: =426915.31+159691.78+9400.63+12341.86 -> 608349.58 | F9: =432038.33+158358.01+9400.63 -> 599796.97 | G9: =438327.17+153735.24+9400.63 -> 601463.04 | H9: =413954.73+137782.88+10263.18 -> 562000.79 | I9: =429684.69+152285.87+11733.91 -> 593704.47 | J9: =866875.32+299927.23+17533.53 -> 1184336.1 | K9: =428888.81+153379.73+8744.69 -> 591013.23 | L9: =425972.73+280838.94-120597.13 -> 586214.54 | M9: =412345.91+8631.35+138512.18 -> 559489.44 | N9: =408401.91+137755.5+8602.75 -> 554760.16 | O9: =408434.58+137060.72+8691.94 -> 554187.24
A10: Recursos Vinculados ao Fundo de Previdência Social | C10: 27152.42
A11: Contribuições descontadas dos Servidores para o Fundo de Assitência a Saúde dos Servidores Municipais - FASM | B11: (152 e 153) | C11: =SUM(D11:O11) -> 1979485.7 | D11: =94083.68+68200.94+7096.01 -> 169380.63 | E11: =93560.97+68259.63+7091.69 -> 168912.29 | F11: =94329.86+68241.46+7123.8 -> 169695.12 | G11: =93294.2+65905.23+7151.89-(1150+210.42) -> 164990.9 | H11: =96046.76+62274.92+7063.89 -> 165385.57 | I11: =98955.98+63450.23+7009 -> 169415.21 | J11: =95446.79+70534.71 -> 165981.5 | K11: =99109.08+70430.19-247.85 -> 169291.42 | L11: =93694.45+69984.24-46.25 -> 163632.44 | M11: =89971.79+67663.34 -> 157635.13 | N11: =89883.83+67421.24-201.6 -> 157103.47 | O11: =91117.4+67205.98-261.36 -> 158062.02
A12: 2.1. Compensação Financeiras entre o Regime Geral e os Regimes Próprios de Previdência dos Servidores (140) | B12: 1.9.9.9.03 | C12: =SUM(D12:O12) -> 518742.32 | D12: =44248.32 -> 44248.32 | E12: 44248.32 | F12: 44248.32 | G12: =44248.32 -> 44248.32 | H12: =41771.66 -> 41771.66 | I12: =41771.66 -> 41771.66 | J12: 86851.64 | K12: =41771.66 -> 41771.66 | L12: =41771.66 -> 41771.66 | N12: =87810.76 -> 87810.76
A13: 2.2. RECEITAS diretamente arrecadadas pelo FAPS/RPPS (151) | B13: =SUM(D13:I13)-11640.15 -> 0 | C13: =SUM(D13:O13) -> 25608.32 | D13: 2328.03 | E13: 2328.03 | F13: =2328.03 -> 2328.03 | G13: 2328.03 | H13: 2328.03 | J13: 2328.03 | K13: =2328.03 -> 2328.03 | L13: =2328.03 -> 2328.03 | M13: =2328.03 -> 2328.03 | N13: =2328.02 -> 2328.02 | O13: =2328.03 -> 2328.03
A14: 2.3. RECEITAS diretamente arrecadadas pelo FASM (133) | C14: =SUM(D14:O14) -> 1691618.6 | D14: =152261.29 -> 152261.29 | E14: =139036.92 -> 139036.92 | F14: =162110.55 -> 162110.55 | G14: =137402.8 -> 137402.8 | H14: =145739.19 -> 145739.19 | I14: =127820.76+16.99 -> 127837.75 | J14: 144391.64 | K14: =132651.11 -> 132651.11 | L14: =129401.49 -> 129401.49 | M14: =135285.62 -> 135285.62 | N14: =147052.48 -> 147052.48 | O14: =138447.73 -> 138447.73
A15: 2.4. Recei. Dire. Fundo Assis. Saude Servi. - Divida Ativa | B15: 1.9.9.0.99.1.3.03 | C15: =SUM(D15:O15) -> 0
A16: 2.5. Recei. Fundo Saude Servi.- Divida Ativa - Multas e Juros (199) | B16: 1.9.9.0.99.1.3.04 | C16: =SUM(D16:O16) -> 27152.42 | J16: 27152.42
A17: 3. Remuneração dos Recursos dos Regimes Próprios de Previdência Social dos Servidores | C17: =SUM(C18:C19) -> 6241962.7 | D17: =SUM(D18:D19) -> 754206.91 | E17: =SUM(E18:E19) -> 643889.68 | F17: =SUM(F18:F19) -> 514389.75 | G17: =SUM(G18:G19) -> 757876.49 | H17: =SUM(H18:H19) -> 568532.54 | I17: =SUM(I18:I19) -> 607414.69 | J17: =SUM(J18:J19) -> 465394.21 | ... O17: =SUM(O18:O19) -> 250918.89
A18: Rendimentos de Aplicação Financeira referente aos recursos do regime próprio de previdência Social - RPPS | B18: 1.3.2.1.04 | C18: =SUM(D18:O18) -> 5937627.9 | D18: =720929.97+2928.25 -> 723858.22 | E18: =610820.65+2856.38-80.59 -> 613596.44 | F18: =486956.96+2318.61 -> 489275.57 | G18: =729532.55+2952.49-2861.17 -> 729623.87 | H18: =548707.38+2295.89-6314.48 -> 544688.79 | I18: =578445.66+2770.37-229.97 -> 580986.06 | J18: =658274.17-217966.6 -> 440307.57 | K18: =403157.76-172210.9 -> 230946.86 | L18: =618359.36 -> 618359.36 | M18: =(437508.32-47945.81)-815.56 -> 388746.95 | N18: =349748.56-6010.28 -> 343738.28 | O18: =281732.76-48232.86 -> 233499.9
A19: Rendimentos de Aplicação Financeira referente aos recursos do Fundo de Assitência a Saúde dos Servidores Municipais - FASM | B19: 1.3.2.1.10 | C19: =SUM(D19:O19) -> 304334.85 | D19: =30348.69 -> 30348.69 | E19: =30293.24 -> 30293.24 | F19: =25114.18 -> 25114.18 | G19: =28252.62 -> 28252.62 | H19: =23843.75 -> 23843.75 | I19: =26428.63 -> 26428.63 | J19: =25086.64 -> 25086.64 | K19: =23342.99 -> 23342.99 | L19: =26433.66 -> 26433.66 | M19: =25056.84 -> 25056.84 | N19: =22714.62 -> 22714.62 | O19: =17418.99 -> 17418.99
A20: 4. Receitas Arrecadas na FR 0604 - Conforme EC Nº 120/2022 | C20: =SUM(C21:C24) -> 1560984.6 | D20: =SUM(D21:D24) -> 124645.43 | E20: =SUM(E21:E24) -> 124682 | F20: =SUM(F21:F24) -> 122948.69 | G20: =SUM(G21:G24) -> 135438.58 | H20: =SUM(H21:H24) -> 109391.68 | I20: =SUM(I21:I24) -> 122402.21 | J20: =SUM(J21:J24) -> 208464 | ... O20: =SUM(O21:O24) -> 196084
A21: (R) Remuneracao de Rec. da Atencao basica Uniao (484) | B21: 1.3.2.1.01.0.1.01.03.08 | C21: =SUM(D21:O21) -> 158.63 | D21: 12.32 | E21: 8.55 | F21: 69.29 | G21: =30.58 -> 30.58 | H21: 23.68 | I21: 14.21
A22: (R) Remuneracao dos Recursos p/ Pgto aos ACE's (500) | B22: 1.3.2.1.01.0.1.01.03.12 | C22: =SUM(D22:O22) -> 1637.96 | D22: =553.11 -> 553.11 | E22: 593.45 | F22: 491.4
A23: (R) Piso da Atencao Primaria - Agentes Comunitarios de Saude (275) | B23: 1.7.1.3.50.1.1.02 | C23: =SUM(D23:O23) -> 1480708 | D23: 110880 | E23: 110880 | F23: =109368 -> 109368 | G23: 109368 | H23: 109368 | I23: =109368 -> 109368 | J23: =208464 -> 208464 | K23: =104232 -> 104232 | L23: =104232 -> 104232 | M23: =104232 -> 104232 | N23: =104232 -> 104232 | O23: =41078+31772+9306+113928 -> 196084
A24: (R) Transf.p/ pgto aos Agentes de Combate as Endemias (499) | B24: 1.7.1.3.50.3.1.04 | C24: =SUM(D24:O24) -> 78480 | D24: =13200 -> 13200 | E24: 13200 | F24: =13020 -> 13020 | G24: =26040 -> 26040 | I24: 13020
A25: III - RECEITA CORRENTE LÍQUIDA ( III = I - II) | C25: =C4-C7 -> 1.3001467e+08 | D25: =D4-D7 -> 9758331.8 | E25: =E4-E7 -> 11472233 | F25: =F4-F7 -> 10815819 | G25: =G4-G7 -> 11626313 | H25: =H4-H7 -> 10069374 | I25: =I4-I7 -> 11625558 | J25: =J4-J7 -> 14325677 | ... O25: =O4-O7 -> 10509309
A26: IV - Valor das Emendas Parlamentares Individuais = CO 3110 Transferências da União | C26: =SUM(D26:O26) -> 269493 | F26: =108496+10997 -> 119493 | G26: =150000 -> 150000
A27: V - RECEITA CORRENTE LÍQUIDA (Endividamenteo) ( V = III - IV) | C27: =C25-C26 -> 1.2974518e+08 | D27: =D25-D26 -> 9758331.8 | E27: =E25-E26 -> 11472233 | F27: =F25-F26 -> 10696326 | G27: =G25-G26 -> 11476313 | H27: =H25-H26 -> 10069374 | I27: =I25-I26 -> 11625558 | J27: =J25-J26 -> 14325677 | ... O27: =O25-O26 -> 10509309
A28: VI - Valor das Emendas Parlamentares de Bancada = CO 3120 Transferências da União | C28: =SUM(D28:O28) -> 0
A29: VII - RECEITA CORRENTE LÍQUIDA (Despesas com Pessoal) ( VII = V - VI) | C29: =C27-C28 -> 1.2974518e+08 | D29: =D27-D28 -> 9758331.8 | E29: =E27-E28 -> 11472233 | F29: =F27-F28 -> 10696326 | G29: =G27-G28 -> 11476313 | H29: =H27-H28 -> 10069374 | I29: =I27-I28 -> 11625558 | J29: =J27-J28 -> 14325677 | ... O29: =O27-O28 -> 10509309
A30: Fonte da Metodologia TCE/RS. (OBS.: Foi deduzidos os valores das Emendas Parlamentares os valores referentes a EC Nº 120/2022 dos ACS) | D30: =10081814.83-D29 -> 323483.07 | E30: =11782528.09-E29 -> 310295.27 | F30: =11782528.09-F29 -> 1086201.6 | G30: =11945730.52-G29 -> 469417.73 | H30: =10368604.29-H29 -> 299230.56 | I30: =11917569.63-I29 -> 292011.62 | J30: =14794864.51-J29 -> 469187.73 | K30: =9706859.86-K29 -> 280982.8 | L30: =9951271.04-L29 -> 277733.18 | M30: =9652002.78-M29 -> 241845.65 | N30: =9407939.12-N29 -> 341423.26 | O30: =10846169.18-O29 -> 336859.76
A31: Fonte: Balancete da Receita Maio/2023 - Unidade Gestora: CONSOLIDADO
I34: Observação: | J34: RCL realizada no exercício anterior: | L34: =126003531.2 -> 1.2600353e+08 | M34: 0.012 | N34: =L34*M34 -> 1512042.4 | O34: das Individuais
I35: Valor de execução obrigatória de emendas parlamentárias para 2023 | M35: 0.01 | N35: =M35*L34 -> 1260035.3 | O35: das de Bancada
A36: Giovani Amestoy da Silva | B36: Ihoko Nakashima Mota | E36: Arlei Lopes Souza
A37: Prefeito Municipal | B37: Secret. de Município da Fazenda | E37: Contador - CRC/RS: 068452/O-6

Sheet DCLP
E1: Página: 1/2 | G1: Modelo 2 - Demonstrativo da Despesa com Pessoal | L1: INSTRUÇÃO NORMATIVA nº 18/2021 - TCE/RS. | O1: Página: 2/2
A2: Modelo 2 - DEMONSTRATIVO DA DESPESA COM PESSOAL | C2: INSTRUÇÃO NORMATIVA Nº 13/2022 - TCE/RS.
A4: Lei Complementar Federal nº 101/2000, artigo 54 e alinea "a" do Inciso I do artigo 55 | B4: 12 últimos Meses: | D4: =RCL!D2 -> 45078 | E4: =RCL!E2 -> 45047 | F4: =RCL!F2 -> 45017 | G4: =RCL!G2 -> 44986 | H4: =RCL!H2 -> 44958 | I4: =RCL!I2 -> 44927 | J4: =RCL!J2 -> 44896 | K4: =RCL!K2 -> 44866 | ... O4: =RCL!O2 -> 44743
A5: Despesa Liquidada | B5: Codificação | C5: Totais: | D5: 12º Mês | E5: 11º mês | F5: 10º Mês | G5: 9º Mês | H5: 8º Mês | I5: 7º Mês | J5: 6º Mês | K5: 5º Mês | L5: 4º Mês | M5: 3º Mês | N5: 2º Mês | O5: 1º Mês
A6: I - NATUREZAS DE DESPESA | C6: =SUM(C7:C9) -> 1.3899261e+08 | D6: =D7+D8 -> 12687077 | E6: =E7+E8 -> 11279446 | F6: =F7+F8 -> 11493889 | G6: =G7+G8 -> 12006003 | H6: =H7+H8 -> 11027785 | I6: =I7+I8 -> 10738542 | J6: =J7+J8 -> 17559207 | K6: =K7+K8 -> 10691700 | ... O6: =O7+O8 -> 10266633
A7: Pessoal e encargos sociais | B7: 3.1.00.00 | C7: =SUM(D7:O7) -> 1.3790366e+08 | D7: =12592150.41 -> 12592150 | E7: 11200796 | F7: =11394115.85 -> 11394116 | G7: =11927042.43 -> 11927042 | H7: 11027785 | I7: =10646597.11 -> 10646597 | J7: =17381902.7 -> 17381903 | K7: =10619812.77 -> 10619813 | L7: 10439276 | M7: 10259087 | N7: =10241440.06 -> 10241440 | O7: =10173649.96 -> 10173650
A8: Contratação por Tempo Determinado | B8: 3.3.90.04 | C8: =SUM(D8:O8) -> 1088953 | D8: =94927 -> 94927 | E8: 78650.25 | F8: =99772.75 -> 99772.75 | G8: 78960.88 | I8: =91945 -> 91945 | J8: =177304.75 -> 177304.75 | K8: =71887.2 -> 71887.2 | L8: =92554.9 -> 92554.9 | M8: =108617.6 -> 108617.6 | N8: =101349.3 -> 101349.3 | O8: =92983.4 -> 92983.4
A9: Outras Despesas de Pessoal Decorrente de Contratos de Terceirização - Substituição de Mão de Obra (art.18, § 1º da LRF)¹ | B9: 3.3.XX.34 | C9: =SUM(D9:O9) -> 0
A10: II - DEDUÇÕES | C10: =SUM(C11:C17) -> 38188682 | D10: =SUM(D11:D17) -> 4369814.2 | E10: =SUM(E11:E17) -> 3000019.9 | F10: =SUM(F11:F17) -> 3234126.7 | G10: =SUM(G11:G17) -> 3759207.1 | H10: =SUM(H11:H17) -> 2862343.1 | I10: =SUM(I11:I17) -> 2765561.9 | J10: =SUM(J11:J17) -> 4106526 | ... O10: =SUM(O11:O17) -> 2919397.8
A11: Aposentadorias do RPPS, Reserva Remunerda (com recursos do RPPS) | B11: 3.1.90.01 | C11: =SUM(D11:O11) -> 29929659 | D11: =3645698.27 -> 3645698.3 | E11: 2428604.5 | F11: =2426513.07 -> 2426513.1 | G11: =2408760.76 -> 2408760.8 | H11: =2341605.24 -> 2341605.2 | I11: =2218840.15 -> 2218840.1 | J11: =3408022.45 -> 3408022.5 | K11: =2264859.75 -> 2264859.8 | L11: =2255361.06 -> 2255361.1 | M11: =2237316.49 -> 2237316.5 | N11: =2150516.8 -> 2150516.8 | O11: =2143560.48 -> 2143560.5
A12: Pensões do RPPS com recursos do RPPS) | B12: 3.1.90.03 | C12: =SUM(D12:O12) -> 3560340.2 | D12: =434889.68 -> 434889.68 | E12: 284484.33 | F12: =285143.1 -> 285143.1 | G12: =284340.33 -> 284340.33 | H12: 286118.84 | I12: =280618.06 -> 280618.06 | J12: =406038.6 -> 406038.6 | K12: =261205.73 -> 261205.73 | L12: =258383.84 -> 258383.84 | M12: =259648.67 -> 259648.67 | N12: =260359.09 -> 260359.09 | O12: =259109.97 -> 259109.97
A13: Sentenças Judiciais | B13: 3.1.90.91 | C13: =SUM(D13:O13) -> 26426.84 | D13: =1629.86 -> 1629.86 | E13: 1629.86 | F13: =1629.86 -> 1629.86 | G13: 1629.86 | H13: 1629.86 | I13: =1541.82 -> 1541.82 | J13: =8667.67 -> 8667.67 | K13: 1613.61 | L13: =1613.61 -> 1613.61 | M13: =1613.61 -> 1613.61 | N13: =1613.61 -> 1613.61 | O13: =1613.61 -> 1613.61
A14: Despesas de Exercícios Anteriores | B14: 3.1.90.92 | C14: =SUM(D14:O14) -> 5251.13 | E14: =5251.13 -> 5251.13
A15: Indenizações e Restituições Trabalhista² | B15: 3.XX.94 | C15: =SUM(D15:O15) -> 3154664.5 | D15: 158118.31 | E15: 150572.13 | F15: =417740.75 -> 417740.75 | G15: 953492.4 | H15: 124812.12 | I15: =154913.78 -> 154913.78 | J15: =8965.64 -> 8965.64 | K15: =221205.34 -> 221205.34 | L15: =310105.23 -> 310105.23 | M15: =83235.37 -> 83235.37 | N15: =284611.95 -> 284611.95 | O15: =286891.44 -> 286891.44
A16: Despesas da Contribuição suplementar ao RPPS do Poder Legislativo | J16: 66367.66 | K16: =33464.79 -> 33464.79 | L16: =33464.79 -> 33464.79 | M16: 32845.75 | N16: 32522.9 | O16: 32138.34
A17: Empenhos com FR 604 liquidados No GND 3.1; conforme EC Nº 120/2022 | B17: 3.1.91.13.20 | C17: =SUM(D17:O17) -> 1512340.8 | D17: =129478.04 -> 129478.04 | E17: =129478.04 -> 129478.04 | F17: 103099.89 | G17: =110983.72 -> 110983.72 | H17: 108177.01 | I17: 109648.12 | J17: =208464 -> 208464 | K17: =104232 -> 104232 | L17: =104232 -> 104232 | M17: =104232 -> 104232 | N17: =104232 -> 104232 | O17: =41078+31772+9306+113928 -> 196084
A18: III - TOTAL DAS NATUREZAS DE DESPESA ( I - II ) | C18: =C6-C10 -> 1.0080393e+08 | D18: =D6-D10 -> 8317263.2 | E18: =E6-E10 -> 8279426.4 | F18: =F6-F10 -> 8259761.9 | G18: =G6-G10 -> 8246796.2 | H18: =H6-H10 -> 8165441.7 | I18: =I6-I10 -> 7972980.2 | J18: =J6-J10 -> 13452681 | ... O18: =O6-O10 -> 7347235.5
A19: Recursos para Cobertura de Insuficiências Financeiras | B19: 3.5.1.3.2.01.01 | C19: =SUM(D19:O19) -> 0
A20: Recursos para Cobertura de Déficit Financeiro | B20: 3.5.1.3.2.02.01 | C20: =SUM(D20:O20) -> 0
A21: IV - TOTAL DAS CONTAS PATRIMONIAIS | C21: =SUM(C19:C20) -> 0 | D21: =SUM(D19:D20) -> 0 | E21: =SUM(E19:E20) -> 0 | F21: =SUM(F19:F20) -> 0 | G21: =SUM(G19:G20) -> 0 | H21: =SUM(H19:H20) -> 0 | I21: =SUM(I19:I20) -> 0 | J21: =SUM(J19:J20) -> 0 | ... O21: =SUM(O19:O20) -> 0
A22: RPNP do exercicio anterior ( Dedmonstrativos 1º e 2º Quadrimestre/1º Semestre). | B22: Itens I e II | C22: =SUM(D22:O22) -> 0
