Workbook

Sheet RREO
A1: Prefeitura Municipal de Cacapava do Sul - RS
A2: Relatório Resumido da Execução Orçamentária
A3: Demonstrativo Simplificado do Relatório Resumido da Execução Orçamentária
A4: Orçamentos Fiscal e da Seguridade Social
A5: Janeiro a Outubro 2022/Bimestre Setembro-Outubro
A6: RREO - Anexo 14 (LRF, Art. 48) | F6: Em Reais
A7: BALANÇO ORÇAMENTÁRIO | D7: 1º Quadrimentre | E7: 1º Semestre | F7: bimestre Anterior | G7: Até o bimestre
A8: RECEITAS
B9: Previsão Inicial | D9: 1.802075e+08 | E9: 1.802075e+08 | F9: 1.802075e+08 | G9: 1.802075e+08
B10: Previsão Atualizada | D10: 1.8075302e+08 | E10: 1.8231788e+08 | F10: 1.8253926e+08 | G10: 1.8387355e+08
B11: Receitas Realizadas | D11: 55793266 | E11: 87442862 | F11: 1.1754565e+08 | G11: 1.4390813e+08
B12: Déficit Orçamentário | D12: - | E12: - | F12: -
B13: Saldos de Exercícios Anteriores(Utilizados para Créditos Adicionais) | D13: 2238985.5 | E13: 3772916.4 | F13: 4685244.2 | G13: 5460990.9
A14: DESPESAS
B15: Dotação Inicial | D15: 1.6669814e+08 | E15: 1.6669814e+08 | F15: 1.6669814e+08 | G15: 1.6669814e+08
B16: Dotação Atualizada | D16: 1.7022567e+08 | E16: 1.7314103e+08 | F16: 1.7671957e+08 | G16: 1.8014242e+08
B17: Despesas Empenhadas | D17: 55310851 | E17: 86441920 | F17: 1.182581e+08 | G17: 1.4651769e+08
B18: Despesas Liquidadas | D18: 48032222 | E18: 79374971 | F18: 1.0740222e+08 | G18: 1.3800092e+08
B19: Despesas Pagas | D19: 43048471 | E19: 72106626 | F19: 1.0213838e+08 | G19: 1.2816837e+08
B20: Superávit Orçamentário | D20: 7761043.7 | E20: 8067890.7 | F20: 10143428 | G20: 5907205.2
A22: DESPESAS POR FUNÇÃO/SUBFUNÇÃO | D22: 1º Quadrimentre | E22: 1º Semestre | F22: bimestre Anterior | G22: Até o bimestre
A23: Despesas Empenhadas | D23: 55310851 | E23: 86441920 | F23: 1.182581e+08 | G23: 1.4651769e+08
A24: Despesas Liquidadas | D24: 48032222 | E24: 79374971 | F24: 1.0740222e+08 | G24: 1.3800092e+08
D25: RCL gerada p/ Sistema | F25: RCL apurada p/ Contabilidade¹
A26: RECEITA CORRENTE LÍQUIDA - RCL | D26: bimestre Anterior | E26: Até o bimestre | F26: bimestre Anterior | G26: Até o bimestre
A27: Receita Corrente Líquida | D27: 1.3112094e+08 | E27: 1.3241146e+08 | F27: 1.2655124e+08 | G27: 1.3241146e+08
A28: Receita Corrente Líquida Ajustada para Cálculo dos Limites de Endividamento | D28: 1.3077094e+08 | E28: 1.3206146e+08 | F28: 1.2630124e+08 | G28: 1.3206146e+08
A29: Receita Corrente Líquida Ajustada para Cálculo dos Limites da Despesa com Pessoal | D29: 1.3077094e+08 | E29: 1.3206146e+08 | F29: 1.2620124e+08 | G29: 1.3206146e+08
A31: RECEITAS E DESPESAS DO REGIME PRÓPRIO DE PREVIDÊNCIA DOS SERVIDORES | D31: 1º Quadrimentre | E31: 1º Semestre | F31: bimestre Anterior | G31: Até o bimestre
A32: Fundo em Capitalização (PLANO PREVIDENCIÁRIO)
B33: Receitas Previdenciárias Realizadas | D33: 6375272.2 | E33: 10346458 | F33: 14250522 | G33: 17920620
B34: Despesas Previdenciárias Empenhadas | D34: 8781306.6 | E34: 14656090 | F34: 19469637 | G34: 24480347
B35: Despesas Previdenciárias Liquidadas | D35: 8781306.6 | E35: 14656090 | F35: 19469637 | G35: 24480347
B36: Despesas Previdenciárias Pagas | D36: 8779411.6 | E36: 14655020 | F36: 19461254 | G36: 24470853
B37: Resultado Previdenciário | D37: -2406034.4 | E37: -4309632.5 | F37: -5219114.7 | G37: -6559726.9
A38: Fundo em Repartição (PLANO FINANCEIRO)
B39: Receitas Previdenciárias Realizadas | D39: 0 | E39: 0 | F39: 0 | G39: 0
B40: Despesas Previdenciárias Empenhadas | D40: 0 | E40: 0 | F40: 0 | G40: 0
B41: Despesas Previdenciárias Liquidadas | D41: 0 | E41: 0 | F41: 0 | G41: 0
B42: Despesas Previdenciárias Pagas | D42: 0 | E42: 0 | F42: 0 | G42: 0
...

Sheet BalOrç
A1: Prefeitura Municipal de Cacapava do Sul-RS | M1: Página 1 de 3
A2: Relatório Resumido da Execução Orçamentária
A3: Balanço Orçamentário
A4: Orçamento Fiscal e da Seguridade Socials
A5: Janeiro a Outubro 2022/Bimestre Setembro-Outubro
A7: RREO - Anexo 1 (LRF, Art. 52, inciso I, alineas "a" e "b" do inciso II e §1º) | L7: R$ 1,00
A8: RECEITAS | B8: PREVISÃO INICIAL | C8: PREVISÃO ATUALIZADA (a) | D8: RECEITAS REALIZADAS | I8: SALDO
D9: No Bimestre (b) | E9: % (b/a) | F9: Até o Bimestre (c) | H9: % (c/a) | I9: (a-c)
A10: RECEITAS (EXCETO INTRA-ORÇAMENTÁRIAS) (I) | B10: 148.475.673,85 | C10: 152.005.339,69 | D10: 22.503.496,64 | E10: 14,80 | F10: 117.747.869,33 | H10: 77,46 | I10: 34.257.470,36
A11: RECEITAS CORRENTES | B11: 141.631.504,86 | C11: 144.963.450,80 | D11: 22.439.957,01 | E11: 15,48 | F11: 114.982.427,00 | H11: 79,32 | I11: 29.981.023,80
A12: IMPOSTOS, TAXAS E CONTRIBUIÇÕES DE MELHORIA | B12: 18.205.576,49 | C12: 18.205.576,49 | D12: 3.083.829,05 | E12: 16,94 | F12: 14.522.761,31 | H12: 79,77 | I12: 3.682.815,18
A13: Impostos | B13: 14.575.490,45 | C13: 14.575.490,45 | D13: 3.007.593,11 | E13: 20,63 | F13: 13.917.814,36 | H13: 95,49 | I13: 657.676,09
A14: Taxas | B14: 1.587.992,34 | C14: 1.587.992,34 | D14: 76.235,80 | E14: 4,80 | F14: 604.946,52 | H14: 38,10 | I14: 983.045,82
A15: Contribuição de Melhoria | B15: 2.042.093,70 | C15: 2.042.093,70 | D15: 0,14 | E15: - | F15: 0,43 | H15: - | I15: 2.042.093,27
A16: CONTRIBUIÇÕES | B16: 8.138.213,42 | C16: 8.138.213,42 | D16: 1.745.344,82 | E16: 21,45 | F16: 7.594.016,72 | H16: 93,31 | I16: 544.196,70
A17: Contribuições Sociais | B17: 6.974.325,00 | C17: 6.974.325,00 | D17: 1.470.812,05 | E17: 21,09 | F17: 6.645.817,99 | H17: 95,29 | I17: 328.507,01
A18: Contribuição para o Custeio do Serviço de Iluminação Pública | B18: 1.163.888,42 | C18: 1.163.888,42 | D18: 274.532,77 | E18: 23,59 | F18: 948.198,73 | H18: 81,47 | I18: 215.689,69
A19: RECEITA PATRIMONIAL | B19: 5.094.630,65 | C19: 5.983.517,90 | D19: 1.286.637,07 | E19: 21,50 | F19: 4.942.522,31 | H19: 82,60 | I19: 1.040.995,59
A20: Exploração do Patrimônio Imobiliário do Estado | B20: 24.672,38 | C20: 24.672,38 | D20: 4.356,34 | E20: 17,66 | F20: 23.016,45 | H20: 93,29 | I20: 1.655,93
A21: Valores Mobiliários | B21: 5.069.958,27 | C21: 5.958.845,52 | D21: 1.282.280,73 | E21: 21,52 | F21: 4.919.505,86 | H21: 82,56 | I21: 1.039.339,66
... A46: SUBTOTAL DAS RECEITAS (III) = (I + II) | B46: 180.207.504,88 | C46: 183.873.546,54 | D46: 26.362.478,68 | E46: 14,34 | F46: 143.908.127,10 | H46: 78,26 | I46: 39.965.419,44
A47: FONTE: GOVBR - Responsabilidade Fiscal, SECRETARIA DE MUNICÍPIO DA FAZENDA, 23/Nov/2022, 10h e 18m.
A49: Prefeitura Municipal de Cacapava do Sul-RS | M49: Página 2 de 3
A50: Relatório Resumido da Execução Orçamentária
A51: Balanço Orçamentário
A52: Orçamento Fiscal e da Seguridade Socials
A53: Janeiro a Outubro 2022/Bimestre Setembro-Outubro
A55: RREO - Anexo 1 (LRF, Art. 52, inciso I, alineas "a" e "b" do inciso II e §1º) | L55: R$ 1,00
A56: RECEITAS | B56: PREVISÃO INICIAL | C56: PREVISÃO ATUALIZADA (a) | D56: RECEITAS REALIZADAS | I56: SALDO (a-c)
D57: No Bimestre (b) | E57: % (b/a) | F57: Até o Bimestre (c) | H57: % (c/a)
A58: TOTAL DAS RECEITAS (V) = (III + IV) | B58: 180.207.504,88 | C58: 183.873.546,54 | D58: 26.362.478,68 | E58: 14,63 | F58: 143.908.127,10 | H58: 79,86 | I58: 39.965.419,44
A59: DÉFICIT (VI) | B59: - | C59: - | D59: - | E59: - | F59: - | H59: - | I59: -
A60: TOTAL COM DÉFICIT (VII) = (V + VI) | B60: 180.207.504,88 | C60: 183.873.546,54 | D60: 26.362.478,68 | E60: 14,63 | F60: 143.908.127,10 | H60: 79,86 | I60: -
A61: SALDOS DE EXERCÍCIOS ANTERIORES | B61: - | C61: 5.460.990,94 | D61: - | E61: - | F61: 5.460.990,94 | H61: - | I61: -
A62: Recursos Arrecadados em Exercícios Anteriores - RPPS | B62: - | C62: - | D62: - | E62: - | F62: - | H62: - | I62: -
A63: Superávit Financeiro Utilizado para Créditos Adicionais | B63: - | C63: 5.460.990,94 | D63: - | E63: - | F63: 5.460.990,94 | H63: - | I63: -
A65: DESPESAS | B65: DOTAÇÃO INICIAL (d) | C65: DOTAÇÃO ATUALIZADA (e) | D65: DESPESAS EMPENHADAS | F65: SALDO (g)=(e-f) | H65: DESPESAS LIQUIDADAS | J65: SALDO (i)=(e-h) | L65: DESPESAS PAGAS ATÉ O BIMESTRE (j) | M65: INSCRITAS EM RESTOS A PAGAR NÃO PROCESSADOS (k)
D66: No Bimestre | E66: Até o Bimestre (f) | H66: No Bimestre | I66: Até o Bimestre (h)
A67: DESPESAS (EXCETO INTRAORÇAMENTÁRIAS) (VIII) | B67: 134.785.727,71 | C67: 147.158.643,47 | D67: 22.090.844,30 | E67: 118.362.101,78 | F67: 28.796.541,69 | H67: 24.460.548,41 | I67: 109.875.921,99 | J67: 37.282.721,48 | L67: 105.533.034,73 | M67: -
A68: DESPESAS CORRENTES | B68: 124.519.989,17 | C68: 132.727.230,51 | D68: 21.064.135,34 | E68: 110.665.295,67 | F68: 22.061.934,84 | H68: 22.088.021,67 | I68: 106.143.850,04 | J68: 26.583.380,47 | L68: 103.601.942,03 | M68: -
...

Sheet Funç
A1: Prefeitura Municipal de Cacapava do Sul - RS
A2: Relatório Resumido de Execução Orçamentária
A3: Demonstrativo da Execução das Despesas por Função/Subfunção
A4: Orçamento Fiscal e da Seguridade Social
A5: Janeiro a Outubro 2022/Bimestre Setembro-Outubro
A7: RREO - ANEXO 2 (LRF, Art. 52, inciso II, alínea 'c') | L7: R$ 1,00
A8: FUNÇÃO/SUBFUNÇÃO | C8: Dotação | D8: Dotação | E8: Despesas Empenhadas | H8: SALDO | I8: Despesas Liquidadas | L8: Saldo
C9: Inicial | D9: Atualizada | E9: No Bimestre | F9: Até o Bimestre | G9: % | I9: No Bimestre | J9: Até o Bimestre | K9: %
D10: (a) | F10: (b) | G10: (b/total b) | H10: (c)=(a-b) | J10: (d) | K10: (d/Total d) | L10: (e)=(a-d)
A12: DESPESAS(EXCETO INTRAORÇAMENTÁRIAS)(I) | C12: 1.3478573e+08 | D12: 1.4715864e+08 | E12: 22090844 | F12: 1.183621e+08 | G12: 80.78 | H12: 28796542 | I12: 24460548 | J12: 1.0987592e+08 | K12: 79.62 | L12: 37282721
A13: Legislativa | C13: 4038528.5 | D13: 4018528.5 | E13: 552414.38 | F13: 3160708.4 | G13: 2.16 | H13: 857820.08 | I13: 620354.81 | J13: 3091306.8 | K13: 2.24 | L13: 927221.72
B14: Ação Legislativa | C14: 4038528.5 | D14: 4018528.5 | E14: 552414.38 | F14: 3160708.4 | G14: 2.16 | H14: 857820.08 | I14: 620354.81 | J14: 3091306.8 | K14: 2.24 | L14: 927221.72
A15: Essencial à Justiça | C15: 18000 | D15: 12000 | E15: 0 | F15: 0 | G15: 0 | H15: 12000 | I15: 0 | J15: 0 | K15: 0 | L15: 12000
B16: Representação Judicial e Extrajudicial | C16: 18000 | D16: 12000 | E16: 0 | F16: 0 | G16: 0 | H16: 12000 | I16: 0 | J16: 0 | K16: 0 | L16: 12000
A17: Administração | C17: 17954020 | D17: 18640401 | E17: 2793929.9 | F17: 15650299 | G17: 10.68 | H17: 2990102.3 | I17: 2876004.8 | J17: 15211884 | K17: 11.02 | L17: 3428517.8
B18: Planejamento e Orçamento | C18: 101985.48 | D18: 132282.48 | E18: 2485.47 | F18: 104603.73 | G18: 0.07 | H18: 27678.75 | I18: 12460.51 | J18: 85202.95 | K18: 0.06 | L18: 47079.53
B19: Administração Geral | C19: 15635847 | D19: 15832993 | E19: 2493686.2 | F19: 13612438 | G19: 9.29 | H19: 2220554.9 | I19: 2553507.2 | J19: 13312553 | K19: 9.65 | L19: 2520439.5
B20: Administração Financeira | C20: 573492.7 | D20: 760007.7 | E20: 73769.57 | F20: 727564.61 | G20: 0.5 | H20: 32443.09 | I20: 63835.38 | J20: 623551.43 | K20: 0.45 | L20: 136456.27
B21: Controle Interno | C21: 10000 | D21: 8000 | E21: 0 | F21: 1278.35 | G21: 0 | H21: 6721.65 | I21: 0 | J21: 1278.35 | K21: 0 | L21: 6721.65
B22: Normatização e Fiscalização | C22: 500 | D22: 5 | E22: 0 | F22: 0 | G22: 0 | H22: 5 | I22: 0 | J22: 0 | K22: 0 | L22: 5
B23: Tecnologia da Informação | C23: 66000 | D23: 81000 | E23: 0 | F23: 67881.95 | G23: 0.05 | H23: 13118.05 | I23: 8290 | J23: 67881.95 | K23: 0.05 | L23: 13118.05
B24: Formação de Recursos Humanos | C24: 29000 | D24: 20853.06 | E24: 4079.8 | F24: 13120.1 | G24: 0.01 | H24: 7732.96 | I24: 620 | J24: 3068.88 | K24: 0 | L24: 17784.18
B25: Administração de Receitas | C25: 10500 | D25: 601 | E25: 0 | F25: 569 | G25: 0 | H25: 32 | I25: 0 | J25: 569 | K25: 0 | L25: 32
B26: Comunicação Social | C26: 9000 | D26: 1000 | E26: 0 | F26: 0 | G26: 0 | H26: 1000 | I26: 0 | J26: 0 | K26: 0 | L26: 1000
B27: Previdência Básica | C27: 539989.76 | D27: 547097.76 | E27: 84210.13 | F27: 418247.87 | G27: 0.29 | H27: 128849.89 | I27: 84210.13 | J27: 418247.87 | K27: 0.3 | L27: 128849.89
B28: Previdência Complementar | C28: 10 | D28: 10 | E28: 0 | F28: 0 | G28: 0 | H28: 10 | I28: 0 | J28: 0 | K28: 0 | L28: 10
B29: Proteção e Benefícios ao Trabalhador | C29: 816074.1 | D29: 821282.1 | E29: 126637.74 | F29: 617620.94 | G29: 0.42 | H29: 203661.16 | I29: 126637.74 | J29: 617620.94 | K29: 0.45 | L29: 203661.16
B30: Turismo | C30: 161620.77 | D30: 435269.59 | E30: 9061 | F30: 86974.67 | G30: 0.06 | H30: 348294.92 | I30: 26443.76 | J30: 81909.04 | K30: 0.06 | L30: 353360.55
A31: Segurança Pública | C31: 119219.65 | D31: 159283.65 | E31: 5222.16 | F31: 55856.47 | G31: 0.04 | H31: 103427.18 | I31: 8300.7 | J31: 44752.83 | K31: 0.03 | L31: 114530.82
B32: Policiamento | C32: 25793 | D32: 7594 | E32: 0 | F32: 0 | G32: 0 | H32: 7594 | I32: 0 | J32: 0 | K32: 0 | L32: 7594
B33: Defesa Civil | C33: 93425.65 | D33: 151688.65 | E33: 5222.16 | F33: 55856.47 | G33: 0.04 | H33: 95832.18 | I33: 8300.7 | J33: 44752.83 | K33: 0.03 | L33: 106935.82
B34: Proteção e Benefícios ao Trabalhador | C34: 1 | D34: 1 | E34: 0 | F34: 0 | G34: 0 | H34: 1 | I34: 0 | J34: 0 | K34: 0 | L34: 1
A35: Assistência Social | C35: 1567190.2 | D35: 1722812.5 | E35: 196254.75 | F35: 1194267.4 | G35: 0.82 | H35: 528545.12 | I35: 180257.06 | J35: 863685.17 | K35: 0.63 | L35: 859127.36
B36: Administração Geral | C36: 215412.17 | D36: 218300.12 | E36: 14277.72 | F36: 197283.91 | G36: 0.13 | H36: 21016.21 | I36: 24526.68 | J36: 146589.19 | K36: 0.11 | L36: 71710.93
B37: Assistência ao Idoso | C37: 117626 | D37: 129225.18 | E37: 0 | F37: 114827.27 | G37: 0.08 | H37: 14397.91 | I37: 15000 | J37: 78027.65 | K37: 0.06 | L37: 51197.53
B38: Assistência ao Portador de Deficiência | C38: 77113 | D38: 82173.75 | E38: 5060.75 | F38: 82060.75 | G38: 0.06 | H38: 113 | I38: 5060.75 | J38: 61407.91 | K38: 0.04 | L38: 20765.84
B39: Assistência à Criança e ao Adolescente | C39: 497407.23 | D39: 586530.75 | E39: 29205.31 | F39: 398830.82 | G39: 0.27 | H39: 187699.93 | I39: 58597.64 | J39: 295861.49 | K39: 0.21 | L39: 290669.26
B40: Assistência Comunitária | C40: 582654.77 | D40: 599456.91 | E40: 100448.82 | F40: 338734.71 | G40: 0.23 | H40: 260722.2 | I40: 75371.99 | J40: 264831.13 | K40: 0.19 | L40: 334625.78
B41: Previdência Básica | C41: 8559.23 | D41: 5842.23 | E41: 0 | F41: 0 | G41: 0 | H41: 5842.23 | I41: 0 | J41: 0 | K41: 0 | L41: 5842.23
B42: Direitos Individuais, Coletivos e Difusos | C42: 0 | D42: 7300.82 | E42: 0 | F42: 0 | G42: 0 | H42: 7300.82 | I42: 0 | J42: 0 | K42: 0 | L42: 7300.82
...

Sheet Result
A1: Prefeitura Municipal de Cacapava do Sul-RS | K1: Página 1 de 2
A2: Relatório Resumido da Execução Orçamentária
A3: Demonstrativo dos Resultados Primário e Nominal
A4: Orçamento Fiscal e da Seguridade Social
A5: Janeiro a Outubro 2022/Bimestre Setembro-Outubro
A7: RREO - ANEXO VI(LRF, art. 53, inciso III) | I7: R$ 1,00
A8: ACIMA DA LINHA
A9: RECEITAS PRIMÁRIAS | C9: Previsão Atualizada | D9: Até o Bimestre/2022
D10: Receitas Realizadas
D11: (a)
A12: RECEITAS CORRENTES(I) | C12: 144.963.450,80 | D12: 114.982.427,00
A13: Impostos, Taxas e Contribuições de Melhoria | C13: 18.205.576,49 | D13: 14.522.761,31
A14: IPTU | C14: 3.467.839,35 | D14: 2.164.408,75
A15: ISS | C15: 5.814.310,60 | D15: 5.487.913,40
A16: ITBI | C16: 1.378.438,67 | D16: 1.591.071,74
A17: IRRF | C17: 3.914.901,83 | D17: 4.674.420,47
A18: Outros Impostos, Taxas, e Contribuições de Melhoria | C18: 3.630.086,04 | D18: 604.946,95
A19: Contribuições | C19: 8.138.213,42 | D19: 7.594.016,72
A20: Receita Patrimonial | C20: 5.983.517,90 | D20: 4.942.522,31
A21: Aplicações Financeiras (II) | C21: 5.958.845,52 | D21: 4.919.505,86
A22: Outras Receitas Patrimoniais | C22: 24.672,38 | D22: 23.016,45
A23: Transferências Correntes | C23: 109.133.512,41 | D23: 85.086.551,88
... A52: DESPESAS PRIMÁRIAS | C52: Dotação Atualizada | D52: Até o Bimestre/2022
D53: Despesas Empenhadas | E53: Despesas Liquidadas | F53: Despesas Pagas | H53: Restos a Pagar Processados Pagos | J53: Restos a Pagar não Processados
J54: Liquidados | L54: Pagos (c)
F55: (a) | H55: (b)
A56: DESPESAS CORRENTES (XIII) | C56: 132.727.230,51 | D56: 110.665.295,67 | E56: 106.143.850,04 | F56: 103.601.942,03 | H56: 3.494.913,39 | J56: 300.395,14 | L56: 287.700,54
A57: Pessoal e Encargos Sociais | C57: 91.836.703,27 | D57: 77.059.623,43 | E57: 76.993.333,88 | F57: 76.442.468,32 | H57: 734.841,53 | J57: - | L57: -
A58: Juros e Encargos da Dívida (XIV) | C58: 484.333,73 | D58: 10.160,72 | E58: 10.160,72 | F58: 10.160,72 | H58: - | J58: - | L58: -
A59: Outras Despesas Correntes | C59: 40.406.193,51 | D59: 33.595.511,52 | E59: 29.140.355,44 | F59: 27.149.312,99 | H59: 2.760.071,86 | J59: 300.395,14 | L59: 287.700,54
A60: DESPESAS PRIMÁRIAS CORRENTES (XV) = (XIII - XIV) | C60: 132.242.896,78 | D60: 110.655.134,95 | E60: 106.133.689,32 | F60: 103.591.781,31 | H60: 3.494.913,39 | J60: 300.395,14 | L60: 287.700,54
A61: DESPESAS DE CAPITAL (XVI) | C61: 14.430.703,11 | D61: 7.696.806,11 | E61: 3.732.071,95 | F61: 1.931.092,70 | H61: 298.894,66 | J61: 928.209,04 | L61: 922.418,56
A62: Investimentos | C62: 14.426.168,11 | D62: 7.693.806,11 | E62: 3.732.071,95 | F62: 1.931.092,70 | H62: 298.894,66 | J62: 878.691,58 | L62: 872.901,10
A63: Inversões Financeiras | C63: 3.283,00 | D63: 3.000,00 | E63: - | F63: - | H63: - | J63: - | L63: -
A64: Concessão de Empréstimos e Financiamentos (XVII) | C64: 101,00 | D64: - | E64: - | F64: - | H64: - | J64: - | L64: -
A65: Aquisição de Título de Capital já Integralizado (XVIII) | C65: - | D65: - | E65: - | F65: - | H65: - | J65: - | L65: -
A66: Aquisição de Título de Crédito (XIX) | C66: - | D66: - | E66: - | F66: - | H66: - | J66: - | L66: -
A67: Demais Inversões Financeiras | C67: 3.182,00 | D67: 3.000,00 | E67: - | F67: - | H67: - | J67: - | L67: -
... A69: DESPESAS PRIMÁRIAS DE CAPITAL (XXI) = (XVI - XVII - XVIII - XIX - XX) | C69: 14.429.350,11 | D69: 7.696.806,11 | E69: 3.732.071,95 | F69: 1.931.092,70 | H69: 298.894,66 | J69: 878.691,58 | L69: 872.901,10
A71: FONTE: GOVBR - Responsabilidade Fiscal, SECRETARIA DE MUNICÍPIO DA FAZENDA, 23/Nov/2022, 11h e 18m.
...

Sheet Restos
A2: Prefeitura Municipal de Cacapava do Sul - RS
A3: Relatório Resumido da Execução Orçamentária
A4: Demonstrativo dos Restos a Pagar por Poder e Órgão
A5: Orçamentos Fiscal e da Seguridade Social
A6: Janeiro a Outubro 2022/Bimestre Setembro-Outubro
A8: RREO - ANEXO 7 (LRF, art.53, inciso V) | M8: R$ 1,00
A9: PODER/ÓRGÃO | B9: RESTOS A PAGAR PROCESSADOS | G9: RESTOS A PAGAR NÃO PROCESSADOS | M9: Saldo Total
B11: Inscritos | D11: Pagos | E11: Cancelados | F11: Saldo | G11: Inscritos | I11: Liquidados | J11: Pagos | K11: Cancelados | L11: Saldo | M11: Saldo Total
B12: Em Exercícios | C12: Em 31 de | G12: Em Exercícios | H12: Em 31 de
B13: Anteriores | C13: dezembro de 2021 | G13: Anteriores | H13: dezembro de 2021
B14: (a) | C14: (b) | D14: (c) | E14: (d) | F14: e=(a+b)-(c+d) | G14: (f) | H14: (g) | I14: (h) | J14: (i) | K14: (j) | L14: k=(f+g)-(i+j) | M14: L=(e+k)
A15: RESTOS A PAGAR(EXCETO INTRA-ORÇAMENTÁRIOS) (I) | B15: 1359877.9 | C15: 4179911.1 | D15: 3793808 | E15: 18354.52 | F15: 1727626.5 | G15: 1319811.2 | H15: 1831554.7 | I15: 1228604.2 | J15: 1210119.1 | K15: 7400.34 | L15: 1933846.5 | M15: 3661473
A16: PODER EXECUTIVO | B16: 1359877.9 | C16: 4177488.5 | D16: 3791385.5 | E16: 18354.52 | F16: 1727626.5 | G16: 1319811.2 | H16: 1831554.7 | I16: 1228604.2 | J16: 1210119.1 | K16: 7400.34 | L16: 1933846.5 | M16: 3661473
A17: PODER LEGISLATIVO | B17: 0 | C17: 2422.58 | D17: 2422.58 | E17: 0 | F17: 0 | G17: 0 | H17: 0 | I17: 0 | J17: 0 | K17: 0 | L17: 0 | M17: 0
A18: CAMARA MUNICIPAL CACAPAVA DO SUL | B18: 0 | C18: 2422.58 | D18: 2422.58 | E18: 0 | F18: 0 | G18: 0 | H18: 0 | I18: 0 | J18: 0 | K18: 0 | L18: 0 | M18: 0
A19: RESTOS A PAGAR(INTRA-ORÇAMENTÁRIOS) (II) | B19: 18226475 | C19: 1564234.9 | D19: 3524925.6 | E19: 0 | F19: 16265784 | G19: 0 | H19: 0 | I19: 0 | J19: 0 | K19: 0 | L19: 0 | M19: 16265784
A20: PODER EXECUTIVO | B20: 18226475 | C20: 1564234.9 | D20: 3524925.6 | E20: 0 | F20: 16265784 | G20: 0 | H20: 0 | I20: 0 | J20: 0 | K20: 0 | L20: 0 | M20: 16265784
A21: TOTAL (III) = (I+II) | B21: 19586353 | C21: 5744146 | D21: 7318733.7 | E21: 18354.52 | F21: 17993410 | G21: 1319811.2 | H21: 1831554.7 | I21: 1228604.2 | J21: 1210119.1 | K21: 7400.34 | L21: 1933846.5 | M21: 19927257
A28: __________________________________ __________________________________ __________________________________
A29: GIOVANI AMESTOY DA SILVA IHOKO NAKASHIMA MOTA ARLEI LOPES SOUZA
A30: PREFEITO MUNICIPAL SECRETARIA DE MUNICIPIO DA FAZENDA 610.320.420-87
A31: CPF: 009.854.830-16 CPF: 390.226.680-53 CONTADOR: RS-068452/O-6

Sheet Alienaç
A1: PREFEITURA MUNICIPAL DE CACAPAVA DO SUL - RS
A2: RELATÓRIO RESUMIDO DA EXECUÇÃO ORÇAMENTÁRIA
A3: DEMONSTRATIVO DA RECEITA DE ALIENAÇÃO DE ATIVOS E APLICAÇÃO DOS RECURSOS
A4: ORÇAMENTOS FISCAL E DA SEGURIDADE SOCIAL
A5: Janeiro a Outubro 2022/Bimestre Setembro-Outubro
A6: RREO - ANEXO 11 (LRF, art. 53, § 1º, inciso III) | J6: Em Reais
A7: RECEITAS | D7: PREVISÃO ATUALIZADA | E7: RECEITAS REALIZADAS | J7: SALDO
D8: (a) | E8: (b) | J8: (c)=(a-b)
A9: RECEITAS DE ALIENAÇÃO DE ATIVOS (I) | D9: 0 | E9: - | J9: 0
C10: Receita de Alienação de Bens Móveis | D10: 0 | E10: - | J10: 0
C11: Receita de Alienação de Bens Imóveis | D11: 0 | E11: - | J11: 0
C12: Receita de Alienação de Bens Intangíveis | D12: 0 | E12: - | J12: 0
C13: Receita de Rendimentos de Aplicações Financeiras | D13: 0 | E13: - | J13: 0
A15: DESPESAS | D15: DOTAÇÃO ATUALIZADA | E15: DESPESAS | F15: DESPESAS | G15: DESPESAS | H15: DESPESAS | I15: PAGAMENTO | J15: SALDO
E16: EMPENHADAS | F16: LIQUIDADAS | G16: PAGAS | H16: INSCRITAS EM RESTOS A | I16: DE RESTOS A PAGAR
H17: PAGAR NÃO PROCESSADOS
D18: (d) | E18: (e) | G18: (f) | I18: (g) | J18: (h)=(d-e)
A19: APLICAÇÃO DOS RECURSOS DA ALIENAÇÃO DE ATIVOS (II) | D19: 0 | E19: 0 | F19: 0 | G19: 0 | H19: 0 | I19: 0 | J19: 0
A20: Despesas de Capital | D20: 0 | E20: 0 | F20: 0 | G20: 0 | H20: 0 | I20: 0 | J20: 0
B21: Investimentos | D21: 0 | E21: 0 | F21: 0 | G21: 0 | H21: 0 | I21: 0 | J21: 0
B22: Inversões Financeiras | D22: 0 | E22: 0 | F22: 0 | G22: 0 | H22: 0 | I22: 0 | J22: 0
B23: Amortização da Dívida | D23: 0 | E23: 0 | F23: 0 | G23: 0 | H23: 0 | I23: 0 | J23: 0
A24: Despesas Correntes dos Regimes de Previdência | D24: 0 | E24: 0 | F24: 0 | G24: 0 | H24: 0 | I24: 0 | J24: 0
B25: Regime Próprio dos Servidores Públicos | D25: 0 | E25: 0 | F25: 0 | G25: 0 | H25: 0 | I25: 0 | J25: 0
A27: SALDO FINANCEIRO A APLICAR | D27: 2021 | E27: 2022 | J27: SALDO ATUAL
D28: (i) | E28: (j) = (Ib - (IIf + IIg)) | J28: (k) = (IIIi + IIIj)
A29: VALOR (III) | E29: - | J29: 0
A36: __________________________________ __________________________________ __________________________________
A37: GIOVANI AMESTOY DA SILVA IHOKO NAKASHIMA MOTA ARLEI LOPES SOUZA
A38: PREFEITO MUNICIPAL SECRETARIA DE MUNICIPIO DA FAZENDA 610.320.420-87
A39: CPF: 009.854.830-16 CPF: 390.226.680-53 CONTADOR: RS-068452/O-6

Sheet PPP
A1: Prefeitura Municipal de Cacapava do Sul-RS
A2: RELATÓRIO RESUMIDO DA EXECUÇÃO ORÇAMENTÁRIA
A3: DEMONSTRATIVO DAS PARCERIAS PÚBLICO-PRIVADAS
A4: ORÇAMENTOS FISCAL E DA SEGURIDADE SOCIAL
A5: Janeiro a Outubro 2022/Bimestre Setembro-Outubro
A7: RREO - Anexo 13 (Lei nº 11.079, de 30.12.2004, arts. 22, 25 e 28) | O7: Em reais
A8: IMPACTOS DAS CONTRATAÇÕES DE PPP | E8: SALDO TOTAL EM | H8: SALDO FINAL | J8: SALDO FINAL
E9: 31 DE DEZEMBRO DO
E10: EXERCÍCIO ANTERIOR | H10: Até o Bimestre
A11: TOTAL DE ATIVOS
A12: Ativos Constituídos pela SPE
A13: TOTAL DE PASSIVOS
A14: Obrigações decorrentes de Ativos Constituídos pela SPE
A15: Provisões de PPP
A16: Outros Passivos
A17: ATOS POTENCIAIS PASSIVOS
A18: Obrigações contratuais
A19: Riscos não Provisionados
A20: Garantias concedidas
A21: Outros Passivos Contingentes
A23: DESPESAS DE PPP | E23: EXERCÍCIO | F23: EXERCÍCIO
E24: ANTERIOR | F24: CORRENTE | G24: 2023 | H24: 2024 | I24: 2025 | J24: 2026 | K24: 2027 | L24: 2028 | M24: 2029 | N24: 2030 | O24: 2031
F25: 2022
A26: DO ENTE FEDERADO, EXCETO ESTATAIS NÃO DEPENDENTES (I) = (I.1 + I.2) | E26: 0 | F26: 0 | G26: 0 | H26: 0 | I26: 0 | J26: 0 | K26: 0 | L26: 0 | M26: 0 | N26: 0 | O26: 0
A27: Contratadas(I.1) | E27: 0 | F27: 0 | G27: 0 | H27: 0 | I27: 0 | J27: 0 | K27: 0 | L27: 0 | M27: 0 | N27: 0 | O27: 0
A28: A contratar (I.2)
A29: DAS ESTATAIS NÃO-DEPENDENTES (II) = (II.1 + II.2)
A30: Contratadas (II.1)
A31: A contratar (II.2)
A32: TOTAL DAS DESPESAS DE PPP (III) = (I + II) | E32: 0 | F32: 0 | G32: 0 | H32: 0 | I32: 0 | J32: 0 | K32: 0 | L32: 0 | M32: 0 | N32: 0 | O32: 0
A33: RECEITA CORRENTE LÍQUIDA (RCL) (IV) | E33: 0 | F33: 0 | G33: 0 | H33: 0 | I33: 0 | J33: 0 | K33: 0 | L33: 0 | M33: 0 | N33: 0 | O33: 0
A34: TOTAL DAS DESPESAS CONSIDERADAS PARA O LIMITE (I)
A35: TOTAL DAS DESPESAS CONSIDERADAS PARA O LIMITE / RCL (%) (V) = (I / IV)
A38: __________________________________ __________________________________ __________________________________
A39: GIOVANI AMESTOY DA SILVA IHOKO NAKASHIMA MOTA ARLEI LOPES SOUZA
A40: PREFEITO MUNICIPAL SECRETARIA DE MUNICIPIO DA FAZENDA 610.320.420-87
A41: CPF: 009.854.830-16 CPF: 390.226.680-53 CONTADOR: RS-068452/O-6

Sheet Dívid
A2: PREFEITURA MUNICIPAL DE CACAPAVA DO SUL - RS
A3: RELATÓRIO DE GESTÃO FISCAL
A4: DEMONSTRATIVO DA DÍVIDA CONSOLIDADA LÍQUIDA
A5: ORÇAMENTOS FISCAL E DA SEGURIDADE SOCIAL
A6: JANEIRO A AGOSTO DE 2022
A8: RGF - ANEXO 2 (LRF, art.55, inciso I, alínea "b") | H8: R$ 1,00
A10: DÍVIDA CONSOLIDADA | E10: SALDO DO | F10: SALDO DO EXERCÍCIO DE 2022
E11: EXERCÍCIO | F11: Até o 1º | G11: Até o 2º | H11: Até o 3º
E12: ANTERIOR | F12: Quadrimestre | G12: Quadrimestre | H12: Quadrimestre
A13: DÍVIDA CONSOLIDADA - DC (I) | E13: 938163.67 | F13: 1133247.9 | G13: 803869.25 | H13: 0
B14: Dívida Mobiliária | E14: 0 | F14: 0 | G14: 0 | H14: 0
B15: Dívida Contratual | E15: 936147 | F15: 1131231.2 | G15: 801852.58 | H15: 0
C16: Empréstimos | E16: 0 | F16: 0 | G16: 0 | H16: 0
D17: Internos | E17: 0 | F17: 0 | G17: 0 | H17: 0
D18: Externos | E18: 0 | F18: 0 | G18: 0 | H18: 0
C19: Reestruturação da Dívida de Estados e Municípios | E19: 0 | F19: 0 | G19: 0 | H19: 0
C20: Financiamentos | E20: 32070.25 | F20: 7311.6 | G20: 7311.6 | H20: 0
D21: Internos | E21: 32070.25 | F21: 7311.6 | G21: 7311.6 | H21: 0
D22: Externos | E22: 0 | F22: 0 | G22: 0 | H22: 0
C23: Parcelamento e Renegociação de dívidas | E23: 634077.25 | F23: 975714.23 | G23: 766335.6 | H23: 0
D24: De Tributos | E24: 0 | F24: 0 | G24: 0 | H24: 0
D25: De Contribuições Previdenciárias | E25: 300772.06 | F25: 642409.04 | G25: 433030.41 | H25: 0
D26: De Demais Contribuições Sociais | E26: 0 | F26: 0 | G26: 0 | H26: 0
D27: Do FGTS | E27: 0 | F27: 0 | G27: 0 | H27: 0
D28: Com Instituição Não Financeira | E28: 333305.19 | F28: 333305.19 | G28: 333305.19 | H28: 0
C29: Demais Dívidas Contratuais | E29: 269999.5 | F29: 148205.42 | G29: 28205.38 | H29: 0
B30: Precatórios Posteriores a 05/05/2000 (inclusive) - Vencidos e não pagos | E30: 2016.67 | F30: 2016.67 | G30: 2016.67 | H30: 0
B31: Outras Dívidas | E31: 0 | F31: 0 | G31: 0 | H31: 0
A32: DEDUÇÕES (II) | E32: 14415069 | F32: 21118619 | G32: 18196606 | H32: 0
B33: Disponibilidade de Caixa¹ | E33: 13782615 | F33: 20474563 | G33: 17578121 | H33: 0
C34: Disponibilidade de Caixa Bruta | E34: 20648054 | F34: 23546471 | G34: 20428151 | H34: 0
C35: (-) Restos a Pagar Processados | E35: 5645028.3 | F35: 2030935.5 | G35: 1801765.4 | H35: 0
C36: (-) Depósitos Restituíveis e Valores Vinculados | E36: 1220411.3 | F36: 1040972.6 | G36: 1048264.7 | H36: 0
B37: Demais Haveres Financeiros | E37: 632454.62 | F37: 644055.41 | G37: 618485.12 | H37: 0
A38: DÍVIDA CONSOLIDADA LÍQUIDA (DCL) (III) = (I - II) | E38: (13.476.905,55) | F38: (19.985.370,72) | G38: (17.392.736,47) | H38: 0
A39: RECEITA CORRENTE LÍQUIDA - RCL (IV) | E39: 1.197524e+08 | F39: 1.2590223e+08 | G39: 1.3112094e+08 | H39: 0
A40: (-) Transferências obrigatórias da União relativas às emendas individuais (art. 166-A, § 1º, da CF) (V) | E40: 100000 | F40: 100000 | G40: 350000 | H40: 0
A41: RECEITA CORRENTE LÍQUIDA AJUSTADA PARA CÁLCULO DOS LIMITES DE ENDIVIDAMENTO (VI) = (IV - V) | E41: 1.196524e+08 | F41: 1.2580223e+08 | G41: 1.3077094e+08 | H41: 0
A42: % da DC sobre a RCL AJUSTADA (I/VI) | E42: 0.78 | F42: 0.9 | G42: 0.61 | H42: 0
A43: % da DCL sobre a RCL AJUSTADA (III/VI) | E43: (11,26) | F43: (15,89) | G43: (13,30) | H43: 0
...

Sheet RCL
B1: DEMONSTRATIVO DA RECEITA CORRENTE LÍQUIDA | E1: INSTRUÇÃO NORMATIVA nº 18/2021 - TCE/RS. | H1: Página: 1/2 | I1: DEMONSTRATIVO DA RECEITA CORRENTE LÍQUIDA | M1: INSTRUÇÃO NORMATIVA nº 18/2021 - TCE/RS. | T1: Página: 2/2
C2: TOTAIS: | D2: 44835 | E2: 44805 | F2: 44774 | G2: 44743 | H2: 44713 | I2: 44682 | J2: 44652 | K2: 44621 | L2: 44593 | M2: 44562 | N2: 44531 | O2: 44501
A3: Lei Complementar Federal Nº 101/2000 - Inciso I do Artigo 53 | D3: 12º Mês | E3: 11º mês | F3: 10º Mês | G3: 09º mês | H3: 08º Mês | I3: 07º mês | J3: 06º Mês | K3: 05º Mês | L3: 04º Mês | M3: 03º Mês | N3: 02º Mês | O3: 01º Mês
A4: Discriminação | B4: Códificação: | C4: =SUM(D4:O4) -> 0
A5: I - RECEITAS CORRENTES | C5: =SUM(D5:O5) -> 1.4269694e+08 | D5: =D6-D7 -> 11519412 | E5: =E6-E7 -> 10920545 | F5: =F6-F7 -> 10723447 | G5: =G6-G7 -> 11950113 | H5: =H6-H7 -> 11668766 | I5: =I6-I7 -> 13305465 | J5: =J6-J7 -> 11103679 | K5: =K6-K7 -> 11527853 | ... O5: =O6-O7 -> 11336688
A6: Receitas Correntes | B6: 1.0.0.0.0.00.00.00 | C6: =SUM(D6:O6) -> 1.5880981e+08 | D6: =12709999.32 -> 12709999 | E6: =12015391.06 -> 12015391 | F6: =11887679.67 -> 11887680 | G6: =13068617.18 -> 13068617 | H6: 12859296 | I6: =14680470.85 -> 14680471 | J6: 12445411 | K6: 12688906 | L6: 12723514 | M6: =12843050.92 -> 12843051 | N6: =18101953.5 -> 18101954 | O6: =12785520.99 -> 12785521
A7: (R) Deduções das Receitas Correntes | B7: 9.1.0.0.0.00.0.0.00.00.00.00 | C7: =SUM(D7:O7) -> 16112869 | D7: =1190587.1 -> 1190587.1 | E7: =1094846.27 -> 1094846.3 | F7: =1164232.76 -> 1164232.8 | G7: =1118504.09 -> 1118504.1 | H7: =1190530.15 -> 1190530.1 | I7: =1375005.73 -> 1375005.7 | J7: 1341731.5 | K7: =1161052.43 -> 1161052.4 | L7: =1643342.67 -> 1643342.7 | M7: =1660076.16 -> 1660076.2 | N7: =1724126.79 -> 1724126.8 | O7: =1448833.1 -> 1448833.1
A8: II - DEDUÇÕES | C8: =SUM(D8:O8) -> 16145702 | D8: =SUM(D9:D31) -> 1672373.2 | E8: =SUM(E9:E31) -> 1372774 | F8: =SUM(F9:F31) -> 1419739.8 | G8: =SUM(G9:G31) -> 1300027.9 | H8: =SUM(H9:H31) -> 1349194.8 | I8: =SUM(I9:I31) -> 1437892.6 | J8: =SUM(J9:J31) -> 1257813.1 | K8: =SUM(K9:K31) -> 1494171.9 | ... O8: =SUM(O9:O31) -> 1281298.2
A9: Repasses p/Assist. Financ. Complementar - ACS (321) - da EC. Nº 120/22 | B9: 1.7.1.8.03.1.1.01.02.01 | C9: =SUM(D9:O9) -> 1164430 | D9: =104232 -> 104232 | E9: =104232 -> 104232 | F9: =104232 -> 104232 | G9: =41078+31772+9306+113928 -> 196084 | H9: =48050+24800 -> 72850 | I9: =48050+24800 -> 72850 | J9: =72850+24800 -> 97650 | K9: 48050 | L9: 72850 | M9: 72850 | N9: =72850+72850 -> 145700 | O9: =72850 -> 72850
C10: =SUM(D10:O10) -> 0
A11: Contribuições para Custeio dos Sistemas Previdenciário e Assistencial
A12: Contribuições Sociais Específicas de Estados, DF e Municípios | B12: 1.2.1.8.00.0.0.00.00.00
A13: Contribuição para o RPPS do Servidor Público | B13: 1.2.1.8.01 | C13: =SUM(D13:O13) -> 6328109.8 | D13: =425972.73+280838.94-120597.13 -> 586214.54 | E13: =412345.91+8631.35+138512.18 -> 559489.44 | F13: =408401.91+137755.5+8602.75 -> 554760.16 | G13: =408434.58+137060.72+8691.94 -> 554187.24 | H13: =396920.91+123281.04+8590.78 -> 528792.73 | I13: =398239.88+122659.46+8653.19 -> 529552.53 | J13: =396941.18+122332.93+8653.19 -> 527927.3 | K13: =399169.03+121136.46+9403.71 -> 529709.2 | L13: =308768.59+87226.15+5073.55 -> 401068.29 | M13: =234624.7+88797.03+5451.67 -> 328873.4 | N13: =653486.68+91787.64+94059.92 -> 839334.24 | O13: =293422.03+89308.42+5470.32 -> 388200.77
A14: Contribuição Social para o Financiamento da Seguridade Social (201 e 202) | B14: 1.2.1.9.99.1.1.03 e .04 | C14: =SUM(D14:O14) -> 1788588.8 | D14: =93694.45+69984.24-46.25 -> 163632.44 | E14: =89971.79+67663.34 -> 157635.13 | F14: =89883.83+67421.24-201.6 -> 157103.47 | G14: =91117.4+67205.98-261.36 -> 158062.02 | H14: =88927.92+64921.76 -> 153849.68 | I14: =89422.86+64945.43 -> 154368.29 | J14: =89933.51+64765.37 -> 154698.88 | K14: =88953.59+64175.16-64.35 -> 153064.4 | L14: =75311.11+55781.06 -> 131092.17 | M14: =86934.48+53366.32 -> 140300.8 | N14: =78489.05+53390.9 -> 131879.95 | O14: =79522.33+53379.19 -> 132901.52
A15: Compensação Previdenciária ao RPPS | C15: =SUM(D15:O15) -> 0
A16: Compensação Financeira entre o Regime Geral e os Regimes Próprios de Previdência dos Servidores (03) | B16: 1.9.9.0.03.1.1.00.00.00 | C16: =SUM(D16:O16) -> 543474.49 | D16: =41771.66 -> 41771.66 | F16: =87810.76 -> 87810.76 | H16: 46999.51 | I16: =58824.47 -> 58824.47 | J16: 46260.45 | K16: 46260.45 | L16: =41994.23 -> 41994.23 | M16: =41994.23 -> 41994.23 | N16: 90184.06 | O16: =41374.67 -> 41374.67
A17: Receitas do RPPS - Remuneração e Outras Receitas | C17: =SUM(D17:O17) -> 0
A18: Remuneração dos Recurso do Regime Próprio de Previdências Social - RPPS (1) | B18: 1.3.2.1.00.4.0.00.00.00 | C18: =SUM(D18:O18) -> 4413842.2 | D18: =618359.36 -> 618359.36 | E18: =(437508.32-47945.81)-815.56 -> 388746.95 | F18: =349748.56-6010.28 -> 343738.28 | G18: =281732.76-48232.86 -> 233499.9 | H18: =389536.32-25254.89 -> 364281.43 | I18: 443844.93 | J18: =416112.89-137141.35 -> 278971.54 | K18: =619278.08 -> 619278.08 | L18: =346111.52-258485.56 -> 87625.96 | M18: =170931.46-130848.46 -> 40083 | N18: =468274.43 -> 468274.43 | O18: =559892.02-(2703.66+30050.01) -> 527138.35
A19: Outras Receitas Receitas Diretamente Arrecadadas pelo RPPS (1.2.1.8.03.1.1) 8 | B19: 1.9.9.0.99.1.X.01.00.00 | C19: =SUM(D19:O19) -> 35069.57 | D19: =2328.03 -> 2328.03 | E19: =2328.03 -> 2328.03 | F19: =2328.02 -> 2328.02 | G19: =2328.03 -> 2328.03 | H19: 2328.03 | I19: =5089.12 -> 5089.12 | J19: 2761.09 | L19: 2761.09 | N19: 12818.13
A20: Receitas do Fundo de Assistência Social Social dos Servidores | B20: 1.3.2.1.00.1.1.01.10 | C20: =SUM(D20:O20) -> 0
A21: Remuneração de Depósitos Bancários de Recursos Vinculados - Fundo de Assistência Social | B21: 1.3.2.1.00.1.X.01.09
A22: Receitas Diretamente Arrecadadas pelo Fundo de Assistência Social dos Servidores | B22: 1.9.9.0.99.1.X.02.00.00 | C22: =SUM(D22:O22) -> 0
A23: Receitas do Fundo de Assistência à Saúde do Servidor | C23: =SUM(D23:O23) -> 0
A24: Remuneração de Depósito Bancários de Recursos Vínculados - Fundo de Assistência à Saúde do Servidor (341) | B24: 1.3.2.1.00.1.X.01.10.00 | C24: =SUM(D24:O24) -> 166135.34 | D24: =26433.66 -> 26433.66 | E24: =25056.84 -> 25056.84 | F24: =22714.62 -> 22714.62 | G24: =17418.99 -> 17418.99 | H24: =16537.97 -> 16537.97 | I24: =14585.66 -> 14585.66 | J24: =11006.74 -> 11006.74 | K24: 10154.58 | L24: 8239.47 | M24: =2785.15 -> 2785.15 | N24: =7750.51 -> 7750.51 | O24: =3451.15 -> 3451.15
A25: Receitas Diretamente Arrecadadas pelo Fundo de Assistência à Saúde dos Servidores (198) | B25: 1.9.9.0.99.1.X.03.00.00 | C25: =SUM(D25:O25) -> 1586056.8 | D25: =129401.49 -> 129401.49 | E25: =135285.62 -> 135285.62 | F25: =147052.48 -> 147052.48 | G25: =138447.73 -> 138447.73 | H25: =163555.44 -> 163555.44 | I25: =138777.58 -> 138777.58 | J25: =138537.11 -> 138537.11 | K25: =127979.54-40324.34 -> 87655.2 | L25: 125969.03 | M25: =115450.07 -> 115450.07 | N25: =150593.31-50 -> 150543.31 | O25: =115381.72 -> 115381.72
A26: Outras Contribuições Sociais (1) | B26: 1.2.1.9.00.0.0.00.00.00 | C26: =SUM(D26:O26) -> 0
A27: Recei. Dire. Fundo Assis. Saude Servi. - Divida Ativa | B27: 1.9.9.0.99.1.3.03 | C27: =SUM(D27:O27) -> 19417.48 | I27: 19417.48
A28: Recei. Fundo Saude Servi.- Divida Ativa - Multas e Juros (199) | B28: 1.9.9.0.99.1.3.04 | C28: =SUM(D28:O28) -> 582.52 | I28: 582.52
A29: ( - ) Compensação Previdenciárfia à Prefeitura Municipal (243) | B29: (1.2.1.9.99.1.X.01.00.00) | C29: =SUM(D29:O29) -> 0
A30: ( - ) Contribuição dos Inativos e Pensionistas à Prefeitura Municipal | B30: (1.2.1.9.99.1.X.02.00.00) | C30: =SUM(D30:O30) -> 0
A31: ( R ) Todas as contas dedutoras de receita correspondentes às utilizadas acima | B31: Receita de Capital | C31: =SUM(D31:O31) -> 99995 | N31: 99995
A32: III - SUBTOTAL (III = I - II) | C32: =SUM(D32:O32) -> 1.2655124e+08 | D32: =D5-D8 -> 9847039 | E32: =E5-E8 -> 9547770.8 | F32: =F5-F8 -> 9303707.1 | G32: =G5-G8 -> 10650085 | H32: =H5-H8 -> 10319571 | I32: =I5-I8 -> 11867573 | J32: =J5-J8 -> 9845866.2 | K32: =K5-K8 -> 10033682 | ... O32: =O5-O8 -> 10055390
A33: IV - ( + ) Perda para o FUNDEB | C33: =SUM(D33:O33) -> 0
A34: V - RECEITA CORRENTE LÍQUIDA (V = III + V) | C34: =SUM(D34:O34) -> 1.2655124e+08 | D34: =D32+D33 -> 9847039 | E34: =E32+E33 -> 9547770.8 | F34: =F32+F33 -> 9303707.1 | G34: =G32+G33 -> 10650085 | H34: =H32+H33 -> 10319571 | I34: =I32+I33 -> 11867573 | J34: =J32+J33 -> 9845866.2 | K34: =K32+K33 -> 10033682 | ... O34: =O32+O33 -> 10055390
A35: VI - Valor das Emendas Parlamentares de Individuais | C35: =SUM(D35:O35) -> 250000 | H35: =150000+100000 -> 250000
A36: VII - RECEITA CORRENTE LÍQUIDA Endividamento) (VIII = V - VI) | C36: =SUM(D36:O36) -> 1.2630124e+08 | D36: =D34-D35 -> 9847039 | E36: =E34-E35 -> 9547770.8 | F36: =F34-F35 -> 9303707.1 | G36: =G34-G35 -> 10650085 | H36: =H34-H35 -> 10069571 | I36: =I34-I35 -> 11867573 | J36: =J34-J35 -> 9845866.2 | K36: =K34-K35 -> 10033682 | ... O36: =O34-O35 -> 10055390
A37: VIII - Valor das Emendas Parlamentares de Bancada | C37: =SUM(D37:O37) -> 100000 | O37: 100000
A38: IX - RECEITA CORRENTE LIQUIDA (Despesas com Pessoal) (IX = VII - VIII) | C38: =SUM(D38:O38) -> 1.2620124e+08 | D38: =D36-D37 -> 9847039 | E38: =E36-E37 -> 9547770.8 | F38: =F36-F37 -> 9303707.1 | G38: =G36-G37 -> 10650085 | H38: =H36-H37 -> 10069571 | I38: =I36-I37 -> 11867573 | J38: =J36-J37 -> 9845866.2 | K38: =K36-K37 -> 10033682 | ... O38: =O36-O37 -> 9955389.7
A39: Fonte da Metodologia TCE/RS. (OBS.: Foi deduzidos os valores das Emendas Parlamentares os valores referentes a EC Nº 120/2022 dos ACS) | D39: =9951271.04-D38 -> 104232 | E39: =9652002.78-E38 -> 104232 | F39: =9407939.12-F38 -> 104232 | G39: =10846169.18-G38 -> 196084 | H39: =10392421.04-H38 -> 322850 | I39: =11940422.54-I38 -> 72850 | J39: =9943516.24-J38 -> 97650 | K39: =10081731.52-K38 -> 48050 | L39: =10281421.26-L38 -> 72850 | M39: =10513488.11-M38 -> 72850 | N39: =14677042.08-N38 -> 245695 | O39: =10128239.71-O38 -> 172850
A40: ( 1 ) A Natureza de Receita 1.2.9.99.1.0.00.00.00 - Demais Contribuições Socias deverá ser detalhada conforme a necessidade do Orgão para a contabilização das contribuições para Fundos de Assitência Médica dos Servidores Municipais.
...

Sheet DCLP
B1: Modelo 2 - Demonstrativo da Despesa com Pessoal | H1: INSTRUÇÃO NORMATIVA nº 18/2021 - TCE/RS. | K1: Página: 1/2 | M1: Modelo 2 - Demonstrativo da Despesa com Pessoal | R1: INSTRUÇÃO NORMATIVA nº 18/2021 - TCE/RS. | W1: Página: 2/2
A2: Lei Complementar Federal nº 101/2000, artigo 54 e alínea "a" do inciso I do artigo 55
A3: Despesa Líquidada | B3: 9000 - Prefeitura e Fundos: | H3: Total dos últimos | I3: =RCL!D2 -> 44835 | J3: =RCL!E2 -> 44805 | K3: =RCL!F2 -> 44774 | L3: =RCL!G2 -> 44743 | M3: =RCL!H2 -> 44713 | N3: =RCL!I2 -> 44682 | O3: =RCL!J2 -> 44652 | P3: =RCL!K2 -> 44621 | ... T3: =RCL!O2 -> 44501
A4: Discriminação | B4: Detalhamento: | G4: Codificação: | H4: 12 meses | I4: 12º Mês | J4: 11º mês | K4: 10º Mês | L4: 9º Mês | M4: 8º Mês | N4: 7º Mês | O4: 6º Mês | P4: 5º Mês | Q4: 4º Mês | R4: 3º Mês | S4: 2º Mês | T4: 1º Mês
A5: I - NATUREZA DE DESPESA | H5: =SUM(I5:T5) -> 1.2393669e+08 | I5: =I6+I7 -> 10531831 | J5: =J6+J7 -> 10367704 | K5: =K6+K7 -> 10342789 | L5: =L6+L7 -> 10266633 | M5: =M6+M7 -> 13271058 | N5: =N6+N7 -> 9786306.4 | O5: =O6+O7 -> 9800939.4 | P5: =P6+P7 -> 9594937.9 | ... T5: =T6+T7 -> 7378248.6
A6: Pessoal e encargos sociais | G6: 3.1.00.00.00.00 | H6: =SUM(I6:T6) -> 1.2303821e+08 | I6: 10439276 | J6: 10259087 | K6: =10241440.06 -> 10241440 | L6: =10173649.96 -> 10173650 | M6: =13197303.28 -> 13197303 | N6: =9717453.4 -> 9717453.4 | O6: 9800939.4 | P6: =9512897.79 -> 9512897.8 | Q6: 9453129.2 | R6: 7753844.4 | S6: =15177341.49 -> 15177341 | T6: =7311846.31 -> 7311846.3
A7: Outras Despesas de Pessoal de Contratos de Terceirização - Substituição de mão de obra (art. 18, § 1º da LRF) | G7: 3.3.XX.34.01.00 | H7: =SUM(I7:T7) -> 898482.2 | I7: =92554.9 -> 92554.9 | J7: =108617.6 -> 108617.6 | K7: =101349.3 -> 101349.3 | L7: =92983.4 -> 92983.4 | M7: =73754.4 -> 73754.4 | N7: =68853 -> 68853 | P7: =82040.1 -> 82040.1 | Q7: =68152.8 -> 68152.8 | R7: 77022 | S7: =66752.4 -> 66752.4 | T7: =66402.3 -> 66402.3
A8: II - DEDUÇÕES | H8: =SUM(I8:T8) -> 31898213 | I8: =SUM(I10:I19) -> 2825463.7 | J8: =SUM(J10:J19) -> 2581814.1 | K8: =SUM(K10:K19) -> 2697101.4 | L8: =SUM(L10:L19) -> 2691175.5 | M8: =SUM(M10:M19) -> 3605506.4 | N8: =SUM(N10:N19) -> 2420548.8 | O8: =SUM(O10:O19) -> 2390980.4 | P8: =SUM(P10:P19) -> 2528661.3 | ... T8: =SUM(T10:T19) -> 2029057.4
A10: Aposentadoria do RPPS, Reserva Remunerada e Reformas dos Militares (com recursos do RPPS) | G10: 3.1.90.01 | H10: =SUM(I10:T10) -> 26699050 | I10: =2255361.06 -> 2255361.1 | J10: =2237316.49 -> 2237316.5 | K10: =2150516.8 -> 2150516.8 | L10: =2143560.48 -> 2143560.5 | M10: =3187388.92 -> 3187388.9 | N10: =2032469.12 -> 2032469.1 | O10: 2019475.9 | P10: =2016240.3 -> 2016240.3 | Q10: =1994589.15 -> 1994589.1 | R10: 1730656.3 | S10: =3278600.89 -> 3278600.9 | T10: =1652874.5 -> 1652874.5
A12: Pensões do RPPS e do Militar (com Recursos do RPPS) | G12: 3.1.90.03 | H12: =SUM(I12:T12) -> 3352241.2 | I12: =258383.84 -> 258383.84 | J12: =259648.67 -> 259648.67 | K12: =260359.09 -> 260359.09 | L12: =259109.97 -> 259109.97 | M12: =391636.18 -> 391636.18 | N12: =263289.7 -> 263289.7 | O12: 267062.41 | P12: 262246.5 | Q12: =266900.34 -> 266900.34 | R12: 224135.64 | S12: =425586.98 -> 425586.98 | T12: =213881.89 -> 213881.89
H13: =SUM(I13:T13) -> 0
A14: Sentenças Judiciais | G14: 3.1.X.X.91 | H14: =SUM(I14:T14) -> 70636.42 | I14: =1613.61 -> 1613.61 | J14: =1613.61 -> 1613.61 | K14: =1613.61 -> 1613.61 | L14: =1613.61 -> 1613.61 | M14: 1613.61 | N14: =1613.61 -> 1613.61 | O14: 1613.61 | P14: =1613.61 -> 1613.61 | Q14: =1613.61 -> 1613.61 | R14: 1396.82 | S14: 53381.19 | T14: 1335.92
H15: =SUM(I15:T15) -> 0
A16: Despesas de Exercícios Anteriores | G16: 3.1.90.92 | H16: =SUM(I16:T16) -> 24599.13 | R16: 24599.13
A18: Indenizações e Restituições Trabalhistas | G18: 3.1.9.0.94 | H18: =SUM(I18:T18) -> 1751686.1 | I18: =310105.23 -> 310105.23 | J18: =83235.37 -> 83235.37 | K18: =284611.95 -> 284611.95 | L18: =286891.44 -> 286891.44 | M18: 24867.64 | N18: =123176.33 -> 123176.33 | O18: 102828.5 | P18: =248560.87 -> 248560.87 | Q18: =34555.15 -> 34555.15 | R18: 21001.8 | S18: =70886.76 -> 70886.76 | T18: =160965.04 -> 160965.04
H19: =SUM(I19:T19) -> 0
A20: III - TOTAL DAS NATUREZAS DE DESPESA (I - II) | H20: =SUM(I20:T20) -> 92038478 | I20: =I5-I8 -> 7706367.2 | J20: =J5-J8 -> 7785890.4 | K20: =K5-K8 -> 7645687.9 | L20: =L5-L8 -> 7575457.9 | M20: =M5-M8 -> 9665551.3 | N20: =N5-N8 -> 7365757.6 | O20: =O5-O8 -> 7409959 | P20: =P5-P8 -> 7066276.6 | ... T20: =T5-T8 -> 5349191.3
A21: =RCL!A9 -> Repasses p/Assist. Financ. Complementar - ACS (321) - da EC. Nº 120/22 | B21: ... Não inclusão no cálculo para fins de despesa com pessoal ... Previsão: EC. Nº 120/22 | G21: =RCL!B9 -> 1.7.1.8.03.1.1.01.02.01 | H21: =RCL!C9 -> 1164430 | I21: =RCL!D9 -> 104232 | J21: =RCL!E9 -> 104232 | K21: =RCL!F9 -> 104232 | L21: =RCL!G9 -> 196084 | M21: =RCL!H9 -> 72850 | N21: =RCL!I9 -> 72850 | ... T21: =RCL!O9 -> 72850
H22: =RCL!C10 -> 0
A23: Despesas da Contribuição suplementar ao RPPS do Poder Legislativo | G23: 3.1.91.13.20.00 | H23: =SUM(I23:T23) -> 389881.65 | I23: =33464.79 -> 33464.79 | J23: 32845.75 | K23: 32522.9 | L23: 32138.34 | M23: 31832.21 | N23: 31828.58 | O23: 31936.61 | P23: 31666.81 | Q23: 33441.86 | R23: 28019.44 | S23: 47839.66 | T23: 22344.7
A24: Recursos para cobertura de Insuficências Financeiras | G24: 3.5.1.3.2.01.01 | H24: =SUM(I24:T24) -> 0
A25: Recursos para cobertura de Déficit Financeiro | G25: 3.5.1.3.2.02.01 | H25: =SUM(I25:T25) -> 0
A26: IV - TOTAL DAS CONTAS PATRIMONIAIS | H26: =SUM(I26:T26) -> 389881.65 | I26: =SUM(I23:I25) -> 33464.79 | J26: =SUM(J23:J25) -> 32845.75 | K26: =SUM(K23:K25) -> 32522.9 | L26: =SUM(L23:L25) -> 32138.34 | M26: =SUM(M23:M25) -> 31832.21 | N26: =SUM(N23:N25) -> 31828.58 | O26: =SUM(O23:O25) -> 31936.61 | P26: =SUM(P23:P25) -> 31666.81 | ... T26: =SUM(T23:T25) -> 22344.7
A27: Cálculo Despesa c/ Pessoal 1º e 2º Quadrimestre/1º Semestre: Emp. Não Liquidados | B27: Cálculo das contas das naturezas de despesas de pessoal dos Itens I e II | H27: =SUM(I27:T27) -> 141404.09 | I27: =(10469865.46-0.01)-I5 -> -61965.47 | J27: =(10238839.91+31545)-J5 -> -97319.59 | K27: =(10230543.52+15000)-K5 -> -97245.84 | L27: =(10162753.42+36500.01)-L5 -> -67379.93 | M27: =13194520.1-M5 -> -76537.58 | N27: =9716713.8-N5 -> -69592.6 | O27: =9788563.69-O5 -> -12375.74 | P27: =9623865.53-P5 -> 28927.64 | Q27: =9465877.22+649785.6-Q5 -> 594380.86 | R27: =7754356.74+77022-R5 -> 512.34
A28: Cálculo Despesa c/ Pessoal 3º Quadrimestre/2º Semestre: Restos a Pagar Não Processados | B28: Cálculo das contas das naturezas de despesas de pessoal dos Itens I e II | H28: =SUM(I28:T28) -> -57270.48 | S28: =(15143005.9-S6)+(-1283.7-S7) -> -102371.69 | T28: =(7288911.42+134438.4)-(T6+T7) -> 45101.21
A29: V - TOTAL DOS EMPENHOS NÃO LÍQUIDADOS - RESTOS A PAGAR NÃO PROCESSADOS | H29: =SUM(I29:T29) -> 84133.61 | I29: =SUM(I27:I28) -> -61965.47 | J29: =SUM(J27:J28) -> -97319.59 | K29: =SUM(K27:K28) -> -97245.84 | L29: =SUM(L27:L28) -> -67379.93 | M29: =SUM(M27:M28) -> -76537.58 | N29: =SUM(N27:N28) -> -69592.6 | O29: =SUM(O27:O28) -> -12375.74 | P29: =SUM(P27:P28) -> 28927.64 | ... T29: =SUM(T27:T28) -> 45101.21
B30: Informação da Execução do Consórcio p/ consolidação - maio a Dez | G30: 8.5.3.2.4.01.01 | H30: =SUM(I30:T30) -> 0
A31: Contas Aplicáveis ao 1º Quadrimestre (1) | B31: Informação da Execução do Consórcio p/ consolidação - Exercício atual - 1º Bimestre | G31: 8.5.3.2.4.02.01 | H31: =SUM(I31:T31) -> 0
B32: Informação da Execução do Consórcio p/ consolidação - Exercício atual - 2º Bimestre | G32: 8.5.3.2.4.02.02 | H32: =SUM(I32:T32) -> 0
B33: Informação da Execução do Consórcio p/ consolidação - julho a Dez | G33: 8.5.3.2.4.01.02 | H33: =SUM(I33:T33) -> 0
A34: Contas Aplicáveis ao 1º Semestre (1) | B34: Informação da Execução do Consórcio p/ consolidação - Exercício atual - 1º Bimestre | G34: 8.5.3.2.4.02.01 | H34: =SUM(I34:T34) -> 0
B35: Informação da Execução do Consórcio p/ consolidação - Exercício atual - 2º Bimestre | G35: 8.5.3.2.4.02.02 | H35: =SUM(I35:T35) -> 0
B36: Informação da Execução do Consórcio p/ consolidação - Exercício atual - 3º Bimestre | G36: 8.5.3.2.4.02.03 | H36: =SUM(I36:T36) -> 0
B37: Informação da Execução do Consórcio p/ consolidação - Setembro a Dez | G37: 8.5.3.2.4.01.03 | H37: =SUM(I37:T37) -> 0
B38: Informação da Execução do Consórcio p/ consolidação - Exercício atual - 1º Bimestre | G38: 8.5.3.2.4.02.01 | H38: =SUM(I38:T38) -> 0
A39: Contas Aplicáveis ao 2º Quadrimestre (1) | B39: Informação da Execução do Consórcio p/ consolidação - Exercício atual - 2º Bimestre | G39: 8.5.3.2.4.02.02 | H39: =SUM(I39:T39) -> 0
B40: Informação da Execução do Consórcio p/ consolidação - Exercício atual - 3º Bimestre | G40: 8.5.3.2.4.02.03 | H40: =SUM(I40:T40) -> 0
B41: Informação da Execução do Consórcio p/ consolidação - Exercício atual - 4º Bimestre | G41: 8.5.3.2.4.02.04 | H41: =SUM(I41:T41) -> 0
B42: Informação da Execução do Consórcio p/ consolidação - Exercício atual - 1º Bimestre | G42: 8.5.3.2.4.02.01 | H42: =SUM(I42:T42) -> 0
B43: Informação da Execução do Consórcio p/ consolidação - Exercício atual - 2º Bimestre | G43: 8.5.3.2.4.02.02 | H43: =SUM(I43:T43) -> 0
...

Sheet DCLP_RCL
C2: Evolução Mensal da Despesa Liquidada com Pessoal | J2: INSTRUÇÃO NORMATIVA nº 18/2021 - TCE/RS.
D3: =DCLP!I3 -> 44835 | E3: =DCLP!J3 -> 44805 | F3: =DCLP!K3 -> 44774 | G3: =DCLP!L3 -> 44743 | H3: =DCLP!M3 -> 44713 | I3: =DCLP!N3 -> 44682 | J3: =DCLP!O3 -> 44652 | K3: =DCLP!P3 -> 44621 | ... O3: =DCLP!T3 -> 44501
B4: TOTAIS DOS ÚLTIMOS 12 MESES | D4: 12º Mês | E4: 11º mês | F4: 10º Mês | G4: 9º Mês | H4: 8º Mês | I4: 7º Mês | J4: 6º Mês | K4: 5º Mês | L4: 4º Mês | M4: 3º Mês | N4: 2º Mês | O4: 1º Mês
B5: Despesa Liquida c/ Pessoal | C5: =(SUM(D5:O5)) -> 91348063 | D5: =DCLP!I49 -> 7573634.5 | E5: =DCLP!J49 -> 7617184.5 | F5: =DCLP!K49 -> 7476733 | G5: =DCLP!L49 -> 7344132.3 | H5: =DCLP!M49 -> 9547996 | I5: =DCLP!N49 -> 7255143.6 | J5: =DCLP!O49 -> 7331869.9 | K5: =DCLP!P49 -> 7078821.1 | ... O5: =DCLP!T49 -> 5343787.2
B6: Recuperação:Passivo Atuarial | C6: =SUM(D6:O6) -> 15565745 | D6: =1423916.93 -> 1423916.9 | E6: =1417561.47 -> 1417561.5 | F6: =1346516.62 -> 1346516.6 | G6: =1335834.82 -> 1335834.8 | H6: =1336186.24 -> 1336186.2 | I6: =1303174.31 -> 1303174.3 | J6: =1307449.39 -> 1307449.4 | K6: =1304820.38 -> 1304820.4 | L6: =1308506.75 -> 1308506.8 | M6: =1026437.85 -> 1026437.8 | N6: =1642636.93 -> 1642636.9 | O6: =812702.95 -> 812702.95
B7: Receita Corrente Líquida | C7: =SUM(D7:O7) -> 1.2620124e+08 | D7: =RCL!D38 -> 9847039 | E7: =RCL!E38 -> 9547770.8 | F7: =RCL!F38 -> 9303707.1 | G7: =RCL!G38 -> 10650085 | H7: =RCL!H38 -> 10069571 | I7: =RCL!I38 -> 11867573 | J7: =RCL!J38 -> 9845866.2 | K7: =RCL!K38 -> 10033682 | ... O7: =RCL!O38 -> 9955389.7
B8: Índice da DCLP s/ a RCL | C8: =C5/C7 -> 0.72382857 | D8: =D5/D7 -> 0.76912811 | E8: =E5/E7 -> 0.79779717 | F8: =F5/F7 -> 0.80362944 | G8: =G5/G7 -> 0.68958437 | H8: =H5/H7 -> 0.94820285 | I8: =I5/I7 -> 0.61134184 | J8: =J5/J7 -> 0.74466479 | ... O8: =O5/O7 -> 0.53677328
B9: Índice c/ Dedução do Passivo | C9: =(C5-C6)/C7 -> 0.60048791 | D9: =(D5-D6)/D7 -> 0.62452454 | E9: =(E5-E6)/E7 -> 0.64932676 | F9: =(F5-F6)/F7 -> 0.6589004 | G9: =(G5-G6)/G7 -> 0.56415487 | H9: =(H5-H6)/H7 -> 0.8155074 | I9: =(I5-I6)/I7 -> 0.50153216 | J9: =(J5-J6)/J7 -> 0.61187308 | ... O9: =(O5-O6)/O7 -> 0.45513881
B10: Limite Máximo do Índice | C10: 0.54 | D10: 0.54 | E10: 0.54 | F10: 0.54 | G10: 0.54 | H10: 0.54 | I10: 0.54 | J10: 0.54 | K10: 0.54 | L10: 0.54 | M10: 0.54 | N10: 0.54 | O10: 0.54
B11: OBS.: | C11: No Valor da RCL foi deduzidos os valores das Emendandas Parlamentares e os Repasses p/Assist. Financ. Complementar - ACS (321) - da EC. Nº 120/22 do Período.
B12: Nota: | C12: Na apuração da despesa com pessoal do Executivo foi deduzido o valor referente a contribuição suplementar ao RPPS do Poder Legislativo do período de doze(12) meses, que importou num total de R$ 378.463,67.
B53: Fonte: | C53: Demonstrativos apurados pela Contabilidade da Receita Corrente Realizada e da Despesa Líquidada Orçamentarias.
C57: Giovani Amestoy da Silva | F57: Ihoko Nakashima Mota | J57: Arlei Lopes Souza
C58: Prefeito Municipal | F58: Secret. de Município da Fazenda | J58: Contador - CRC/RS: 068452/O-6

Sheet AcompFAPS
A2: Aliquotas vigentes em 2021 do FAPS/RPPS | F2: ENTE | G2: SEGURADO | I2: Anos: | J2: 2021 | K2: 2022
F3: Normal | G3: Normal | I3: Suplementar: | J3: 0.33 | K3: 0.4
F4: 0.1999 | G4: 0.1184
G5: Média dos Segurados
F6: Período: | G6: 2021 | H6: 2021 | I6: 2022 | J6: 2023 | K6: 2024 | L6: 2025
F7: L. M. Nº 4167 de 04/08/2020 - Art. 4º - Aliquota do Passivo Atuarial. | G7: 0.33 | H7: 0.335 | I7: 0.4 | J7: 0.5 | K7: 0.74 | L7: 0.72
F8: L. M. Nº 4.244 de 22/07/2021 - Art. 4º - Aliquota do Passivo Atuarial.
B9: Ano: 2021 | D9: Janeiro | E9: Fevereiro | F9: Março | G9: Abril | H9: Maio | I9: Junho | J9: Julho | K9: Agosto | L9: Setembro | M9: Outubro | N9: Novembro | O9: Dezembro | P9: TOTAIS:
B10: Aportes Periodicos
A11: 7.9.9.0.01.1.1 | B11: Amortiz Deficit Atuarial | C11: 311 | D11: 646851.22 | E11: 1584309.8 | F11: 1110585.6 | G11: 1101862.1 | H11: =1041204.38 -> 1041204.4 | I11: 1041463.5 | J11: 1038282 | K11: 1036421.9 | L11: 1047813.3 | M11: 1031939.7 | N11: =1031371.47 -> 1031371.5 | O11: =2257142.6 -> 2257142.6 | P11: =SUM(D11:O11) -> 13969248 | Q11: =13969247.57-P11 -> 0
A12: 7.9.9.0.01.1.3 | B12: Deficit Atuarial - Div Ativa | C12: 320 | D12: 40013.54 | E12: 25467.31 | F12: =43738.35 -> 43738.35 | G12: 147124.29 | H12: =167667.79 -> 167667.79 | I12: 197063.87 | J12: 79480.33 | K12: 114330.75 | L12: 39881.89 | M12: 76483.03 | N12: =132426.56 -> 132426.56 | O12: =81964.99 -> 81964.99 | P12: =SUM(D12:O12) -> 1145642.7 | Q12: =1145642.7-P12 -> 0
B13: 1. Receitas Totais | D13: 1821306.7 | E13: 3418373.4 | F13: 2477692 | G13: 2713144.4 | H13: =2527081.2 -> 2527081.2 | I13: 2358458.2 | J13: 2342207.5 | K13: =2308046.36 -> 2308046.4 | L13: 2466047.5 | M13: 2370360.4 | N13: =2878589.87 -> 2878589.9 | O13: =5272665.5 -> 5272665.5 | P13: =SUM(D13:N13) -> 27681307 | Q13: =27681307.39-P13 -> 0
B14: 2. Total da Despesa Paga | D14: 1774960.3 | E14: 1892028.5 | F14: 1916270.8 | G14: 1847527.9 | H14: 1862823.2 | I14: =1860508.85 -> 1860508.9 | J14: 1888869.8 | K14: 1864374.6 | L14: =1864704.24 -> 1864704.2 | M14: 1868149.1 | N14: =1866454.01 -> 1866454 | O14: =3707726.11 -> 3707726.1 | P14: =SUM(D14:O14) -> 24214397 | Q14: =24214397.41-P14 -> 0
B15: 3. Resultado: 1. - 2. = | C15: (- ) | D15: =D13-D14 -> 46346.42 | E15: =E13-E14 -> 1526344.8 | F15: =F13-F14 -> 561421.16 | G15: =G13-G14 -> 865616.53 | H15: =H13-H14 -> 664258.01 | I15: =I13-I14 -> 497949.35 | J15: =J13-J14 -> 453337.71 | K15: =K13-K14 -> 443671.71 | ... O15: =O13-O14 -> 1564939.4 | P15: =SUM(D15:N15) -> 7174636.1
B17: Valor do déficit para cobertura do Passivo Atuarial: | C17: ( = ) | D17: =SUM(D11:D12)-D15 -> 640518.34 | E17: =SUM(E11:E12)-E15 -> 83432.26 | F17: =SUM(F11:F12)-F15 -> 592902.82 | G17: =SUM(G11:G12)-G15 -> 383369.85 | H17: =SUM(H11:H12)-H15 -> 544614.16 | I17: =SUM(I11:I12)-I15 -> 740577.99 | J17: =SUM(J11:J12)-J15 -> 664424.66 | K17: =SUM(K11:K12)-K15 -> 707080.93 | ... O17: =SUM(O11:O12)-O15 -> 774168.2 | P17: =SUM(D17:O17) -> 6375314.8
B18: Progressão do Déficit no período | E18: =D17+E17 -> 723950.6 | F18: =E18+F17 -> 1316853.4 | G18: =F18+G17 -> 1700223.3 | H18: =G18+H17 -> 2244837.4 | I18: =H18+I17 -> 2985415.4 | J18: =I18+J17 -> 3649840.1 | K18: =J18+K17 -> 4356921 | L18: =K18+L17 -> 4843272.9 | M18: =L18+M17 -> 5449484.4 | ... O18: =N18+O17 -> 6375314.8
B20: Rendimentos Líquidos Auferidos do Período: | D20: =21390.5-13008.99 -> 8381.51 | E20: 7644.48 | F20: =70335.98-81867.41 -> -11531.43 | G20: 236970.22 | H20: =196118.17-25818.29 -> 170299.88 | I20: =48213.11-50509.62 -> -2296.51 | J20: =73898.94-87402.27 -> -13503.33 | K20: =93050.89-139895.26 -> -46844.37 | L20: =207190.52-117856.34 -> 89334.18 | M20: =356724.71-334520.02 -> 22204.69 | N20: =559892.02-(2703.66+30050.01) -> 527138.35 | O20: =468274.43 -> 468274.43 | P20: =SUM(D20:O20) -> 1456072.1 | Q20: =(2351279.88-(895207.78))-P20 -> 0
O21: (-) 9419 Demais Variações Monetárias Negativas | P21: -352333.58
A22: 08/09/2021 Arrecadacao da Receita Ref correcao contribuicoes repassadas ao RPPS compensando os juros pelo atraso ao FAPS pela Camara de Vereadores emp extra 119/2021 Correcao SELIC contribuicao patronal contido R$ 160,40 | O22: =P22-J38 -> -205490.18 | P22: =P20+P21 -> 1103738.5
B23: Saldo dos Valores Aplicados: | D23: 33033587 | E23: 32875957 | F23: 34457888 | G23: 35776936 | H23: 35898682 | I23: =35480656.82 -> 35480657 | J23: =35920808.42 -> 35920808 | K23: 36369533 | L23: =36874615.14 -> 36874615 | M23: 37473088 | N23: 38488332 | O23: 40962776 | P23: TOTAIS:
E24: =E23-D23 -> -157630.07 | F24: =F23-E23 -> 1581931.6 | G24: =G23-F23 -> 1319048 | H24: =H23-G23 -> 121746.14 | I24: =I23-H23 -> -418025.45 | J24: =J23-I23 -> 440151.6 | K24: =K23-J23 -> 448724.77 | L24: =L23-K23 -> 505081.95 | ... O24: =O23-N23 -> 2474443.8 | P24: =SUM(E24:O24) -> 7929189.6 | Q24: =O23-D23-P24 -> 0
C26: Percentual dos Rendimentos em relação ao Saldo: | D26: =D20/D23 -> 0.00025372691 | E26: =E20/E23 -> 0.00023252495 | F26: =F20/F23 -> -0.00033465284 | G26: =G20/G23 -> 0.0066235471 | H26: =H20/H23 -> 0.0047439034 | I26: =I20/I23 -> -6.472569e-05 | J26: =J20/J23 -> -0.00037591943 | K26: =K20/K23 -> -0.0012880113 | ... O26: =O20/O23 -> 0.011431706 | P26: =SUM(D26:O26) -> 0.037933353
B28: Rendimento da Poupança: | D28: 0.001159 | E28: 0.001159 | F28: 0.001159 | G28: 0.00159 | H28: 0.00159 | I28: 0.002019 | J28: 0.002446 | K28: 0.002446 | L28: 0.003012 | M28: 0.003575 | N28: 0.004412 | O28: 0.004902 | P28: =SUM(D28:O28) -> 0.029469
C29: Diferença em relação a Poupança: | D29: =D28-D26 -> 0.00090527309 | E29: =E28-E26 -> 0.00092647505 | F29: =F28-F26 -> 0.0014936528 | G29: =G28-G26 -> -0.0050335471 | H29: =H28-H26 -> -0.0031539034 | I29: =I28-I26 -> 0.0020837257 | J29: =J28-J26 -> 0.0028219194 | K29: =K28-K26 -> 0.0037340113 | ... O29: =O28-O26 -> -0.0065297064 | P29: =SUM(D29:O29) -> -0.0084643526
B32: Ano: 2022 | D32: Janeiro | E32: Fevereiro | F32: Março | G32: Abril | H32: Maio | I32: Junho | J32: Julho | K32: Agosto | L32: Setembro | M32: Outubro | N32: Novembro | O32: Dezembro | P32: TOTAIS:
B33: Aportes Periodicos
A34: 7.9.9.0.01.1.1 | B34: Amortiz Deficit Atuarial | C34: 2 | D34: =891787.92 -> 891787.92 | E34: =1297234.15 -> 1297234.1 | F34: =1687898.51 -> 1687898.5 | G34: =1685861.8 -> 1685861.8 | H34: 1689453.1 | I34: 1686800.6 | J34: =1759027.36 -> 1759027.4 | K34: =1760518.98 -> 1760519 | L34: =1773575.36 -> 1773575.4 | M34: =94187.06 -> 94187.06 | P34: =SUM(D34:O34) -> 14326345 | Q34: =14326344.81-P34 -> 0
A35: 7.9.9.0.01.1.3 | B35: Deficit Atuarial - Div Ativa | C35: 7 | D35: =54875.67 -> 54875.67 | E35: =111840.76 -> 111840.76 | F35: =76216.62 -> 76216.62 | G35: =196927.82 -> 196927.82 | H35: 121457.79 | I35: 89905.39 | J35: =81930.93 -> 81930.93 | K35: =75400.28 -> 75400.28 | L35: 26474.98 | M35: =150757.23 -> 150757.23 | P35: =SUM(D35:O35) -> 985787.47 | Q35: =985787.47-P35 -> 0
B36: 1. Receitas Totais | D36: =2095430.84 -> 2095430.8 | E36: =2742554.41 -> 2742554.4 | F36: =3839700.82 -> 3839700.8 | G36: =3771843.75 -> 3771843.8 | H36: 3848650.1 | I36: =3752341.12 -> 3752341.1 | J36: =3711368.89 -> 3711368.9 | K36: =3913552.05 -> 3913552 | L36: =3896369.6 -> 3896369.6 | M36: =1841352.19 -> 1841352.2 | P36: =SUM(D36:N36) -> 33413164 | Q36: =33413163.79-P36 -> 0
B37: 2. Total da Despesa Paga | D37: =1954791.97 -> 1954792 | E37: =2260829.3 -> 2260829.3 | F37: 2278311.8 | G37: 2289318.1 | H37: 2296838 | I37: =3583557.43 -> 3583557.4 | J37: =2402140.19 -> 2402140.2 | K37: 2406151 | L37: =2503434.53 -> 2503434.5 | M37: 2513863.7 | P37: =SUM(D37:O37) -> 24489236 | Q37: =24489236.1-P37 -> 0
B38: 3. Resultado: 1. - 2. = | C38: (- ) | D38: =D36-D37 -> 140638.87 | E38: =E36-E37 -> 481725.11 | F38: =F36-F37 -> 1561389.1 | G38: =G36-G37 -> 1482525.6 | H38: =H36-H37 -> 1551812.1 | I38: =I36-I37 -> 168783.69 | J38: =J36-J37 -> 1309228.7 | K38: =K36-K37 -> 1507401 | ... O38: =O36-O37 -> 0 | P38: =SUM(D38:O38) -> 8923927.7
B40: Valor do déficit para cobertura do Passivo Atuarial: | C40: ( = ) | D40: =SUM(D34:D35)-D38 -> 806024.72 | E40: =SUM(E34:E35)-E38 -> 927349.8 | F40: =SUM(F34:F35)-F38 -> 202726.06 | G40: =SUM(G34:G35)-G38 -> 400263.97 | H40: =SUM(H34:H35)-H38 -> 259098.83 | I40: =SUM(I34:I35)-I38 -> 1607922.2 | J40: =SUM(J34:J35)-J38 -> 531729.59 | K40: =SUM(K34:K35)-K38 -> 328518.26 | ... O40: =SUM(O34:O35)-O38 -> 0 | P40: =SUM(D40:O40) -> 6388204.6
B41: Progressão do Déficit no período | E41: =D40+E40 -> 1733374.5 | F41: =E41+F40 -> 1936100.6 | G41: =F41+G40 -> 2336364.5 | H41: =G41+H40 -> 2595463.4 | I41: =H41+I40 -> 4203385.6 | J41: =I41+J40 -> 4735115.2 | K41: =J41+K40 -> 5063633.5 | L41: =K41+L40 -> 5470748.7 | M41: =L41+M40 -> 6388204.6 | ... O41: =N41+O40 -> 6388204.6
B43: Rendimentos Líquidos Auferidos do Período: | D43: =170931.46-130848.46 -> 40083 | E43: =346111.52-258485.56 -> 87625.96 | F43: =619278.08-40324.34 -> 578953.74 | G43: =416112.89-137141.35 -> 278971.54 | H43: 443844.93 | I43: =389536.32-25254.89 -> 364281.43 | J43: =281732.76-48232.86 -> 233499.9 | K43: =349748.56-6010.28 -> 343738.28 | L43: =437508.32-47945.81 -> 389562.51 | M43: =618359.36 -> 618359.36 | P43: =SUM(D43:O43) -> 3378920.6 | Q43: =(4073164.2-694243.55)-P43 -> 0
