Workbook

Sheet RREO
A1: Prefeitura Municipal de Cacapava do Sul - RS
A2: Relatório Resumido da Execução Orçamentária
A3: Demonstrativo Simplificado do Relatório Resumido da Execução Orçamentária
A4: Orçamentos Fiscal e da Seguridade Social
A5: Janeiro a Abril 2022/Bimestre Março-Abril
A6: RREO - Anexo 14 (LRF, Art. 48) | F6: Em Reais
A7: BALANÇO ORÇAMENTÁRIO | D7: Até o bimestre
A8: RECEITAS
B9: Previsão Inicial | D9: 1.802075e+08
B10: Previsão Atualizada | D10: 1.8075302e+08
B11: Receitas Realizadas | D11: 55793266
B12: Déficit Orçamentário | D12: -
B13: Saldos de Exercícios Anteriores(Utilizados para Créditos Adicionais) | D13: 2238985.5
A14: DESPESAS
B15: Dotação Inicial | D15: 1.6669814e+08
B16: Dotação Atualizada | D16: 1.7022567e+08
B17: Despesas Empenhadas | D17: 55310851
B18: Despesas Liquidadas | D18: 48032222
B19: Despesas Pagas | D19: 43048471
B20: Superávit Orçamentário | D20: 7761043.7
A22: DESPESAS POR FUNÇÃO/SUBFUNÇÃO | D22: Até o bimestre
A23: Despesas Empenhadas | D23: 55310851
A24: Despesas Liquidadas | D24: 48032222
A26: RECEITA CORRENTE LÍQUIDA - RCL¹ | D26: Até o bimestre
A27: Receita Corrente Líquida | D27: 1.2139703e+08
A28: Receita Corrente Líquida Ajustada para Cálculo dos Limites de Endividamento | D28: 1.2001703e+08
A29: Receita Corrente Líquida Ajustada para Cálculo dos Limites da Despesa com Pessoal | D29: 1.2001703e+08
A31: RECEITAS E DESPESAS DO REGIME PRÓPRIO DE PREVIDÊNCIA DOS SERVIDORES | D31: Até o bimestre
A32: Fundo em Capitalização (PLANO PREVIDENCIÁRIO)
B33: Receitas Previdenciárias Realizadas | D33: 6375272.2
B34: Despesas Previdenciárias Empenhadas | D34: 8781306.6
B35: Despesas Previdenciárias Liquidadas | D35: 8781306.6
B36: Despesas Previdenciárias Pagas | D36: 8779411.6
B37: Resultado Previdenciário | D37: -2406034.4
A38: Fundo em Repartição (PLANO FINANCEIRO)
B39: Receitas Previdenciárias Realizadas | D39: 0
B40: Despesas Previdenciárias Empenhadas | D40: 0
B41: Despesas Previdenciárias Liquidadas | D41: 0
B42: Despesas Previdenciárias Pagas | D42: 0
B43: Resultado Previdenciário | D43: 0
...

Sheet RGF
A2: PREFEITURA MUNICIPAL DE CACAPAVA DO SUL - RS - PODER EXECUTIVO
A3: RELATÓRIO DE GESTÃO FISCAL
A4: DEMONSTRATIVO SIMPLIFICADO DO RELATÓRIO DE GESTÃO FISCAL
A5: ORÇAMENTOS FISCAL E DA SEGURIDADE SOCIAL
A6: 1º QUADRIMESTRE DE 2022
A8: LRF, Art. 48 - Anexo 6 | C8: R$ 1,00
A9: RECEITA CORRENTE LÍQUIDA | B9: VALOR ATÉ O QUADRIMESTRE/SEMESTRE
A10: Receita Corrente líquida | B10: 1.2139703e+08
A11: Receita Corrente Líquida Ajustada para Cálculo dos Limites de Endividamento | B11: 1.2001703e+08
A12: Receita Corrente Líquida Ajustada para Cálculo dos Limites da Despesa com Pessoal | B12: 1.2001703e+08
A14: DESPESA COM PESSOAL | B14: VALOR | C14: % SOBRE A RCL AJUSTADA
A15: Despesa Total com Pessoal DTP | B15: 76709830 | C15: =(B15/B12)*100 -> 63.915785
A16: Limite Máximo (incisos I,II e III, art. 20 da LRF) - 54,00% | B16: =B12*0.54 -> 64809199 | C16: 54
A17: Limite Prudencial (§ único, art. 22 da LRF) - 51,30% | B17: =B12*0.513 -> 61568739 | C17: 51.3
A18: Limite de Alerta (inciso II do §1º do art. 59 da LRF) - 48,60% | B18: =B12*0.486 -> 58328279 | C18: 48.6
A20: DÍVIDA CONSOLIDADA | B20: VALOR ATÉ O QUADRIMESTRE DE REFERÊNCIA | C20: % SOBRE A RCL AJUSTADA
A21: Dívida Consolidada Líquida¹ | B21: (19.985.370,72) | C21: (15,89)
A22: Limite Definido por Resolução do Senado Federal | B22: 0 | C22: 0
A24: GARANTIAS DE VALORES | B24: VALOR ATÉ O QUADRIMESTRE DE REFERÊNCIA | C24: % SOBRE A RCL AJUSTADA
A25: Total das Garantias Concedidas | B25: 0 | C25: 0
A26: Limite Definido por Resolução do Senado Federal | B26: 0 | C26: 0
A28: OPERAÇÕES DE CRÉDITO | B28: VALOR | C28: % SOBRE A RCL AJUSTADA
A29: Operações de Crédito Internas e Externas | B29: 0 | C29: 0
A30: Limite Definido pelo Senado Federal para Operações de
A31: Crédito Externas e Internas | B31: 0 | C31: 0
A32: Operações de Crédito por Antecipação da Receita | B32: 0 | C32: 0
A33: Limite Definido pelo Senado Federal para Operações de
A34: Crédito por Antecipação da Receita | B34: 0 | C34: 0
A35: ¹Fonte: SIAFIC
A40: Giovani Amestoy da Silva | B40: Ihoko Nakashima Mota | C40: Arlei Lopes Souza
A41: Prefeito Municipal | B41: Secret. de Município da Fazenda | C41: Contador - CRC/RS: 068452/O-6

Sheet Restos
A2: Prefeitura Municipal de Cacapava do Sul - RS
A3: Relatório Resumido da Execução Orçamentária
A4: Demonstrativo dos Restos a Pagar por Poder e Órgão
A5: Orçamentos Fiscal e da Seguridade Social
A6: Janeiro a Abril 2022/Bimestre Março-Abril
A8: RREO - ANEXO 7 (LRF, art.53, inciso V) | M8: R$ 1,00
A9: PODER/ÓRGÃO | B9: RESTOS A PAGAR PROCESSADOS | G9: RESTOS A PAGAR NÃO PROCESSADOS | M9: Saldo Total
B11: Inscritos | D11: Pagos | E11: Cancelados | F11: Saldo | G11: Inscritos | I11: Liquidados | J11: Pagos | K11: Cancelados | L11: Saldo
B12: Em Exercícios | C12: Em 31 de | G12: Em Exercícios | H12: Em 31 de
B13: Anteriores | C13: dezembro de 2021 | G13: Anteriores | H13: dezembro de 2021
B14: (a) | C14: (b) | D14: (c) | E14: (d) | F14: e=(a+b)-(c+d) | G14: (f) | H14: (g) | I14: (h) | J14: (i) | K14: (j) | L14: k=(f+g)-(i+j) | M14: L=(e+k)
A15: RESTOS A PAGAR(EXCETO INTRA-ORÇAMENTÁRIOS) (I) | B15: 1359877.9 | C15: 4179911.1 | D15: 3481157.4 | E15: 18354.52 | F15: 2040277.1 | G15: 1319811.2 | H15: 1831554.7 | I15: 725684.99 | J15: 691261.35 | K15: 36 | L15: 2460068.6 | M15: 4500345.7
A16: PODER EXECUTIVO | B16: 1359877.9 | C16: 4177488.5 | D16: 3478734.8 | E16: 18354.52 | F16: 2040277.1 | G16: 1319811.2 | H16: 1831554.7 | I16: 725684.99 | J16: 691261.35 | K16: 36 | L16: 2460068.6 | M16: 4500345.7
A17: PODER LEGISLATIVO | B17: 0 | C17: 2422.58 | D17: 2422.58 | E17: 0 | F17: 0 | G17: 0 | H17: 0 | I17: 0 | J17: 0 | K17: 0 | L17: 0 | M17: 0
A18: CAMARA MUNICIPAL CACAPAVA DO SUL | B18: 0 | C18: 2422.58 | D18: 2422.58 | E18: 0 | F18: 0 | G18: 0 | H18: 0 | I18: 0 | J18: 0 | K18: 0 | L18: 0 | M18: 0
A19: RESTOS A PAGAR(INTRA-ORÇAMENTÁRIOS) (II) | B19: 18226475 | C19: 1564234.9 | D19: 2347582.4 | E19: 0 | F19: 17443127 | G19: 0 | H19: 0 | I19: 0 | J19: 0 | K19: 0 | L19: 0 | M19: 17443127
A20: PODER EXECUTIVO | B20: 18226475 | C20: 1564234.9 | D20: 2347582.4 | E20: 0 | F20: 17443127 | G20: 0 | H20: 0 | I20: 0 | J20: 0 | K20: 0 | L20: 0 | M20: 17443127
A21: TOTAL (III) = (I+II) | B21: 19586353 | C21: 5744146 | D21: 5828739.8 | E21: 18354.52 | F21: 19483404 | G21: 1319811.2 | H21: 1831554.7 | I21: 725684.99 | J21: 691261.35 | K21: 36 | L21: 2460068.6 | M21: 21943473

Sheet RCL
B1: DEMONSTRATIVO DA RECEITA CORRENTE LÍQUIDA | E1: INSTRUÇÃO NORMATIVA nº 18/2021 - TCE/RS. | H1: Página: 1/2 | I1: DEMONSTRATIVO DA RECEITA CORRENTE LÍQUIDA | M1: INSTRUÇÃO NORMATIVA nº 18/2021 - TCE/RS. | U1: Página: 2/2
C2: TOTAIS: | D2: 44652 | E2: 44621 | F2: 44593 | G2: 44562 | H2: 44531 | I2: 44501 | J2: 44470 | K2: 44440 | L2: 44409 | M2: 44378 | N2: 44348 | O2: 44317
A3: Lei Complementar Federal Nº 101/2000 - Inciso I do Artigo 53 | D3: 12º Mês | E3: 11º mês | F3: 10º Mês | G3: 09º mês | H3: 08º Mês | I3: 07º mês | J3: 06º Mês | K3: 05º Mês | L3: 04º Mês | M3: 03º Mês | N3: 02º Mês | O3: 01º Mês
A4: Discriminação | B4: Códificação: | C4: =SUM(D4:O4) -> 0
A5: I - RECEITAS CORRENTES | C5: =SUM(D5:O5) -> 1.3283034e+08 | D5: =D6-D7 -> 11103679 | E5: =E6-E7 -> 11527853 | F5: =F6-F7 -> 11080172 | G5: =G6-G7 -> 11182975 | H5: =H6-H7 -> 16377827 | I5: =I6-I7 -> 11336688 | J5: =J6-J7 -> 11215125 | K5: =K6-K7 -> 8599619.9 | ... O5: =O6-O7 -> 9932379.9
A6: Receitas Correntes | B6: 1.0.0.0.0.00.00.00 | C6: =SUM(D6:O6) -> 1.4989131e+08 | D6: 12445411 | E6: 12688906 | F6: 12723514 | G6: =12843050.92 -> 12843051 | H6: =18101953.5 -> 18101954 | I6: =12785520.99 -> 12785521 | J6: 13127308 | K6: 9720598.5 | L6: =10728421.86 -> 10728422 | M6: 13657496 | N6: =9968466.03 -> 9968466 | O6: 11100660
A7: (R) Deduções das Receitas Correntes | B7: 9.1.0.0.0.00.0.0.00.00.00.00 | C7: =SUM(D7:O7) -> 17060964 | D7: 1341731.5 | E7: =1161052.43 -> 1161052.4 | F7: =1643342.67 -> 1643342.7 | G7: =1660076.16 -> 1660076.2 | H7: =1724126.79 -> 1724126.8 | I7: =1448833.1 -> 1448833.1 | J7: 1912183 | K7: =1120978.6 -> 1120978.6 | L7: =1318639.3 -> 1318639.3 | M7: 1463590.1 | N7: =1098129.55 -> 1098129.6 | O7: =1168280.37 -> 1168280.4
A8: II - DEDUÇÕES | C8: =SUM(D8:O8) -> 11433309 | D8: =SUM(D9:D30) -> 1160163.1 | E8: =SUM(E9:E30) -> 1446121.9 | F8: =SUM(F9:F30) -> 798750.24 | G8: =SUM(G9:G30) -> 669486.65 | H8: =SUM(H9:H30) -> 1700784.6 | I8: =SUM(I9:I30) -> 1208448.2 | J8: =SUM(J9:J30) -> 758296.16 | K8: =SUM(K9:K30) -> 789004.97 | ... O8: =SUM(O9:O30) -> 853276.06
A9: Ativos/Inativos Poder Executivo/Indiretas | B9: 1.1.1.3.03.1.1.01 | C9: =SUM(D9:O9) -> 0
A10: Ativos/Inativos Poder Legislativo | B10: 1.1.1.3.03.1.1.02 | C10: =SUM(D10:O10) -> 0
A11: Contribuições para Custeio dos Sistemas Previdenciário e Assistencial
A12: Contribuições Sociais Específicas de Estados, DF e Municípios | B12: 1.2.1.8.00.0.0.00.00.00
A13: Contribuição para o RPPS do Servidor Público | B13: 1.2.1.8.01 | C13: =SUM(D13:O13) -> 5363113.9 | D13: =396941.18+122332.93+8653.19 -> 527927.3 | E13: =399169.03+121136.46+9403.71 -> 529709.2 | F13: =308768.59+87226.15+5073.55 -> 401068.29 | G13: =234624.7+88797.03+5451.67 -> 328873.4 | H13: =653486.68+91787.64+94059.92 -> 839334.24 | I13: =293422.03+89308.42+5470.32 -> 388200.77 | J13: =293539.42+89308.42+5470.32 -> 388318.16 | K13: =299513.45+89308.42+5470.32 -> 394292.19 | L13: =294469.34+89696.81+5886.79 -> 390052.94 | M13: =296366.8+88943.6+5398.89 -> 390709.29 | N13: =298472.38+5398.89+88625.3 -> 392496.57 | O13: =298361.17+88371.47+5398.89 -> 392131.53
A14: Contribuição Social para o Financiamento da Seguridade Social | B14: 1.2.1.9.99.1.1.03 e .04 | C14: =SUM(D14:O14) -> 1660976.8 | D14: =89933.51+64765.37 -> 154698.88 | E14: =88953.59+64175.16-64.35 -> 153064.4 | F14: =75311.11+55781.06 -> 131092.17 | G14: =86934.48+53366.32 -> 140300.8 | H14: =78489.05+53390.9 -> 131879.95 | I14: =79522.33+53379.19 -> 132901.52 | J14: =97373.51+54029.42 -> 151402.93 | K14: =78297.89+53855.24 -> 132153.13 | L14: =79675.55+54607.44 -> 134282.99 | M14: =79600.29+53390.39 -> 132990.68 | N14: =80247.08+53261.04 -> 133508.12 | O14: =79557.62+53143.65 -> 132701.27
A15: Compensação Previdenciária ao RPPS | C15: =SUM(D15:O15) -> 0
A16: Compensação Financeira entre o Regime Geral e os Regimes Próprios de Previdência dos Servidores (312) | B16: 1.9.9.0.03.1.1.00.00.00 | C16: =SUM(D16:O16) -> 556198.91 | D16: 46260.45 | E16: 46260.45 | F16: =41994.23 -> 41994.23 | G16: =41994.23 -> 41994.23 | H16: 90184.06 | I16: =41374.67 -> 41374.67 | J16: 41374.67 | K16: 41374.67 | L16: =41374.67 -> 41374.67 | M16: 41374.67 | N16: 41374.67 | O16: =41257.47 -> 41257.47
A17: Receitas do RPPS - Remuneração e Outras Receitas | C17: =SUM(D17:O17) -> 0
A18: Remuneração dos Recurso do Regime Próprio de Previdências Social - RPPS (1) | B18: 1.3.2.1.00.4.0.00.00.00 | C18: =SUM(D18:O18) -> 2240565.9 | D18: =416112.89-137141.35 -> 278971.54 | E18: =619278.08 -> 619278.08 | F18: =346111.52-258485.56 -> 87625.96 | G18: =170931.46-130848.46 -> 40083 | H18: =468274.43 -> 468274.43 | I18: =559892.02-(2703.66+30050.01) -> 527138.35 | J18: =356724.71-334520.02 -> 22204.69 | K18: =207190.52-117856.34 -> 89334.18 | L18: =93050.89-139895.26 -> -46844.37 | M18: =73898.94-87402.27 -> -13503.33 | N18: =48213.11-50509.62 -> -2296.51 | O18: =196118.17-25818.29 -> 170299.88
A19: Outras Receitas Receitas Diretamente Arrecadadas pelo RPPS (1.2.1.8.03.1.1) 8 | B19: 1.9.9.0.99.1.X.01.00.00 | C19: =SUM(D19:O19) -> 23359.74 | D19: 2761.09 | F19: 2761.09 | H19: 12818.13 | M19: 1056.75 | N19: 1981.34 | O19: 1981.34
A20: Receitas do Fundo de Assistência Social Social dos Servidores | B20: 1.3.2.1.00.1.1.01.10 | C20: =SUM(D20:O20) -> 0
A21: Remuneração de Depósitos Bancários de Recursos Vinculados - Fundo de Assistência Social | B21: 1.3.2.1.00.1.X.01.09
A22: Receitas Diretamente Arrecadadas pelo Fundo de Assistência Social dos Servidores | B22: 1.9.9.0.99.1.X.02.00.00 | C22: =SUM(D22:O22) -> 0
A23: Receitas do Fundo de Assistência à Saúde do Servidor | C23: =SUM(D23:O23) -> 0
A24: Remuneração de Depósito Bancários de Recursos Vínculados - Fundo de Assistência à Saúde do Servidor (341) | B24: 1.3.2.1.00.1.X.01.10.00 | C24: =SUM(D24:O24) -> 62368.47 | D24: =11006.74 -> 11006.74 | E24: 10154.58 | F24: 8239.47 | G24: =2785.15 -> 2785.15 | H24: =7750.51 -> 7750.51 | I24: =3451.15 -> 3451.15 | J24: 3251.51 | K24: 3466.3 | L24: =3240.91 -> 3240.91 | M24: =2716.37 -> 2716.37 | N24: =3681.13 -> 3681.13 | O24: =2624.65 -> 2624.65
A25: Receitas Diretamente Arrecadadas pelo Fundo de Assistência à Saúde dos Servidores (198) | B25: 1.9.9.0.99.1.X.03.00.00 | C25: =SUM(D25:O25) -> 1526725.4 | D25: =138537.11 -> 138537.11 | E25: =127979.54-40324.34 -> 87655.2 | F25: 125969.03 | G25: =115450.07 -> 115450.07 | H25: =150593.31-50 -> 150543.31 | I25: =115381.72 -> 115381.72 | J25: 151744.2 | K25: =128384.5 -> 128384.5 | L25: =150351.34-122.28 -> 150229.06 | M25: =123275.42 -> 123275.42 | N25: =127275.83 -> 127275.83 | O25: =112279.92 -> 112279.92
A26: Outras Contribuições Sociais | C26: =SUM(D26:O26) -> 0
A27: Outras Contribuições Sociais (1) | B27: 1.2.1.9.00.0.0.00.00.00 | C27: =SUM(D27:O27) -> 0
A28: ( - ) Compensação Previdenciárfia à Prefeitura Municipal | B28: (1.2.1.9.99.1.X.01.00.00) | C28: =SUM(D28:O28) -> 0
A29: ( - ) Contribuição dos Inativos e Pensionistas à Prefeitura Municipal | B29: (1.2.1.9.99.1.X.02.00.00) | C29: =SUM(D29:O29) -> 0
A30: ( R ) Todas as contas dedutoras de receita correspondentes às utilizadas acima | C30: =SUM(D30:O30) -> 0
A31: III - SUBTOTAL (III = I - II) | C31: =SUM(D31:O31) -> 1.2139703e+08 | D31: =D5-D8 -> 9943516.2 | E31: =E5-E8 -> 10081732 | F31: =F5-F8 -> 10281421 | G31: =G5-G8 -> 10513488 | H31: =H5-H8 -> 14677042 | I31: =I5-I8 -> 10128240 | J31: =J5-J8 -> 10456829 | K31: =K5-K8 -> 7810614.9 | ... O31: =O5-O8 -> 9079103.9
A32: IV - ( + ) Perda para o FUNDEB | C32: =SUM(D32:O32) -> 0
A33: V - RECEITA CORRENTE LÍQUIDA (V = III + V) | C33: =SUM(D33:O33) -> 1.2139703e+08 | D33: =D31+D32 -> 9943516.2 | E33: =E31+E32 -> 10081732 | F33: =F31+F32 -> 10281421 | G33: =G31+G32 -> 10513488 | H33: =H31+H32 -> 14677042 | I33: =I31+I32 -> 10128240 | J33: =J31+J32 -> 10456829 | K33: =K31+K32 -> 7810614.9 | ... O33: =O31+O32 -> 9079103.9
A34: VI - Valor das Emendas Parlamentares de Individuais | C34: =SUM(D34:O34) -> 1030000 | D34: 50000 | I34: 100000 | J34: =880000 -> 880000
A35: VII - RECEITA CORRENTE LÍQUIDA Endividamento) (VIII = V - VI) | C35: =SUM(D35:O35) -> 1.2036703e+08 | D35: =D33-D34 -> 9893516.2 | E35: =E33-E34 -> 10081732 | F35: =F33-F34 -> 10281421 | G35: =G33-G34 -> 10513488 | H35: =H33-H34 -> 14677042 | I35: =I33-I34 -> 10028240 | J35: =J33-J34 -> 9576828.8 | K35: =K33-K34 -> 7810614.9 | ... O35: =O33-O34 -> 9079103.9
A36: VIII - Valor das Emendas Parlamentares de Bancada | C36: =SUM(D36:O36) -> 350000 | M36: 350000
A37: IX - RECEITA CORRENTE LIQUIDA (Despesas com Pessoal) (IX = VII - VIII) | C37: =SUM(D37:O37) -> 1.2001703e+08 | D37: =D35-D36 -> 9893516.2 | E37: =E35-E36 -> 10081732 | F37: =F35-F36 -> 10281421 | G37: =G35-G36 -> 10513488 | H37: =H35-H36 -> 14677042 | I37: =I35-I36 -> 10028240 | J37: =J35-J36 -> 9576828.8 | K37: =K35-K36 -> 7810614.9 | ... O37: =O35-O36 -> 9079103.9
A38: Fonte da Metodologia TCE/RS. (OBS.: Foi deduzidos os valores das Emendas Parlamentares) | C38: 1.2001703e+08 | D38: =9943516.24-D37 -> 50000 | E38: =10081731.52-E37 -> 0 | F38: =10281421.26-F37 -> 0 | G38: =10513488.11-G37 -> 0 | H38: =14677042.08-H37 -> 0 | I38: =10128239.71-I37 -> 100000 | J38: =10456828.75-J37 -> 880000 | K38: =7810614.92-K37 -> 0 | L38: =8737446.36-L37 -> 0 | M38: =11515286.49-M37 -> 350000 | N38: =8172315.33-N37 -> 0 | O38: =9079103.88-O37 -> 0
A39: ( 1 ) A Natureza de Receita 1.2.9.99.1.0.00.00.00 - Demais Contribuições Socias deverá ser detalhada conforme a necessidade do Orgão para a contabilização das contribuições para Fundos de Assitência Médica dos Servidores Municipais.
A40: ( 2 ) Valor correspondente à Soma das Receitas Arrecadadas no período com os complementos de recurso vínculado código 3110 - transferências da União decorrentes de Emendas Pralamentares Individuais e 3410 - TransferÊncias da União decorrentes de Emndas Parlamentares Individuais - COVID-19.
...

Sheet DCLP
B1: Modelo 2 - Demonstrativo da Despesa com Pessoal | H1: INSTRUÇÃO NORMATIVA nº 18/2021 - TCE/RS. | K1: Página: 1/2 | M1: Modelo 2 - Demonstrativo da Despesa com Pessoal | R1: INSTRUÇÃO NORMATIVA nº 18/2021 - TCE/RS. | W1: Página: 2/2
A2: Lei Complementar Federal nº 101/2000, artigo 54 e alínea "a" do inciso I do artigo 55
A3: Despesa Líquidada | B3: 9000 - Prefeitura e Fundos: | H3: Total dos últimos | I3: =RCL!D2 -> 44652 | J3: =RCL!E2 -> 44621 | K3: =RCL!F2 -> 44593 | L3: =RCL!G2 -> 44562 | M3: =RCL!H2 -> 44531 | N3: =RCL!I2 -> 44501 | O3: =RCL!J2 -> 44470 | P3: =RCL!K2 -> 44440 | ... T3: =RCL!O2 -> 44317
A4: Discriminação | B4: Detalhamento: | G4: Codificação: | H4: 12 meses | I4: 12º Mês | J4: 11º mês | K4: 10º Mês | L4: 9º Mês | M4: 8º Mês | N4: 7º Mês | O4: 6º Mês | P4: 5º Mês | Q4: 4º Mês | R4: 3º Mês | S4: 2º Mês | T4: 1º Mês
A5: I - NATUREZA DE DESPESA | H5: =SUM(I5:T5) -> 1.0320643e+08 | I5: =I6+I7 -> 9800939.4 | J5: =J6+J7 -> 9594937.9 | K5: =K6+K7 -> 9521282 | L5: =L6+L7 -> 7830866.4 | M5: =M6+M7 -> 15244094 | N5: =N6+N7 -> 7378248.6 | O5: =O6+O7 -> 7307481.9 | P5: =P6+P7 -> 7201087.4 | ... T5: =T6+T7 -> 7278817.8
A6: Pessoal e encargos sociais | G6: 3.1.00.00.00.00 | H6: =SUM(I6:T6) -> 102026304 | I6: 9800939.4 | J6: =9512897.79 -> 9512897.8 | K6: 9453129.2 | L6: 7753844.4 | M6: =15177341.49 -> 15177341 | N6: =7311846.31 -> 7311846.3 | O6: 7235984.9 | P6: =7106261.44 -> 7106261.4 | Q6: =7167386.63 -> 7167386.6 | R6: =7526337.83-236922.78 -> 7289415 | S6: =7170867.52 -> 7170867.5 | T6: =7046389.84 -> 7046389.8
A7: Outras Despesas de Pessoal de Contratos de Terceirização - Substituição de mão de obra (art. 18, § 1º da LRF) | G7: 3.3.XX.34.01.00 | H7: =SUM(I7:T7) -> 1180123.9 | J7: =82040.1 -> 82040.1 | K7: =68152.8 -> 68152.8 | L7: 77022 | M7: =66752.4 -> 66752.4 | N7: =66402.3 -> 66402.3 | O7: 71497 | P7: =94826 -> 94826 | Q7: =123858.67 -> 123858.67 | R7: 168520.14 | S7: =128624.5 -> 128624.5 | T7: =232428 -> 232428
A8: II - DEDUÇÕES | H8: =SUM(I8:T8) -> 26935096 | I8: =SUM(I10:I19) -> 2390980.4 | J8: =SUM(J10:J19) -> 2528661.3 | K8: =SUM(K10:K19) -> 2297658.2 | L8: =SUM(L10:L19) -> 2001789.7 | M8: =SUM(M10:M19) -> 3828455.8 | N8: =SUM(N10:N19) -> 2029057.4 | O8: =SUM(O10:O19) -> 1934118.1 | P8: =SUM(P10:P19) -> 1937387.8 | ... T8: =SUM(T10:T19) -> 1894472.9
A10: Aposentadoria do RPPS, Reserva Remunerada e Reformas dos Militares (com recursos do RPPS) | G10: 3.1.90.01 | H10: =SUM(I10:T10) -> 22585996 | I10: 2019475.9 | J10: =2016240.3 -> 2016240.3 | K10: =1994589.15 -> 1994589.1 | L10: 1730656.3 | M10: =3278600.89 -> 3278600.9 | N10: =1652874.5 -> 1652874.5 | O10: 1651696.4 | P10: =1649833.24 -> 1649833.2 | Q10: =1648483.54 -> 1648483.5 | R10: 1652132.2 | S10: =1649294.67 -> 1649294.7 | T10: =1642118.8 -> 1642118.8
A12: Pensões do RPPS e do Militar (com Recursos do RPPS) | G12: 3.1.90.03 | H12: =SUM(I12:T12) -> 2957873.4 | I12: 267062.41 | J12: 262246.5 | K12: =266900.34 -> 266900.34 | L12: 224135.64 | M12: =425586.98 -> 425586.98 | N12: =213881.89 -> 213881.89 | O12: 214871 | P12: =214871 -> 214871 | Q12: =214871 -> 214871 | R12: 231683.43 | S12: =210844.25 -> 210844.25 | T12: =210918.91 -> 210918.91
H13: =SUM(I13:T13) -> 0
A14: Sentenças Judiciais | G14: 3.1.X.X.91 | H14: =SUM(I14:T14) -> 74103.87 | I14: 1613.61 | J14: =1613.61 -> 1613.61 | K14: =1613.61 -> 1613.61 | L14: 1396.82 | M14: 53381.19 | N14: 1335.92 | O14: 6469.51 | P14: =1335.92 -> 1335.92 | Q14: =1335.92 -> 1335.92 | R14: =1335.92 -> 1335.92 | S14: =1335.92 -> 1335.92 | T14: =1335.92 -> 1335.92
A16: Despesas de Exercícios Anteriores | G16: 3.1.90.92 | H16: =SUM(I16:T16) -> 24599.13 | L16: 24599.13
A18: Indenizações e Restituições Trabalhistas | G18: 3.1.9.0.94 | H18: =SUM(I18:T18) -> 1292523.7 | I18: 102828.5 | J18: =248560.87 -> 248560.87 | K18: =34555.15 -> 34555.15 | L18: 21001.8 | M18: =70886.76 -> 70886.76 | N18: =160965.04 -> 160965.04 | O18: 61081.18 | P18: =71347.66 -> 71347.66 | Q18: 57646.67 | R18: 268499.77 | S18: =155051.03 -> 155051.03 | T18: =40099.27 -> 40099.27
H19: =SUM(I19:T19) -> 0
A20: III - TOTAL DAS NATUREZAS DE DESPESA (I - II) | H20: =SUM(I20:T20) -> 76271332 | I20: =I5-I8 -> 7409959 | J20: =J5-J8 -> 7066276.6 | K20: =K5-K8 -> 7223623.7 | L20: =L5-L8 -> 5829076.7 | M20: =M5-M8 -> 11415638 | N20: =N5-N8 -> 5349191.3 | O20: =O5-O8 -> 5373363.8 | P20: =P5-P8 -> 5263699.6 | ... T20: =T5-T8 -> 5384344.9
A21: Recursos para cobertura de Insuficências Financeiras | G21: 3.5.1.3.2.01.01 | H21: =SUM(I21:T21) -> 0
A22: Recursos para cobertura de Déficit Financeiro | G22: 3.5.1.3.2.02.01 | H22: =SUM(I22:T22) -> 0
A23: IV - TOTAL DAS CONTAS PATRIMONIAIS | H23: =SUM(I23:T23) -> 0 | I23: =SUM(I21:I22) -> 0 | J23: =SUM(J21:J22) -> 0 | K23: =SUM(K21:K22) -> 0 | L23: =SUM(L21:L22) -> 0 | M23: =SUM(M21:M22) -> 0 | N23: =SUM(N21:N22) -> 0 | O23: =SUM(O21:O22) -> 0 | P23: =SUM(P21:P22) -> 0 | ... T23: =SUM(T21:T22) -> 0
A24: Cálculo Despesa c/ Pessoal 1º e 2º Quadrimestre/1º Semestre: Emp. Não Liquidados | B24: Cálculo das contas das naturezas de despesas de pessoal dos Itens I e II | H24: =SUM(I24:T24) -> 611445.1 | I24: =9788563.69-I5 -> -12375.74 | J24: =9623865.53-J5 -> 28927.64 | K24: =9465877.22+649785.6-K5 -> 594380.86 | L24: =7754356.74+77022-L5 -> 512.34
A25: Cálculo Despesa c/ Pessoal 3º Quadrimestre/2º Semestre: Restos a Pagar Não Processados | B25: Cálculo das contas das naturezas de despesas de pessoal dos Itens I e II | H25: =SUM(I25:T25) -> -172946.88 | M25: =(15143005.9-M6)+(-1283.7-M7) -> -102371.69 | N25: =(7288911.42+134438.4)-(N6+N7) -> 45101.21 | O25: =(7229419.31+71497)-(O6+O7) -> -6565.63 | P25: =(7097448.16+94826)-(P6+P7) -> -8813.28 | Q25: =(7157933.11+123858.67)-(Q6+Q7) -> -9453.52 | R25: =(7280601.77+109820.64)-(R6+R7) -> -67512.78 | S25: =7154869.31-(S6+S66) -> -15998.21 | T25: =(7045109.36-T6+355000-T7)-128624.5 -> -7332.98
A26: V - TOTAL DOS EMPENHOS NÃO LÍQUIDADOS - RESTOS A PAGAR NÃO PROCESSADOS | H26: =SUM(I26:T26) -> 438498.22 | I26: =SUM(I24:I25) -> -12375.74 | J26: =SUM(J24:J25) -> 28927.64 | K26: =SUM(K24:K25) -> 594380.86 | L26: =SUM(L24:L25) -> 512.34 | M26: =SUM(M24:M25) -> -102371.69 | N26: =SUM(N24:N25) -> 45101.21 | O26: =SUM(O24:O25) -> -6565.63 | P26: =SUM(P24:P25) -> -8813.28 | ... T26: =SUM(T24:T25) -> -7332.98
B27: Informação da Execução do Consórcio p/ consolidação - maio a Dez | G27: 8.5.3.2.4.01.01 | H27: =SUM(I27:T27) -> 0
A28: Contas Aplicáveis ao 1º Quadrimestre (1) | B28: Informação da Execução do Consórcio p/ consolidação - Exercício atual - 1º Bimestre | G28: 8.5.3.2.4.02.01 | H28: =SUM(I28:T28) -> 0
B29: Informação da Execução do Consórcio p/ consolidação - Exercício atual - 2º Bimestre | G29: 8.5.3.2.4.02.02 | H29: =SUM(I29:T29) -> 0
B30: Informação da Execução do Consórcio p/ consolidação - julho a Dez | G30: 8.5.3.2.4.01.02 | H30: =SUM(I30:T30) -> 0
A31: Contas Aplicáveis ao 1º Semestre (1) | B31: Informação da Execução do Consórcio p/ consolidação - Exercício atual - 1º Bimestre | G31: 8.5.3.2.4.02.01 | H31: =SUM(I31:T31) -> 0
B32: Informação da Execução do Consórcio p/ consolidação - Exercício atual - 2º Bimestre | G32: 8.5.3.2.4.02.02 | H32: =SUM(I32:T32) -> 0
B33: Informação da Execução do Consórcio p/ consolidação - Exercício atual - 3º Bimestre | G33: 8.5.3.2.4.02.03 | H33: =SUM(I33:T33) -> 0
B34: Informação da Execução do Consórcio p/ consolidação - Setembro a Dez | G34: 8.5.3.2.4.01.03 | H34: =SUM(I34:T34) -> 0
B35: Informação da Execução do Consórcio p/ consolidação - Exercício atual - 1º Bimestre | G35: 8.5.3.2.4.02.01 | H35: =SUM(I35:T35) -> 0
A36: Contas Aplicáveis ao 2º Quadrimestre (1) | B36: Informação da Execução do Consórcio p/ consolidação - Exercício atual - 2º Bimestre | G36: 8.5.3.2.4.02.02 | H36: =SUM(I36:T36) -> 0
B37: Informação da Execução do Consórcio p/ consolidação - Exercício atual - 3º Bimestre | G37: 8.5.3.2.4.02.03 | H37: =SUM(I37:T37) -> 0
B38: Informação da Execução do Consórcio p/ consolidação - Exercício atual - 4º Bimestre | G38: 8.5.3.2.4.02.04 | H38: =SUM(I38:T38) -> 0
B39: Informação da Execução do Consórcio p/ consolidação - Exercício atual - 1º Bimestre | G39: 8.5.3.2.4.02.01 | H39: =SUM(I39:T39) -> 0
B40: Informação da Execução do Consórcio p/ consolidação - Exercício atual - 2º Bimestre | G40: 8.5.3.2.4.02.02 | H40: =SUM(I40:T40) -> 0
A41: Contas Aplicáveis ao 3º Quadrimestre e ao 2º Semestre (1) | B41: Informação da Execução do Consórcio p/ consolidação - Exercício atual - 3º Bimestre | G41: 8.5.3.2.4.02.03 | H41: =SUM(I41:T41) -> 0
B42: Informação da Execução do Consórcio p/ consolidação - Exercício atual - 4º Bimestre | G42: 8.5.3.2.4.02.04 | H42: =SUM(I42:T42) -> 0
B43: Informação da Execução do Consórcio p/ consolidação - Exercício atual - 5º Bimestre | G43: 8.5.3.2.4.02.05 | H43: =SUM(I43:T43) -> 0
B44: Informação da Execução do Consórcio p/ consolidação - Exercício atual - 6º Bimestre | G44: 8.5.3.2.4.02.06 | H44: =SUM(I44:T44) -> 0
...

Sheet DCLP_RCL
C2: Evolução Mensal da Despesa Liquidada com Pessoal | J2: INSTRUÇÃO NORMATIVA nº 18/2021 - TCE/RS.
D4: =DCLP!I3 -> 44652 | E4: =DCLP!J3 -> 44621 | F4: =DCLP!K3 -> 44593 | G4: =DCLP!L3 -> 44562 | H4: =DCLP!M3 -> 44531 | I4: =DCLP!N3 -> 44501 | J4: =DCLP!O3 -> 44470 | K4: =DCLP!P3 -> 44440 | ... O4: =DCLP!T3 -> 44317
B5: TOTAIS DOS ÚLTIMOS 12 MESES | D5: 12º Mês | E5: 11º mês | F5: 10º Mês | G5: 9º Mês | H5: 8º Mês | I5: 7º Mês | J5: 6º Mês | K5: 5º Mês | L5: 4º Mês | M5: 3º Mês | N5: 2º Mês | O5: 1º Mês
B6: Despesa Liquida c/ Pessoal | C6: =(SUM(D6:O6)) -> 76709830 | D6: =DCLP!I46 -> 7397583.3 | E6: =DCLP!J46 -> 7095204.2 | F6: =DCLP!K46 -> 7818004.6 | G6: =DCLP!L46 -> 5829589 | H6: =DCLP!M46 -> 11313266 | I6: =DCLP!N46 -> 5394292.5 | J6: =DCLP!O46 -> 5366798.2 | K6: =DCLP!P46 -> 5254886.3 | ... O6: =DCLP!T46 -> 5377012
B7: Receita Corrente Líquida | C7: =SUM(D7:O7) -> 1.2001703e+08 | D7: =RCL!D37 -> 9893516.2 | E7: =RCL!E37 -> 10081732 | F7: =RCL!F37 -> 10281421 | G7: =RCL!G37 -> 10513488 | H7: =RCL!H37 -> 14677042 | I7: =RCL!I37 -> 10028240 | J7: =RCL!J37 -> 9576828.8 | K7: =RCL!K37 -> 7810614.9 | ... O7: =RCL!O37 -> 9079103.9
B8: Índice da DCLP s/ a RCL | C8: =C6/C7 -> 0.63915785 | D8: =D6/D7 -> 0.74772033 | E8: =E6/E7 -> 0.70376842 | F8: =F6/F7 -> 0.76040115 | G8: =G6/G7 -> 0.55448667 | H8: =H6/H7 -> 0.77081379 | I8: =I6/I7 -> 0.5379102 | J8: =J6/J7 -> 0.56039409 | ... O8: =O6/O7 -> 0.59224038
B9: Limite Máximo do Índice | C9: 0.54 | D9: 0.54 | E9: 0.54 | F9: 0.54 | G9: 0.54 | H9: 0.54 | I9: 0.54 | J9: 0.54 | K9: 0.54 | L9: 0.54 | M9: 0.54 | N9: 0.54 | O9: 0.54
B10: OBS.: | C10: No Valor da RCL foi deduzidos os valores das Emendandas Parlamentares do Período.
B53: Fonte: | C53: Demonstrativos apurados pela Contabilidade da Receita Corrente Realizada e da Despesa Líquidada Orçamentarias.
C57: Giovani Amestoy da Silva | F57: Ihoko Nakashima Mota | J57: Arlei Lopes Souza
C58: Prefeito Municipal | F58: Secret. de Município da Fazenda | J58: Contador - CRC/RS: 068452/O-6

Sheet AcompFAPS
A2: Aliquotas vigentes em 2021 do FAPS/RPPS | F2: ENTE | G2: SEGURADO | I2: Anos: | J2: 2021 | K2: 2022
F3: Normal | G3: Normal | I3: Suplementar: | J3: 0.33 | K3: 0.4
F4: 0.1999 | G4: 0.1184
G5: Média dos Segurados
F6: Período: | G6: 2021 | H6: 2021 | I6: 2022 | J6: 2023 | K6: 2024 | L6: 2025
F7: L. M. Nº 4167 de 04/08/2020 - Art. 4º - Aliquota do Passivo Atuarial. | G7: 0.33 | H7: 0.335 | I7: 0.4 | J7: 0.5 | K7: 0.74 | L7: 0.72
F8: L. M. Nº 4.244 de 22/07/2021 - Art. 4º - Aliquota do Passivo Atuarial.
B9: Ano: 2021 | D9: Janeiro | E9: Fevereiro | F9: Março | G9: Abril | H9: Maio | I9: Junho | J9: Julho | K9: Agosto | L9: Setembro | M9: Outubro | N9: Novembro | O9: Dezembro | P9: TOTAIS:
B10: Aportes Periodicos
A11: 7.9.9.0.01.1.1 | B11: Amortiz Deficit Atuarial | C11: 311 | D11: 646851.22 | E11: 1584309.8 | F11: 1110585.6 | G11: 1101862.1 | H11: =1041204.38 -> 1041204.4 | I11: 1041463.5 | J11: 1038282 | K11: 1036421.9 | L11: 1047813.3 | M11: 1031939.7 | N11: =1031371.47 -> 1031371.5 | O11: =2257142.6 -> 2257142.6 | P11: =SUM(D11:O11) -> 13969248 | Q11: =13969247.57-P11 -> 0
A12: 7.9.9.0.01.1.3 | B12: Deficit Atuarial - Div Ativa | C12: 320 | D12: 40013.54 | E12: 25467.31 | F12: =43738.35 -> 43738.35 | G12: 147124.29 | H12: =167667.79 -> 167667.79 | I12: 197063.87 | J12: 79480.33 | K12: 114330.75 | L12: 39881.89 | M12: 76483.03 | N12: =132426.56 -> 132426.56 | O12: =81964.99 -> 81964.99 | P12: =SUM(D12:O12) -> 1145642.7 | Q12: =1145642.7-P12 -> 0
B13: 1. Receitas Totais | D13: 1821306.7 | E13: 3418373.4 | F13: 2477692 | G13: 2713144.4 | H13: =2527081.2 -> 2527081.2 | I13: 2358458.2 | J13: 2342207.5 | K13: =2308046.36 -> 2308046.4 | L13: 2466047.5 | M13: 2370360.4 | N13: =2878589.87 -> 2878589.9 | O13: =5272665.5 -> 5272665.5 | P13: =SUM(D13:N13) -> 27681307 | Q13: =27681307.39-P13 -> 0
B14: 2. Total da Despesa Paga | D14: 1774960.3 | E14: 1892028.5 | F14: 1916270.8 | G14: 1847527.9 | H14: 1862823.2 | I14: =1860508.85 -> 1860508.9 | J14: 1888869.8 | K14: 1864374.6 | L14: =1864704.24 -> 1864704.2 | M14: 1868149.1 | N14: =1866454.01 -> 1866454 | O14: =3707726.11 -> 3707726.1 | P14: =SUM(D14:O14) -> 24214397 | Q14: =24214397.41-P14 -> 0
B15: 3. Resultado: 1. - 2. = | C15: (- ) | D15: =D13-D14 -> 46346.42 | E15: =E13-E14 -> 1526344.8 | F15: =F13-F14 -> 561421.16 | G15: =G13-G14 -> 865616.53 | H15: =H13-H14 -> 664258.01 | I15: =I13-I14 -> 497949.35 | J15: =J13-J14 -> 453337.71 | K15: =K13-K14 -> 443671.71 | ... O15: =O13-O14 -> 1564939.4 | P15: =SUM(D15:N15) -> 7174636.1
B17: Valor do déficit para cobertura do Passivo Atuarial: | C17: ( = ) | D17: =SUM(D11:D12)-D15 -> 640518.34 | E17: =SUM(E11:E12)-E15 -> 83432.26 | F17: =SUM(F11:F12)-F15 -> 592902.82 | G17: =SUM(G11:G12)-G15 -> 383369.85 | H17: =SUM(H11:H12)-H15 -> 544614.16 | I17: =SUM(I11:I12)-I15 -> 740577.99 | J17: =SUM(J11:J12)-J15 -> 664424.66 | K17: =SUM(K11:K12)-K15 -> 707080.93 | ... O17: =SUM(O11:O12)-O15 -> 774168.2 | P17: =SUM(D17:O17) -> 6375314.8
B18: Progressão do Déficit no período | E18: =D17+E17 -> 723950.6 | F18: =E18+F17 -> 1316853.4 | G18: =F18+G17 -> 1700223.3 | H18: =G18+H17 -> 2244837.4 | I18: =H18+I17 -> 2985415.4 | J18: =I18+J17 -> 3649840.1 | K18: =J18+K17 -> 4356921 | L18: =K18+L17 -> 4843272.9 | M18: =L18+M17 -> 5449484.4 | ... O18: =N18+O17 -> 6375314.8
B20: Rendimentos Líquidos Auferidos do Período: | D20: =21390.5-13008.99 -> 8381.51 | E20: 7644.48 | F20: =70335.98-81867.41 -> -11531.43 | G20: 236970.22 | H20: =196118.17-25818.29 -> 170299.88 | I20: =48213.11-50509.62 -> -2296.51 | J20: =73898.94-87402.27 -> -13503.33 | K20: =93050.89-139895.26 -> -46844.37 | L20: =207190.52-117856.34 -> 89334.18 | M20: =356724.71-334520.02 -> 22204.69 | N20: =559892.02-(2703.66+30050.01) -> 527138.35 | O20: =468274.43 -> 468274.43 | P20: =SUM(D20:O20) -> 1456072.1 | Q20: =(2351279.88-(895207.78))-P20 -> 0
O21: (-) 9419 Demais Variações Monetárias Negativas | P21: -352333.58
A22: 08/09/2021 Arrecadacao da Receita Ref correcao contribuicoes repassadas ao RPPS compensando os juros pelo atraso ao FAPS pela Camara de Vereadores emp extra 119/2021 Correcao SELIC contribuicao patronal contido R$ 160,40 | O22: =P22-J38 -> 1103738.5 | P22: =P20+P21 -> 1103738.5
B23: Saldo dos Valores Aplicados: | D23: 33033587 | E23: 32875957 | F23: 34457888 | G23: 35776936 | H23: 35898682 | I23: =35480656.82 -> 35480657 | J23: =35920808.42 -> 35920808 | K23: 36369533 | L23: =36874615.14 -> 36874615 | M23: 37473088 | N23: 38488332 | O23: 40962776 | P23: TOTAIS:
E24: =E23-D23 -> -157630.07 | F24: =F23-E23 -> 1581931.6 | G24: =G23-F23 -> 1319048 | H24: =H23-G23 -> 121746.14 | I24: =I23-H23 -> -418025.45 | J24: =J23-I23 -> 440151.6 | K24: =K23-J23 -> 448724.77 | L24: =L23-K23 -> 505081.95 | ... O24: =O23-N23 -> 2474443.8 | P24: =SUM(E24:O24) -> 7929189.6 | Q24: =O23-D23-P24 -> 0
C26: Percentual dos Rendimentos em relação ao Saldo: | D26: =D20/D23 -> 0.00025372691 | E26: =E20/E23 -> 0.00023252495 | F26: =F20/F23 -> -0.00033465284 | G26: =G20/G23 -> 0.0066235471 | H26: =H20/H23 -> 0.0047439034 | I26: =I20/I23 -> -6.472569e-05 | J26: =J20/J23 -> -0.00037591943 | K26: =K20/K23 -> -0.0012880113 | ... O26: =O20/O23 -> 0.011431706 | P26: =SUM(D26:O26) -> 0.037933353
B32: Ano: 2022 | D32: Janeiro | E32: Fevereiro | F32: Março | G32: Abril | H32: Maio | I32: Junho | J32: Julho | K32: Agosto | L32: Setembro | M32: Outubro | N32: Novembro | O32: Dezembro | P32: TOTAIS:
B33: Aportes Periodicos
A34: 7.9.9.0.01.1.1 | B34: Amortiz Deficit Atuarial | C34: 2 | D34: =891787.92 -> 891787.92 | E34: =1297234.15 -> 1297234.1 | F34: =1687898.51 -> 1687898.5 | G34: =1685861.8 -> 1685861.8 | P34: =SUM(D34:O34) -> 5562782.4 | Q34: =5562782.38-P34 -> 0
A35: 7.9.9.0.01.1.3 | B35: Deficit Atuarial - Div Ativa | C35: 7 | D35: =54875.67 -> 54875.67 | E35: =111840.76 -> 111840.76 | F35: =76216.62 -> 76216.62 | G35: =196927.82 -> 196927.82 | P35: =SUM(D35:O35) -> 439860.87 | Q35: =439860.87-P35 -> 0
B36: 1. Receitas Totais | D36: =2095430.84 -> 2095430.8 | E36: =2742554.41 -> 2742554.4 | F36: =3839700.82 -> 3839700.8 | G36: =3771843.75 -> 3771843.8 | P36: =SUM(D36:N36) -> 12449530 | Q36: =12449529.82-P36 -> 0
B37: 2. Total da Despesa Paga | D37: =1954791.97 -> 1954792 | E37: =2260829.3 -> 2260829.3 | P37: =SUM(D37:O37) -> 4215621.3 | Q37: =4215621.27-P37 -> 0
B38: 3. Resultado: 1. - 2. = | C38: (- ) | D38: =D36-D37 -> 140638.87 | E38: =E36-E37 -> 481725.11 | F38: =F36-F37 -> 3839700.8 | G38: =G36-G37 -> 3771843.8 | H38: =H36-H37 -> 0 | I38: =I36-I37 -> 0 | J38: =J36-J37 -> 0 | K38: =K36-K37 -> 0 | ... O38: =O36-O37 -> 0 | P38: =SUM(D38:N38) -> 8233908.6
B40: Valor do déficit para cobertura do Passivo Atuarial: | C40: ( = ) | D40: =SUM(D34:D35)-D38 -> 806024.72 | E40: =SUM(E34:E35)-E38 -> 927349.8 | F40: =SUM(F34:F35)-F38 -> -2075585.7 | G40: =SUM(G34:G35)-G38 -> -1889054.1 | H40: =SUM(H34:H35)-H38 -> 0 | I40: =SUM(I34:I35)-I38 -> 0 | J40: =SUM(J34:J35)-J38 -> 0 | K40: =SUM(K34:K35)-K38 -> 0 | ... O40: =SUM(O34:O35)-O38 -> 0 | P40: =SUM(D40:O40) -> -2231265.3
B41: Progressão do Déficit no período | E41: =D40+E40 -> 1733374.5 | F41: =E41+F40 -> -342211.17 | G41: =F41+G40 -> -2231265.3 | H41: =G41+H40 -> -2231265.3 | I41: =H41+I40 -> -2231265.3 | J41: =I41+J40 -> -2231265.3 | K41: =J41+K40 -> -2231265.3 | L41: =K41+L40 -> -2231265.3 | M41: =L41+M40 -> -2231265.3 | ... O41: =N41+O40 -> -2231265.3
B43: Rendimentos Líquidos Auferidos do Período: | D43: =170931.46-130848.46 -> 40083 | E43: =346111.52-258485.56 -> 87625.96 | F43: =619278.08-40324.34 -> 578953.74 | G43: =416112.89-137141.35 -> 278971.54 | P43: =SUM(D43:O43) -> 985634.24 | Q43: =(1552433.95-566799.71)-P43 -> 0
P45: =P43+P44 -> 985634.24
B46: Saldo dos Valores Aplicados: | D46: 40962776 | E46: =41262902.53 -> 41262903 | F46: =43145513.5 -> 43145514 | G46: =44628052.33 -> 44628052 | P46: TOTAIS:
D47: =40962776.23-D46 -> 0 | E47: =E46-D46 -> 300126.3 | F47: =F46-E46 -> 1882611 | G47: =G46-F46 -> 1482538.8 | I47: =I46-H46 -> 0 | J47: =J46-I46 -> 0 | K47: =K46-J46 -> 0 | L47: =L46-K46 -> 0 | M47: =M46-L46 -> 0 | N47: =N46-M46 -> 0 | O47: =O46-N46 -> 0 | P47: =SUM(E47:O47) -> 3665276.1 | Q47: =G46-D46-P47 -> 0
C49: Percentual dos Rendimentos em relação ao Saldo: | D49: =D43/D46 -> 0.00097852254 | E49: =E43/E46 -> 0.0021236015 | F49: =F43/F46 -> 0.013418631 | G49: =G43/G46 -> 0.0062510355 | H49: =H43/H46 -> #DIV/0! | I49: =I43/I46 -> #DIV/0! | J49: =J43/J46 -> #DIV/0! | K49: =K43/K46 -> #DIV/0! | ... O49: =O43/O46 -> #DIV/0! | P49: =SUM(D49:O49) -> #DIV/0!
H56: Giovani Amestoy da Silva | K56: Ihoko Nakashima Mota | O56: Arlei Lopes Souza
H57: Prefeito Municipal | K57: Secret. de Município da Fazenda | O57: Contador - CRC/RS: 068452/O-6

Sheet Cronogra
E1: ANEXO II DO CRONOGRAMA DE DESEMBOLSO PARA 2022 | U1: ANEXO III - CRONOGRAMA DE REEMBOLSO E DESEMBOLSO AO MÊS PARA 2022
U2: CRONOGRAMA DE DESEMBOLSO POR ORGÃO PARA O EXERCÍCIO DE 2022
A3: Cronograma | B3: RECEITA CONSOLIDADA REALIZADA | L3: PREVISTO | N3: REESTIMADA | Q3: Seq. | R3: ÓRGÃOS | S3: JANEIRO | T3: FEVEREIRO | U3: MARÇO | V3: ABRIL | W3: MAIO | X3: JUNHO | Y3: JULHO | Z3: AGOSTO | AA3: SETEMBRO | AB3: OUTUBRO | AC3: NOVEMBRO | AD3: DEZEMBRO | AE3: TOTAL
A4: MESES | B4: 2017 | C4: % | D4: 2018 | E4: % | F4: 2019 | G4: % | H4: 2020 | I4: % | J4: 2021 | K4: % | L4: 2022 | M4: % | N4: 2023 | O4: 2024 | Q4: 1 | R4: Câmara | S4: =4740087.5/12 -> 395007.29 | T4: =4740087.5/12 -> 395007.29 | U4: =4740087.5/12 -> 395007.29 | V4: =4740087.5/12 -> 395007.29 | W4: =4740087.5/12 -> 395007.29 | X4: =4740087.5/12 -> 395007.29 | Y4: =4740087.5/12 -> 395007.29 | Z4: =4740087.5/12 -> 395007.29 | ... AD4: =4740087.5/12 -> 395007.29 | AE4: =SUM(S4:AD4) -> 4740087.5 | AF4: =AE4/$AE$20 -> 0.026303497 | AG4: 4740087.5 | AH4: =AE4-AG4 -> 0
A5: Janeiro | B5: 8128227.2 | C5: =B5/B17 -> 0.077766632 | D5: 7522241.3 | E5: =D5/D17 -> 0.079831482 | F5: 10690470 | G5: =F5/F17 -> 0.092128812 | H5: 10229896 | I5: =H5/H17 -> 0.082588546 | J5: 11654887 | K5: =J5/J17 -> 0.07573584 | L5: 11654887 | M5: =L5/L17 -> 0.064674815 | N5: =((F5+H5+J5+L5)/3.15)-354050.16 -> 13687264 | O5: =(H5+J5+L5+N5)/3.15 -> 14992678 | Q5: 2 | R5: Gabinete | S5: =2573043.32*M5 -> 166411.1 | T5: =2573043.32*M6 -> 170025.96 | U5: =2573043.32*M7 -> 203969.39 | V5: =2573043.32*M8 -> 215116.48 | W5: =2573043.32*M9 -> 216701.95 | X5: =2573043.32*M10 -> 203574.65 | Y5: =2573043.32*M11 -> 235037.37 | Z5: =2573043.32*M12 -> 204875.91 | AA5: =2573043.32*M13 -> 198153.25 | AB5: =2573043.32*M14 -> 217551.11 | AC5: =2573043.32*M15 -> 207822.25 | AD5: =2573043.32*M16 -> 333803.9 | AE5: =SUM(S5:AD5) -> 2573043.3 | AF5: =AE5/$AE$20 -> 0.014278225 | AG5: 2573043.3 | AH5: =AE5-AG5 -> 0
A6: Fevereiro | B6: 8406126.3 | C6: =B6/B17 -> 0.080425426 | D6: =7197732.78 -> 7197732.8 | E6: =D6/D17 -> 0.076387563 | F6: =8384491.75 -> 8384491.8 | G6: =F6/F17 -> 0.07225625 | H6: =10875208.14 -> 10875208 | I6: =H6/H17 -> 0.087798312 | J6: 11908060 | K6: =J6/J17 -> 0.077381008 | L6: 11908060 | M6: =L6/L17 -> 0.066079709 | N6: =(F6+H6+J6+L6)/3.15 -> 13674863 | O6: =(H6+J6+L6+N6)/3.15 -> 15354346 | Q6: 3 | R6: SGM | S6: =1292784.43*M5 -> 83610.593 | T6: =1292784.43*M6 -> 85426.82 | U6: =1292784.43*M7 -> 102481.16 | V6: =1292784.43*M8 -> 108081.83 | W6: =1292784.43*M9 -> 108878.43 | X6: =1292784.43*M10 -> 102282.82 | Y6: =1292784.43*M11 -> 118090.76 | Z6: =1292784.43*M12 -> 102936.62 | AA6: =1292784.43*M13 -> 99558.927 | AB6: =1292784.43*M14 -> 109305.08 | AC6: =1292784.43*M15 -> 104416.97 | AD6: =1292784.43*M16 -> 167714.43 | AE6: =SUM(S6:AD6) -> 1292784.4 | AF6: =AE6/$AE$20 -> 0.0071738657 | AG6: 1292784.4 | AH6: =AE6-AG6 -> 0
A7: Março | B7: =8078817.9 -> 8078817.9 | C7: =B7/B17 -> 0.07729391 | D7: 7899052.6 | E7: =D7/D17 -> 0.083830478 | F7: 8599525.4 | G7: =F7/F17 -> 0.074109377 | H7: 9752914.4 | I7: =H7/H17 -> 0.07873775 | J7: =11176115.04 -> 11176115 | K7: =J7/J17 -> 0.072624683 | L7: =((D7+F7+H7+J7)/2.62) -> 14285346 | M7: =L7/L17 -> 0.079271651 | N7: =(F7+H7+J7+L7)/3.15 -> 13909175 | O7: =(H7+J7+L7+N7)/3.15 -> 15594778 | Q7: 4 | R7: SMCP | S7: =2267014.1*M5 -> 146618.72 | T7: =2267014.1*M6 -> 149803.63 | U7: =2267014.1*M7 -> 179709.95 | V7: =2267014.1*M8 -> 189531.24 | W7: =2267014.1*M9 -> 190928.14 | X7: =2267014.1*M10 -> 179362.16 | Y7: =2267014.1*M11 -> 207082.8 | Z7: =2267014.1*M12 -> 180508.65 | AA7: =2267014.1*M13 -> 174585.56 | AB7: =2267014.1*M14 -> 191676.31 | AC7: =2267014.1*M15 -> 183104.57 | AD7: =2267014.1*M16 -> 294102.37 | AE7: =SUM(S7:AD7) -> 2267014.1 | AF7: =AE7/$AE$20 -> 0.01258002 | AG7: 2267014.1 | AH7: =AE7-AG7 -> 0
A8: Abril | B8: 8695190.6 | C8: =B8/B17 -> 0.083191042 | D8: 7799663.9 | E8: =D8/D17 -> 0.082775693 | F8: =10080023.23 -> 10080023 | G8: =F8/F17 -> 0.086868078 | H8: =9810398.72 -> 9810398.7 | I8: =H8/H17 -> 0.079201836 | J8: =11782970.82 -> 11782971 | K8: =J8/J17 -> 0.076568156 | L8: =((D8+F8+H8+J8)/2.62) -> 15066052 | M8: =L8/L17 -> 0.083603911 | N8: =(F8+H8+J8+L8)/3.15 -> 14837919 | O8: =(H8+J8+L8+N8)/3.15 -> 16348362 | Q8: 5 | R8: SMA | S8: =10593557.4*M5 -> 685136.36 | T8: =10593557.4*M6 -> 700019.2 | U8: =10593557.4*M7 -> 839768.78 | V8: =10593557.4*M8 -> 885662.83 | W8: =10593557.4*M9 -> 892190.4 | X8: =10593557.4*M10 -> 838143.58 | Y8: =10593557.4*M11 -> 967679.72 | Z8: =10593557.4*M12 -> 843501.03 | AA8: =10593557.4*M13 -> 815822.95 | AB8: =10593557.4*M14 -> 895686.52 | AC8: =10593557.4*M15 -> 855631.53 | AD8: =10593557.4*M16 -> 1374314.5 | AE8: =SUM(S8:AD8) -> 10593557 | AF8: =AE8/$AE$20 -> 0.058785329 | AG8: 10593557 | AH8: =AE8-AG8 -> 0
A9: Maio | B9: =8219532.42 -> 8219532.4 | C9: =B9/B17 -> 0.078640193 | D9: =7664973.99 -> 7664974 | E9: =D9/D17 -> 0.081346265 | F9: =9454030.45 -> 9454030.4 | G9: =F9/F17 -> 0.081473369 | H9: =10655694.71 -> 10655695 | I9: =H9/H17 -> 0.086026124 | J9: 11989285 | K9: =J9/J17 -> 0.077908825 | L9: =((D9+F9+H9+J9)/2.62) -> 15177093 | M9: =L9/L17 -> 0.084220094 | N9: =(F9+H9+J9+L9)/3.15 -> 15008287 | O9: =((H9+J9+L9+N9)/3.15)-5409.33 -> 16766133 | Q9: 6 | R9: SMF | S9: =3624054.99*M5 -> 234385.08 | T9: =3624054.99*M6 -> 239476.5 | U9: =3624054.99*M7 -> 287284.82 | V9: =3624054.99*M8 -> 302985.17 | W9: =3624054.99*M9 -> 305218.25 | X9: =3624054.99*M10 -> 286728.84 | Y9: =3624054.99*M11 -> 331043.14 | Z9: =3624054.99*M12 -> 288561.62 | AA9: =3624054.99*M13 -> 279092.95 | AB9: =3624054.99*M14 -> 306414.27 | AC9: =3624054.99*M15 -> 292711.46 | AD9: =3624054.99*M16 -> 470152.86 | AE9: =SUM(S9:AD9) -> 3624055 | AF9: =AE9/$AE$20 -> 0.020110455 | AG9: 3624055 | AH9: =AE9-AG9 -> 0
A10: Junho | B10: 7486671.7 | C10: =B10/B17 -> 0.071628564 | D10: =7453635.72+55.15 -> 7453690.9 | E10: =D10/D17 -> 0.079103976 | F10: =8906802.9 -> 8906802.9 | G10: =F10/F17 -> 0.076757447 | H10: =8869527.04 -> 8869527 | I10: =H10/H17 -> 0.07160594 | J10: 11272675 | K10: =J10/J17 -> 0.07325215 | L10: =((D10+F10+H10+J10)/2.62)+325373.3 -> 14257700 | M10: =L10/L17 -> 0.079118237 | N10: =(F10+H10+J10+L10)/3.15 -> 13748160 | O10: =(H10+J10+L10+N10)/3.15 -> 15285099 | Q10: 7 | R10: SMTur | S10: =1406241.51*M5 -> 90948.409 | T10: =1406241.51*M6 -> 92924.03 | U10: =1406241.51*M7 -> 111475.09 | V10: =1406241.51*M8 -> 117567.29 | W10: =1406241.51*M9 -> 118433.79 | X10: =1406241.51*M10 -> 111259.35 | Y10: =1406241.51*M11 -> 128454.62 | Z10: =1406241.51*M12 -> 111970.52 | AA10: =1406241.51*M13 -> 108296.4 | AB10: =1406241.51*M14 -> 118897.88 | AC10: =1406241.51*M15 -> 113580.79 | AD10: =1406241.51*M16 -> 182433.34 | AE10: =SUM(S10:AD10) -> 1406241.5 | AF10: =AE10/$AE$20 -> 0.007803457 | AG10: 1406241.5 | AH10: =AE10-AG10 -> 0
A11: Julho | B11: 9406077.2 | C11: =B11/B17 -> 0.089992433 | D11: 8077958 | E11: =D11/D17 -> 0.085729151 | F11: 9979327.4 | G11: =F11/F17 -> 0.086000296 | H11: =10817635.8 -> 10817636 | I11: =H11/H17 -> 0.087333516 | J11: =14253541.57 -> 14253542 | K11: =J11/J17 -> 0.09262243 | L11: =((D11+F11+H11+J11)/2.62) -> 16461245 | M11: =L11/L17 -> 0.091346059 | N11: =(F11+H11+J11+L11)/3.15 -> 16352937 | O11: =(H11+J11+L11+N11)/3.15 -> 18376305 | Q11: 8 | R11: SMTSUI | S11: =21619230.49*M5 -> 1398219.7 | T11: =21619230.49*M6 -> 1428592.5 | U11: =21619230.49*M7 -> 1713792.1 | V11: =21619230.49*M8 -> 1807452.2 | W11: =21619230.49*M9 -> 1820773.6 | X11: =21619230.49*M10 -> 1710475.4 | Y11: =21619230.49*M11 -> 1974831.5 | Z11: =21619230.49*M12 -> 1721408.8 | AA11: =21619230.49*M13 -> 1664923.7 | AB11: =21619230.49*M14 -> 1827908.5 | AC11: =21619230.49*M15 -> 1746164.6 | AD11: =21619230.49*M16 -> 2804687.9 | AE11: =SUM(S11:AD11) -> 21619230 | AF11: =AE11/$AE$20 -> 0.11996854 | AG11: 21619230 | AH11: =AE11-AG11 -> 0
A12: Agosto | B12: =7641217.97 -> 7641218 | C12: =B12/B17 -> 0.073107182 | D12: 7400073.4 | E12: =D12/D17 -> 0.078534948 | F12: 8879675.8 | G12: =F12/F17 -> 0.076523669 | H12: =9516468.8 -> 9516468.8 | I12: =H12/H17 -> 0.076828865 | J12: =11797731.93 -> 11797732 | K12: =J12/J17 -> 0.076664076 | L12: =((D12+F12+H12+J12)/2.62) -> 14348836 | M12: =L12/L17 -> 0.079623964 | N12: =(F12+H12+J12+L12)/3.15 -> 14140544 | O12: =(H12+J12+L12+N12)/3.15 -> 15810660 | Q12: 9 | R12: SEDUC | S12: =46335083.1*M5 -> 2996712.9 | T12: =46335083.1*M6 -> 3061808.8 | U12: =46335083.1*M7 -> 3673058.5 | V12: =46335083.1*M8 -> 3873794.2 | W12: =46335083.1*M9 -> 3902345.1 | X12: =46335083.1*M10 -> 3665950.1 | Y12: =46335083.1*M11 -> 4232527.2 | Z12: =46335083.1*M12 -> 3689383 | AA12: =46335083.1*M13 -> 3568322 | AB12: =46335083.1*M14 -> 3917636.7 | AC12: =46335083.1*M15 -> 3742440.5 | AD12: =46335083.1*M16 -> 6011104.1 | AE12: =SUM(S12:AD12) -> 46335083 | AF12: =AE12/$AE$20 -> 0.25712072 | AG12: 46335083 | AH12: =AE12-AG12 -> 0
A13: Setembro | B13: 7402995.9 | C13: =B13/B17 -> 0.070827998 | D13: =6729771.56 -> 6729771.6 | E13: =D13/D17 -> 0.071421219 | F13: =8643003.18 -> 8643003.2 | G13: =F13/F17 -> 0.074484062 | H13: =10310037.68 -> 10310038 | I13: =H13/H17 -> 0.083235548 | J13: =10677554.69 -> 10677555 | K13: =J13/J17 -> 0.069384935 | L13: =((D13+F13+H13+J13)/2.62) -> 13878003 | M13: =L13/L17 -> 0.077011236 | N13: =(F13+H13+J13+L13)/3.15 -> 13812253 | O13: =(H13+J13+L13+N13)/3.15 -> 15453285 | Q13: 10 | R13: SMS | S13: =29524656.15*M5 -> 1909501.7 | T13: =29524656.15*M6 -> 1950980.7 | U13: =29524656.15*M7 -> 2340468.2 | V13: =29524656.15*M8 -> 2468376.7 | W13: =29524656.15*M9 -> 2486569.3 | X13: =29524656.15*M10 -> 2335938.7 | Y13: =29524656.15*M11 -> 2696961 | Z13: =29524656.15*M12 -> 2350870.2 | AA13: =29524656.15*M13 -> 2273730.3 | AB13: =29524656.15*M14 -> 2496313.1 | AC13: =29524656.15*M15 -> 2384678.3 | AD13: =29524656.15*M16 -> 3830267.9 | AE13: =SUM(S13:AD13) -> 29524656 | AF13: =AE13/$AE$20 -> 0.163837 | AG13: 29524656 | AH13: =AE13-AG13 -> 0
A14: Outubro | B14: 9451675.9 | C14: =B14/B17 -> 0.090428698 | D14: =7115297.7 -> 7115297.7 | E14: =D14/D17 -> 0.075512702 | F14: =10001253.91 -> 10001254 | G14: =F14/F17 -> 0.086189256 | H14: 9354372.9 | I14: =H14/H17 -> 0.075520223 | J14: 13448878 | K14: =J14/J17 -> 0.087393558 | L14: =((D14+F14+H14+J14)/2.62) -> 15236566 | M14: =L14/L17 -> 0.084550117 | N14: =(F14+H14+J14+L14)/3.15 -> 15251133 | O14: =(H14+J14+L14+N14)/3.15 -> 16917762 | Q14: 11 | R14: SMAS | S14: =4812513*M5 -> 311248.39 | T14: =4812513*M6 -> 318009.46 | U14: =4812513*M7 -> 381495.85 | V14: =4812513*M8 -> 402344.91 | W14: =4812513*M9 -> 405310.3 | X14: =4812513*M10 -> 380757.54 | Y14: =4812513*M11 -> 439604.1 | Z14: =4812513*M12 -> 383191.36 | AA14: =4812513*M13 -> 370617.58 | AB14: =4812513*M14 -> 406898.54 | AC14: =4812513*M15 -> 388702.08 | AD14: =4812513*M16 -> 624332.9 | AE14: =SUM(S14:AD14) -> 4812513 | AF14: =AE14/$AE$20 -> 0.026705397 | AG14: 4812513 | AH14: =AE14-AG14 -> 0
A15: Novembro | B15: 8798730.5 | C15: =B15/B17 -> 0.084181658 | D15: 8267235.2 | E15: =D15/D17 -> 0.087737898 | F15: 7399552.2 | G15: =F15/F17 -> 0.063768194 | H15: =9067503.09 -> 9067503.1 | I15: =H15/H17 -> 0.073204251 | J15: 13400303 | K15: =J15/J17 -> 0.08707791 | L15: =((D15+F15+H15+J15)/2.62) -> 14555188 | M15: =L15/L17 -> 0.080769046 | N15: =(F15+H15+J15+L15)/3.15 -> 14102396 | O15: =(H15+J15+L15+N15)/3.15 -> 16230283 | Q15: 12 | R15: SMAIC | S15: =2280833.24*M5 -> 147512.47 | T15: =2280833.24*M6 -> 150716.8 | U15: =2280833.24*M7 -> 180805.42 | V15: =2280833.24*M8 -> 190686.58 | W15: =2280833.24*M9 -> 192091.99 | X15: =2280833.24*M10 -> 180455.5 | Y15: =2280833.24*M11 -> 208345.13 | Z15: =2280833.24*M12 -> 181608.98 | AA15: =2280833.24*M13 -> 175649.79 | AB15: =2280833.24*M14 -> 192844.72 | AC15: =2280833.24*M15 -> 184220.73 | AD15: =2280833.24*M16 -> 295895.15 | AE15: =SUM(S15:AD15) -> 2280833.2 | AF15: =AE15/$AE$20 -> 0.012656705 | AG15: 2280833.2 | AH15: =AE15-AG15 -> 0
A16: Dezembro | B16: 12805493 | C16: =B16/B17 -> 0.12251626 | D16: 11098810 | E16: =D16/D17 -> 0.11778863 | F16: =15020134.53 -> 15020135 | G16: =F16/F17 -> 0.12944119 | H16: 14606142 | I16: =H16/H17 -> 0.11791909 | J16: =20526658.64 -> 20526659 | K16: =J16/J17 -> 0.13338643 | L16: =((D16+F16+H16+J16)/2.62) -> 23378529 | M16: =L16/L17 -> 0.12973116 | N16: =(F16+H16+J16+L16)/3.15 -> 23343322 | O16: =(H16+J16+L16+N16)/3.15 -> 25985604 | Q16: 13 | R16: Encargos | S16: =3242059.87*M5 -> 209679.62 | T16: =3242059.87*M6 -> 214234.37 | U16: =3242059.87*M7 -> 257003.44 | V16: =3242059.87*M8 -> 271048.88 | W16: =3242059.87*M9 -> 273046.59 | X16: =3242059.87*M10 -> 256506.06 | Y16: =3242059.87*M11 -> 296149.39 | Z16: =3242059.87*M12 -> 258145.66 | AA16: =3242059.87*M13 -> 249675.04 | AB16: =3242059.87*M14 -> 274116.54 | AC16: =3242059.87*M15 -> 261858.08 | AD16: =3242059.87*M16 -> 420596.19 | AE16: =SUM(S16:AD16) -> 3242059.9 | AF16: =AE16/$AE$20 -> 0.017990704 | AG16: 3242059.9 | AH16: =AE16-AG16 -> 0
A17: TOTAIS | B17: =SUM(B5:B16) -> 1.0452076e+08 | C17: =B17/B17 -> 1 | D17: =SUM(D5:D16) -> 94226502 | E17: =D17/D17 -> 1 | F17: =SUM(F5:F16) -> 1.1603829e+08 | G17: =F17/F17 -> 1 | H17: =SUM(H5:H16) -> 1.238658e+08 | I17: =H17/H17 -> 1 | J17: =SUM(J5:J16) -> 1.5388866e+08 | K17: =J17/J17 -> 1 | L17: =SUM(L5:L16) -> 1.802075e+08 | M17: =L17/L17 -> 1 | N17: =SUM(N5:N16) -> 1.8186825e+08 | O17: =SUM(O5:O16) -> 2.0311529e+08 | Q17: 14 | R17: Reserva | S17: =708.85*M5 -> 45.844742 | T17: =708.85*M6 -> 46.840602 | U17: =708.85*M7 -> 56.191709 | V17: =708.85*M8 -> 59.262632 | W17: =708.85*M9 -> 59.699414 | X17: =708.85*M10 -> 56.082962 | Y17: =708.85*M11 -> 64.750654 | Z17: =708.85*M12 -> 56.441447 | AA17: =708.85*M13 -> 54.589415 | AB17: =708.85*M14 -> 59.933351 | AC17: =708.85*M15 -> 57.253138 | AD17: =708.85*M16 -> 91.959934 | AE17: =SUM(S17:AD17) -> 708.85 | AF17: =AE17/$AE$20 -> 3.933521e-06 | AG17: 708.85 | AH17: =AE17-AG17 -> 0
A18: % em relação ao ano anterior | D18: =(D17-B17)/B17 -> -0.09849005 | F18: =(F17-D17)/D17 -> 0.23148253 | H18: =(H17-F17)/F17 -> 0.067456262 | J18: =(J17-H17)/H17 -> 0.24238216 | L18: =(L17-J17)/J17 -> 0.17102524 | N18: =(N17-L17)/L17 -> 0.0092157541 | O18: =(O17-N17)/N17 -> 0.11682656 | Q18: 15 | R18: FAPS | S18: =41552033.47*M5 -> 2687370.1 | T18: =41552033.47*M6 -> 2745746.3 | U18: =41552033.47*M7 -> 3293898.3 | V18: =41552033.47*M8 -> 3473912.5 | W18: =41552033.47*M9 -> 3499516.2 | X18: =41552033.47*M10 -> 3287523.6 | Y18: =41552033.47*M11 -> 3795614.5 | Z18: =41552033.47*M12 -> 3308537.6 | AA18: =41552033.47*M13 -> 3199973.5 | AB18: =41552033.47*M14 -> 3513229.3 | AC18: =41552033.47*M15 -> 3356118.1 | AD18: =41552033.47*M16 -> 5390593.6 | AE18: =SUM(S18:AD18) -> 41552033 | AF18: =AE18/$AE$20 -> 0.23057882 | AG18: 41552033 | AH18: =AE18-AG18 -> 0
L19: =180207504.88-L17 -> 0.0041984916 | Q19: 16 | R19: FASM | S19: =4343603.46*M5 -> 280921.75 | T19: =4343603.46*M6 -> 287024.05 | U19: =4343603.46*M7 -> 344324.62 | V19: =4343603.46*M8 -> 363142.24 | W19: =4343603.46*M9 -> 365818.69 | X19: =4343603.46*M10 -> 343658.25 | Y19: =4343603.46*M11 -> 396771.06 | Z19: =4343603.46*M12 -> 345854.92 | AA19: =4343603.46*M13 -> 334506.27 | AB19: =4343603.46*M14 -> 367252.18 | AC19: =4343603.46*M15 -> 350828.71 | AD19: =4343603.46*M16 -> 563500.72 | AE19: =SUM(S19:AD19) -> 4343603.5 | AF19: =AE19/$AE$20 -> 0.024103344 | AG19: 4343603.5 | AH19: =AE19-AG19 -> 0
A20: Cronograma | B20: DESPESA CONSOLIDA LIQUIDADA | L20: PREVISTO | N20: REESTIMADA | Q20: = | R20: TOTAL | S20: =SUM(S4:S19) -> 11743330 | T20: =SUM(T4:T19) -> 11989843 | U20: =SUM(U4:U19) -> 14304599 | V20: =SUM(V4:V19) -> 15064770 | W20: =SUM(W4:W19) -> 15172890 | X20: =SUM(X4:X19) -> 14277680 | Y20: =SUM(Y4:Y19) -> 16423264 | Z20: =SUM(Z4:Z19) -> 14366419 | ... AG20: =SUM(AG4:AG19) -> 1.802075e+08 | AH20: =AE20-AG20 -> 0
A21: MESES | B21: =B4 -> 2017 | C21: % | D21: =D4 -> 2018 | F21: =F4 -> 2019 | G21: % | H21: =H4 -> 2020 | I21: % | J21: =J4 -> 2021 | K21: % | L21: =L4 -> 2022 | M21: % | N21: =N4 -> 2023 | O21: =O4 -> 2024 | R21: % ao mês | S21: =S20/$AE$20 -> 0.065165599 | T21: =T20/$AE$20 -> 0.06653354 | U21: =U20/$AE$20 -> 0.079378487 | V21: =V20/$AE$20 -> 0.083596794 | W21: =W20/$AE$20 -> 0.084196769 | X21: =X20/$AE$20 -> 0.079229108 | Y21: =Y20/$AE$20 -> 0.091135296 | Z21: =Z20/$AE$20 -> 0.079721533 | ... AE21: =AE20/$AE$20 -> 1
A22: Janeiro | B22: 5981651 | C22: =B22/B34 -> 0.062053544 | D22: 7670864.2 | E22: =D22/D34 -> 0.072802734 | F22: 7979821.7 | G22: =F22/F34 -> 0.068577943 | H22: =7671797.23 -> 7671797.2 | I22: =H22/H34 -> 0.062068219 | J22: 9502229.8 | K22: =J22/J34 -> 0.068250821 | L22: =21974771.81-L23 -> 10042746 | M22: =L22/L34 -> 0.056820339 | N22: =(F22+H22+J22+L22)/3.2 -> 10998936 | O22: =(H22+J22+L22+N22)/3.3 -> 11580518 | Q22: Total por Bimestre | S22: 1º Bimestre | T22: =S20+T20 -> 23733173 | U22: 2º Bimestre | V22: =U20+V20 -> 29369369 | W22: 3º Bimestre | X22: =W20+X20 -> 29450570 | Y22: 4º Bimestre | Z22: =Y20+Z20 -> 30789683 | AA22: 5º Bimestre | AB22: =AA20+AB20 -> 29138768 | AC22: 6º Bimestre | AD22: =AC20+AD20 -> 37725942 | AE22: =SUM(S22:AD22) -> 1.802075e+08 | AF22: =140377810.27-AE20 -> -39829695
A23: Fevereiro | B23: 6665778.9 | C23: =B23/B34 -> 0.069150675 | D23: =7361356.62+32710.31 -> 7394066.9 | E23: =D23/D34 -> 0.070175703 | F23: 7902084.6 | G23: =F23/F34 -> 0.067909876 | H23: =8682002.48 -> 8682002.5 | I23: =H23/H34 -> 0.070241224 | J23: 9870035.5 | K23: =J23/J34 -> 0.070892626 | L23: =11932025.47 -> 11932025 | M23: =L23/L34 -> 0.067509595 | N23: =(F23+H23+J23+L23)/3 -> 12795383 | O23: =(H23+J23+L23+N23)/3.3 -> 13114984 | Q23: Seq. | R23: ÓRGÃOS | S23: JANEIRO | T23: FEVEREIRO | U23: MARÇO | V23: ABRIL | W23: MAIO | X23: JUNHO | Y23: JULHO | Z23: AGOSTO | AA23: SETEMBRO | AB23: OUTUBRO | AC23: NOVEMBRO | AD23: DEZEMBRO | AE23: TOTAL
A24: Março | B24: 7484694 | C24: =B24/B34 -> 0.077646086 | D24: 8190765.8 | E24: =D24/D34 -> 0.077737022 | F24: =9215305.68 -> 9215305.7 | G24: =F24/F34 -> 0.079195592 | H24: 9514390.6 | I24: =H24/H34 -> 0.076975611 | J24: 11697779 | K24: =J24/J34 -> 0.084020596 | L24: =((D24+F24+H24+J24)/2.7) -> 14303052 | M24: =L24/L34 -> 0.080924505 | N24: =(F24+H24+J24+L24)/3 -> 14910176 | O24: =(H24+J24+L24+N24)/3.3 -> 15280423 | Q24: 1 | R24: Câmara | S24: =287905.27 -> 287905.27 | T24: =344135.62 -> 344135.62 | U24: 340954.83 | V24: 304678.46 | AE24: =SUM(S24:AD24) -> 1277674.2 | AF24: =AE24/$AE$40 -> 0.026600355
A25: Abril | B25: =7391916.3-2329.01 -> 7389587.3 | C25: =B25/B34 -> 0.07665945 | D25: 7513399.3 | E25: =D25/D34 -> 0.071308264 | F25: 9663995.9 | G25: =F25/F34 -> 0.083051599 | H25: =10634576.05 -> 10634576 | I25: =H25/H34 -> 0.086038405 | J25: =9795349.04 -> 9795349 | K25: =J25/J34 -> 0.070356183 | L25: =((D25+F25+H25+J25)/2.7) -> 13928637 | M25: =L25/L34 -> 0.078806122 | N25: =(F25+H25+J25+L25)/3 -> 14674186 | O25: =(H25+J25+L25+N25)/3.3 -> 14858409 | Q25: 2 | R25: Gabinete | S25: =183560.36 -> 183560.36 | T25: =212903.98 -> 212903.98 | U25: 211831.89 | V25: 198188.58 | AE25: =SUM(S25:AD25) -> 806484.81 | AF25: =AE25/$AE$40 -> 0.016790496
A26: Maio | B26: 8056881.4 | C26: =B26/B34 -> 0.083581947 | D26: 8332242.9 | E26: =D26/D34 -> 0.079079755 | F26: =9721771.29 -> 9721771.3 | G26: =F26/F34 -> 0.083548116 | H26: =8693274.76 -> 8693274.8 | I26: =H26/H34 -> 0.070332422 | J26: 11144329 | K26: =J26/J34 -> 0.080045384 | L26: =((D26+F26+H26+J26)/2.7) -> 14033933 | M26: =L26/L34 -> 0.079401868 | N26: =(F26+H26+J26+L26)/3 -> 14531103 | O26: =(H26+J26+L26+N26)/3.3 -> 14667467 | Q26: 3 | R26: SGM | S26: =64399.21 -> 64399.21 | T26: =63086.12 -> 63086.12 | U26: 74169.84 | V26: 88227.21 | AE26: =SUM(S26:AD26) -> 289882.38 | AF26: =AE26/$AE$40 -> 0.0060351649
A27: Junho | B27: 8550639.5 | C27: =B27/B34 -> 0.088704186 | D27: 9391234.3 | E27: =D27/D34 -> 0.089130444 | F27: 9467661 | G27: =F27/F34 -> 0.081364313 | H27: =10697988.26 -> 10697988 | I27: =H27/H34 -> 0.086551437 | J27: 10512021 | K27: =J27/J34 -> 0.075503761 | L27: =((D27+F27+H27+J27)/2.7) -> 14840335 | M27: =L27/L34 -> 0.083964371 | N27: =(F27+H27+J27+L27)/3 -> 15172669 | O27: =(H27+J27+L27+N27)/3.3 -> 15522125 | Q27: 4 | R27: SMCP | S27: =146249.25 -> 146249.25 | T27: =165675.66 -> 165675.66 | U27: 182713.95 | V27: 174354.53 | AE27: =SUM(S27:AD27) -> 668993.39 | AF27: =AE27/$AE$40 -> 0.013928013
A28: Julho | B28: 8123962.6 | C28: =B28/B34 -> 0.084277847 | D28: =8712975.37 -> 8712975.4 | E28: =D28/D34 -> 0.082693216 | F28: 8718239.6 | G28: =F28/F34 -> 0.074923846 | H28: 9134532 | I28: =H28/H34 -> 0.073902387 | J28: =11281097.36 -> 11281097 | K28: =J28/J34 -> 0.081027735 | L28: =((D28+F28+H28+J28)/2.7) -> 14017350 | M28: =L28/L34 -> 0.079308044 | N28: =(F28+H28+J28+L28)/3 -> 14383740 | O28: =(H28+J28+L28+N28)/3.3 -> 14792945 | Q28: 5 | R28: SMA | S28: =698271.56 -> 698271.56 | T28: =900797.26 -> 900797.26 | U28: 917020.1 | V28: 924215.98 | AE28: =SUM(S28:AD28) -> 3440304.9 | AF28: =AE28/$AE$40 -> 0.071624937
A29: Agosto | B29: 8191361.9 | C29: =B29/B34 -> 0.084977046 | D29: =8881833.91 -> 8881833.9 | E29: =D29/D34 -> 0.08429582 | F29: 9251295.1 | G29: =F29/F34 -> 0.079504882 | H29: =9036456.79 -> 9036456.8 | I29: =H29/H34 -> 0.073108916 | J29: 11242672 | K29: =J29/J34 -> 0.080751739 | L29: =((D29+F29+H29+J29)/2.7) -> 14226762 | M29: =L29/L34 -> 0.080492868 | N29: =(F29+H29+J29+L29)/3 -> 14585729 | O29: =(H29+J29+L29+N29)/3.3 -> 14876248 | Q29: 6 | R29: SMF | S29: =262956.12 -> 262956.12 | T29: =306697.57 -> 306697.57 | U29: 302867.51 | V29: 313979.37 | AE29: =SUM(S29:AD29) -> 1186500.6 | AF29: =AE29/$AE$40 -> 0.024702179
A30: Setembro | B30: =7555140.76 -> 7555140.8 | C30: =B30/B34 -> 0.078376899 | D30: 8405663.2 | E30: =D30/D34 -> 0.079776574 | F30: =9019781.08 -> 9019781.1 | G30: =F30/F34 -> 0.077515269 | H30: =10105595.49 -> 10105595 | I30: =H30/H34 -> 0.081758719 | J30: =10938610.35 -> 10938610 | K30: =J30/J34 -> 0.078567784 | L30: =((D30+F30+H30+J30)/2.7) -> 14248019 | M30: =L30/L34 -> 0.080613134 | N30: =(F30+H30+J30+L30)/3 -> 14770668 | O30: =(H30+J30+L30+N30)/3.3 -> 15170574 | Q30: 7 | R30: SMTur | S30: =57439.42 -> 57439.42 | T30: =61104.79 -> 61104.79 | U30: 78507.41 | V30: 80939.03 | AE30: =SUM(S30:AD30) -> 277990.65 | AF30: =AE30/$AE$40 -> 0.0057875867
A31: Outubro | B31: 7682619.9 | C31: =B31/B34 -> 0.079699365 | D31: 8594186.1 | E31: =D31/D34 -> 0.081565809 | F31: =9257306.49 -> 9257306.5 | G31: =F31/F34 -> 0.079556543 | H31: 9996580.7 | I31: =H31/H34 -> 0.080876741 | J31: 11341397 | K31: =J31/J34 -> 0.081460845 | L31: =((D31+F31+H31+J31)/2.7) -> 14514619 | M31: =L31/L34 -> 0.082121517 | N31: =(F31+H31+J31+L31)/3 -> 15036634 | O31: =(H31+J31+L31+N31)/3.3 -> 15420979 | Q31: 8 | R31: SMTSUI | S31: =958534.61 -> 958534.61 | T31: =850858.73 -> 850858.73 | U31: 897542.71 | V31: 961339.85 | AE31: =SUM(S31:AD31) -> 3668275.9 | AF31: =AE31/$AE$40 -> 0.076371147
A32: Novembro | B32: 8077679.6 | C32: =B32/B34 -> 0.083797708 | D32: 8884947.5 | E32: =D32/D34 -> 0.084325371 | F32: 9510627.3 | G32: =F32/F34 -> 0.081733562 | H32: =10537885.72 -> 10537886 | I32: =H32/H34 -> 0.085256137 | J32: 11405835 | K32: =J32/J34 -> 0.08192368 | L32: =((D32+F32+H32+J32)/2.7) -> 14940480 | M32: =L32/L34 -> 0.084530976 | N32: =(F32+H32+J32+L32)/3 -> 15464943 | O32: =(H32+J32+L32+N32)/3.3 -> 15863377 | Q32: 9 | R32: SEDUC | S32: =2409037.59 -> 2409037.6 | T32: =3390965.27 -> 3390965.3 | U32: 4453096.8 | V32: 3650943.1 | AE32: =SUM(S32:AD32) -> 13904043 | AF32: =AE32/$AE$40 -> 0.28947324
A33: Dezembro | B33: 12634998 | C33: =B33/B34 -> 0.13107525 | D33: 13392877 | E33: =D33/D34 -> 0.12710929 | F33: =15787827.89+865628.68 -> 16653457 | G33: =F33/F34 -> 0.14311846 | H33: 18897584 | I33: =H33/H34 -> 0.15288978 | J33: =20493779.25 -> 20493779 | K33: =J33/J34 -> 0.14719885 | L33: =((D33+F33+H33+J33)/2.7) -> 25717666 | M33: =L33/L34 -> 0.14550666 | N33: =(F33+H33+J33+L33)/3 -> 27254162 | O33: =(H33+J33+L33+N33)/3.3 -> 27988846 | Q33: 10 | R33: SMSMA | S33: =2160274.39 -> 2160274.4 | T33: =2485721.26 -> 2485721.3 | U33: 2241731.1 | V33: 2969516.9 | AE33: =SUM(S33:AD33) -> 9857243.7 | AF33: =AE33/$AE$40 -> 0.20522148
