Workbook

Sheet RREO
A1: Prefeitura Municipal de Cacapava do Sul - RS
A2: Relatório Resumido da Execução Orçamentária
A3: Demonstrativo Simplificado do Relatório Resumido da Execução Orçamentária
A4: Orçamentos Fiscal e da Seguridade Social
A5: Janeiro a Dezembro 2021/Bimestre Novembro-Dezembro
A6: RREO - Anexo 14 (LRF, Art. 48) | F6: Em Reais
A7: BALANÇO ORÇAMENTÁRIO | D7: Até o bimestre
A8: RECEITAS
B9: Previsão Inicial | D9: 1.4036171e+08
B10: Previsão Atualizada | D10: 1.4920236e+08
B11: Receitas Realizadas | D11: 1.5388866e+08
B12: Déficit Orçamentário | D12: -
B13: Saldos de Exercícios Anteriores(Utilizados para Créditos Adicionais) | D13: 7327192.9
A14: DESPESAS
B15: Dotação Inicial | D15: 1.3739269e+08
B16: Dotação Atualizada | D16: 1.5615581e+08
B17: Despesas Empenhadas | D17: 1.4105669e+08
B18: Despesas Liquidadas | D18: 1.3922514e+08
B19: Despesas Pagas | D19: 1.3348099e+08
B20: Superávit Orçamentário | D20: 12831970
A22: DESPESAS POR FUNÇÃO/SUBFUNÇÃO | D22: Até o bimestre
A23: Despesas Empenhadas | D23: 1.4105669e+08
A24: Despesas Liquidadas | D24: 1.3922514e+08
A26: RECEITA CORRENTE LÍQUIDA - RCL | D26: Até o bimestre
A27: Receita Corrente Líquida | D27: 1.1473092e+08
A28: Receita Corrente Líquida Ajustada para Cálculo dos Limites de Endividamento | D28: 1.1340092e+08
A29: Receita Corrente Líquida Ajustada para Cálculo dos Limites da Despesa com Pessoal | D29: 1.1340092e+08
A31: RECEITAS E DESPESAS DO REGIME PRÓPRIO DE PREVIDÊNCIA DOS SERVIDORES | D31: Até o bimestre
A32: Regime Próprio de Previdência Social dos Servidores - PLANO PREVIDENCIÁRIO
B33: Receitas Previdenciárias Realizadas | D33: 17623290
B34: Despesas Previdenciárias Empenhadas | D34: 24197418
B35: Despesas Previdenciárias Liquidadas | D35: 24197418
B36: Resultado Previdenciário | D36: -6574127.5
A37: Regime Próprio de Previdência Social dos Servidores - PLANO FINANCEIRO
B38: Receitas Previdenciárias Realizadas | D38: 0
B39: Despesas Previdenciárias Empenhadas | D39: 0
B40: Despesas Previdenciárias Liquidadas | D40: 0
B41: Resultado Previdenciário | D41: 0
A43: RESULTADOS PRIMÁRIO E NOMINAL | D43: Meta Fixada no | E43: Resultado Apurado | F43: % em Relação à Meta
D44: Anexo de Metas | E44: Até o Bimestre
...

Sheet LRF
A2: PREFEITURA MUNICIPAL DE CACAPAVA DO SUL - RS - PODER EXECUTIVO
A3: RELATÓRIO DE GESTÃO FISCAL
A4: DEMONSTRATIVO DA DESPESA COM PESSOAL
A5: ORÇAMENTOS FISCAL E DA SEGURIDADE SOCIAL
A6: JANEIRO/2021 A DEZEMBRO/2021
A8: RGF - ANEXO I (LRF, art. 55, inciso I, alínea "a") | F8: R$ 1,00
A9: DESPESA COM PESSOAL | E9: DESPESAS EXECUTADAS
E10: (Últimos 12 Meses)
E11: LIQUIDADAS | F11: INSCRITAS EM RESTOS A PAGAR NÃO PROCESSADOS¹
E12: (a) | F12: (b)
A13: DESPESA BRUTA COM PESSOAL (I) | E13: 96023380 | F13: 0
C14: Pessoal Ativo | E14: 70695069 | F14: 0
D15: Vencimentos, Vantagens e Outras Despesas Variáveis | E15: 47695868 | F15: 0
D16: Obrigações Patronais | E16: 22999201 | F16: 0
C17: Pessoal Inativo e Pensionistas | E17: 24213570 | F17: 0
D18: Aposentadorias, Reserva e Reformas | E18: 21412073 | F18: 0
D19: Pensões | E19: 2801497.6 | F19: 0
C20: Outras despesas de pessoal decorrentes de contratos de terceirização ou de contratação de forma indireta (§ 1º do art. 18 da LRF) | E20: 1114741 | F20: 0
C21: Despesa com Pessoal não Executada Orçamentariamente | E21: 0 | F21: 0
A22: DESPESAS NÃO COMPUTADAS(II)(§ 1º do art. 19 da LRF) | E22: 26584787 | F22: 0
C23: Indenizações por Demissão e Incentivos à Demissão Voluntária | E23: 2314037.4 | F23: 0
C24: Decorrentes de Decisão Judicial de período anterior ao da apuração | E24: 73331.76 | F24: 0
C25: Despesas de Exercícios Anteriores de período anterior ao da apuração | E25: 0 | F25: 0
C26: Inativos e Pensionistas com Recursos Vinculados | E26: 24197418 | F26: 0
A27: *DESPESA LÍQUIDA COM PESSOAL (III) = (I - II) | E27: 69438593 | F27: 0
C28: *Valor a maior na Despesa Líquida de Pessoal no SIAFIC em relação ao apurado pela Contabilidade: | F28: =69604042.07-E27 -> 165448.67
A29: APURAÇÃO DO CUMPRIMENTO DO LIMITE LEGAL | E29: VALOR | F29: % SOBRE A RCL AJUSTADA
A30: RECEITA CORRENTE LÍQUIDA - RCL (IV) | E30: 1.1473092e+08 | F30: 0
A31: (-) Transferências obrigatórias da União relativas às emendas individuais (art. 166-A, §1º, da CF) (V) | E31: =100000+880000 -> 980000 | F31: 0
A32: (-) Transferências obrigatórias da União relativas às emendas de bancada (art. 166, § 16 da CF) (VI) | E32: 350000 | F32: 0
A33: = RECEITA CORRENTE LÍQUIDA AJUSTADA PARA CÁLCULO DOS LIMITES DA DESPESA COM PESSOAL (VII) = (IV - V - VI) | E33: 1.1340092e+08 | F33: 0
A34: DESPESA TOTAL COM PESSOAL - DTP (VIII) = (III a + III b) | E34: 69438593 | F34: =(E34/E30)*100 -> 60.522999
A35: LIMITE MÁXIMO (IX) (incisos I, II e III, art. 20 da LRF) | E35: =E30*0.54 -> 61954696 | F35: 54
A36: LIMITE PRUDENCIAL (X) = (0,95 x IX) (parágrafo único do art. 22 da LRF) | E36: =E30*0.513 -> 58856961 | F36: 51.3
A37: LIMITE DE ALERTA (XI) = (0,90 x IX) (inciso II do §1º do art. 59 da LRF) | E37: =E30*0.486 -> 55759227 | F37: 48.6
A38: 1.Nos demonstrativos elaborados no primeiro e no segundo quadrimestre de cada exercício, os valores de restos a pagar não processados incritos em 31 de dezembro
A39: do exercício anterior continuarão a ser informados nesse campo. Esses valores não sofrem alteração pelo seu processamento, e somente no caso de cancelamento
A40: podem ser excluídos.
A41: Nota:
C44: Giovani Amestoy da Silva | D44: Ihoko Nakashima Mota | F44: Arlei Lopes Souza
...

Sheet Restos
A2: Prefeitura Municipal de Cacapava do Sul - RS
A3: Relatório Resumido da Execução Orçamentária
A4: Demonstrativo dos Restos a Pagar por Poder e Órgão
A5: Orçamentos Fiscal e da Seguridade Social
A6: Janeiro a Dezembro 2021/Bimestre Novembro-Dezembro
A8: RREO - ANEXO 7 (LRF, art.53, inciso V) | M8: R$ 1,00
A9: PODER/ÓRGÃO | B9: RESTOS A PAGAR PROCESSADOS | G9: RESTOS A PAGAR NÃO PROCESSADOS | M9: Saldo Total
B11: Inscritos | D11: Pagos | E11: Cancelados | F11: Saldo | G11: Inscritos | I11: Liquidados | J11: Pagos | K11: Cancelados | L11: Saldo
B12: Em Exercícios | C12: Em 31 de | G12: Em Exercícios | H12: Em 31 de
B13: Anteriores | C13: dezembro de 2020 | G13: Anteriores | H13: dezembro de 2020
B14: (a) | C14: (b) | D14: (c) | E14: (d) | F14: e=(a+b)-(c+d) | G14: (f) | H14: (g) | I14: (h) | J14: (i) | K14: (j) | L14: k=(f+g)-(i+j) | M14: L=(e+k)
A15: RESTOS A PAGAR(EXCETO INTRA-ORÇAMENTÁRIOS) (I) | B15: 1303549.9 | C15: 2281327.1 | D15: 2246576.6 | E15: 32792.54 | F15: 1305507.8 | G15: 509042.12 | H15: 2247573 | I15: 1424399.2 | J15: 1370029 | K15: 12404.78 | L15: 1374181.4 | M15: 2679689.2
A16: PODER EXECUTIVO | B16: 1303549.9 | C16: 2279176.2 | D16: 2244425.7 | E16: 32792.54 | F16: 1305507.8 | G16: 509042.12 | H16: 2247573 | I16: 1424399.2 | J16: 1370029 | K16: 12404.78 | L16: 1374181.4 | M16: 2679689.2
A17: PODER LEGISLATIVO | B17: 0 | C17: 2150.91 | D17: 2150.91 | E17: 0 | F17: 0 | G17: 0 | H17: 0 | I17: 0 | J17: 0 | K17: 0 | L17: 0 | M17: 0
A18: CAMARA MUNICIPAL CACAPAVA DO SUL | B18: 0 | C18: 2150.91 | D18: 2150.91 | E18: 0 | F18: 0 | G18: 0 | H18: 0 | I18: 0 | J18: 0 | K18: 0 | L18: 0 | M18: 0
A19: RESTOS A PAGAR(INTRA-ORÇAMENTÁRIOS) (II) | B19: 14044179 | C19: 9054967.9 | D19: 4872672.6 | E19: 0.02 | F19: 18226475 | G19: 0 | H19: 0 | I19: 0 | J19: 0 | K19: 0 | L19: 0 | M19: 18226475
A20: PODER EXECUTIVO | B20: 14044179 | C20: 9054967.9 | D20: 4872672.6 | E20: 0.02 | F20: 18226475 | G20: 0 | H20: 0 | I20: 0 | J20: 0 | K20: 0 | L20: 0 | M20: 18226475
A21: TOTAL (III) = (I+II) | B21: 15347729 | C21: 11336295 | D21: 7119249.2 | E21: 32792.56 | F21: 19531982 | G21: 509042.12 | H21: 2247573 | I21: 1424399.2 | J21: 1370029 | K21: 12404.78 | L21: 1374181.4 | M21: 20906164

Sheet RCL
B1: DEMONSTRATIVO DA RECEITA CORRENTE LÍQUIDA | E1: INSTRUÇÃO NORMATIVA nº 18/2021 - TCE/RS. | H1: Página: 1/2 | I1: DEMONSTRATIVO DA RECEITA CORRENTE LÍQUIDA | M1: INSTRUÇÃO NORMATIVA nº 18/2021 - TCE/RS. | U1: Página: 2/2
C2: TOTAIS: | D2: 44531 | E2: 44501 | F2: 44470 | G2: 44440 | H2: 44409 | I2: 44378 | J2: 44348 | K2: 44317 | L2: 44287 | M2: 44256 | N2: 44228 | O2: 44197
A3: Lei Complementar Federal Nº 101/2000 - Inciso I do Artigo 53 | D3: 12º Mês | E3: 11º mês | F3: 10º Mês | G3: 09º mês | H3: 08º Mês | I3: 07º mês | J3: 06º Mês | K3: 05º Mês | L3: 04º Mês | M3: 03º Mês | N3: 02º Mês | O3: 01º Mês
A4: Discriminação | B4: Códificação: | C4: =SUM(D4:O4) -> 0
A5: I - RECEITAS CORRENTES | C5: =SUM(D5:O5) -> 125445278 | D5: =D6-D7 -> 16377827 | E5: =E6-E7 -> 11336688 | F5: =F6-F7 -> 11215125 | G5: =G6-G7 -> 8599619.9 | H5: =H6-H7 -> 9409782.6 | I5: =I6-I7 -> 12193906 | J5: =J6-J7 -> 8870336.5 | K5: =K6-K7 -> 9932379.9 | ... O5: =O6-O7 -> 10099076
A6: Receitas Correntes | B6: 1.0.0.0.0.00.00.00 | C6: =SUM(D6:O6) -> 1.4153014e+08 | D6: =18101953.5 -> 18101954 | E6: =12785520.99 -> 12785521 | F6: 13127308 | G6: 9720598.5 | H6: =10728421.86 -> 10728422 | I6: 13657496 | J6: =9968466.03 -> 9968466 | K6: 11100660 | L6: =10680236.85 -> 10680237 | M6: 10150954 | N6: =9916523.05 -> 9916523.1 | O6: =11591995.86 -> 11591996
A7: (R) Deduções das Receitas Correntes | B7: 9.1.0.0.0.00.0.0.00.00.00.00 | C7: =SUM(D7:O7) -> 16084857 | D7: =1724126.79 -> 1724126.8 | E7: =1448833.1 -> 1448833.1 | F7: 1912183 | G7: =1120978.6 -> 1120978.6 | H7: =1318639.3 -> 1318639.3 | I7: 1463590.1 | J7: =1098129.55 -> 1098129.6 | K7: =1168280.37 -> 1168280.4 | L7: 1050734.4 | M7: 1136435.2 | N7: 1150006.5 | O7: 1492920.3
A8: II - DEDUÇÕES | C8: =SUM(D8:O8) -> 10714359 | D8: =SUM(D9:D30) -> 1700784.6 | E8: =SUM(E9:E30) -> 1208448.2 | F8: =SUM(F9:F30) -> 758296.16 | G8: =SUM(G9:G30) -> 789004.97 | H8: =SUM(H9:H30) -> 672336.2 | I8: =SUM(I9:I30) -> 678619.85 | J8: =SUM(J9:J30) -> 698021.15 | K8: =SUM(K9:K30) -> 853276.06 | ... O8: =SUM(O9:O30) -> 1052799.9
A9: Ativos/Inativos Poder Executivo/Indiretas | B9: 1.1.1.3.03.1.1.01 | C9: =SUM(D9:O9) -> 352766.44 | O9: 352766.44
A10: Ativos/Inativos Poder Legislativo | B10: 1.1.1.3.03.1.1.02 | C10: =SUM(D10:O10) -> 43092.75 | O10: 43092.75
A11: Contribuições para Custeio dos Sistemas Previdenciário e Assistencial
A12: Contribuições Sociais Específicas de Estados, DF e Municípios | B12: 1.2.1.8.00.0.0.00.00.00
A13: Contribuição para o RPPS do Servidor Público | B13: 1.2.1.8.01 | C13: =SUM(D13:O13) -> 5206384.1 | D13: =653486.68+91787.64+94059.92 -> 839334.24 | E13: =293422.03+89308.42+5470.32 -> 388200.77 | F13: =293539.42+89308.42+5470.32 -> 388318.16 | G13: =299513.45+89308.42+5470.32 -> 394292.19 | H13: =294469.34+89696.81+5886.79 -> 390052.94 | I13: =296366.8+88943.6+5398.89 -> 390709.29 | J13: =298472.38+5398.89+88625.3 -> 392496.57 | K13: =298361.17+88371.47+5398.89 -> 392131.53 | L13: =313926.32+96754.49+6252.66 -> 416933.47 | M13: =318012.38+94784+6494.53 -> 419290.91 | N13: =307814.79+84619.56+4732.59 -> 397166.94 | O13: =302663.53+89412.23+5381.31 -> 397457.07
A14: Contribuição Social para o Financiamento da Seguridade Social | B14: 1.2.1.9.99.1.1.03 e .04 | C14: =SUM(D14:O14) -> 1622104.8 | D14: =78489.05+53390.9 -> 131879.95 | E14: =79522.33+53379.19 -> 132901.52 | F14: =97373.51+54029.42 -> 151402.93 | G14: =78297.89+53855.24 -> 132153.13 | H14: =79675.55+54607.44 -> 134282.99 | I14: =79600.29+53390.39 -> 132990.68 | J14: =80247.08+53261.04 -> 133508.12 | K14: =79557.62+53143.65 -> 132701.27 | L14: =81236.98+55047.24 -> 136284.22 | M14: =79585.02+54161.84 -> 133746.86 | N14: =77926.13+51030.99 -> 128957.12 | O14: =90346.65+50949.34 -> 141295.99
A15: Compensação Previdenciária ao RPPS | C15: =SUM(D15:O15) -> 0
A16: Compensação Financeira entre o Regime Geral e os Regimes Próprios de Previdência dos Servidores (312) | B16: 1.9.9.0.03.1.1.00.00.00 | C16: =SUM(D16:O16) -> 462025.25 | D16: 90184.06 | E16: =41374.67 -> 41374.67 | F16: 41374.67 | G16: 41374.67 | H16: =41374.67 -> 41374.67 | I16: 41374.67 | J16: 41374.67 | K16: =41257.47 -> 41257.47 | L16: 41167.85 | M16: 41167.85
A17: Receitas do RPPS - Remuneração e Outras Receitas | C17: =SUM(D17:O17) -> 0
A18: Remuneração dos Recurso do Regime Próprio de Previdências Social - RPPS (310) | B18: 1.3.2.1.00.4.0.00.00.00 | C18: =SUM(D18:O18) -> 1456072.1 | D18: =468274.43 -> 468274.43 | E18: =559892.02-(2703.66+30050.01) -> 527138.35 | F18: =356724.71-334520.02 -> 22204.69 | G18: =207190.52-117856.34 -> 89334.18 | H18: =93050.89-139895.26 -> -46844.37 | I18: =73898.94-87402.27 -> -13503.33 | J18: =48213.11-50509.62 -> -2296.51 | K18: =196118.17-25818.29 -> 170299.88 | L18: =248546.13-11575.91 -> 236970.22 | M18: =70335.98-81867.41 -> -11531.43 | N18: =7644.48 -> 7644.48 | O18: =21390.5-13008.99 -> 8381.51
A19: Outras Receitas Receitas Diretamente Arrecadadas pelo RPPS (1.2.1.8.03.1.1) 326 | B19: 1.9.9.0.99.1.X.01.00.00 | C19: =SUM(D19:O19) -> 24676.12 | D19: 12818.13 | I19: 1056.75 | J19: 1981.34 | K19: 1981.34 | L19: =1981.34 -> 1981.34 | M19: =1981.34 -> 1981.34 | N19: 1437.94 | O19: 1437.94
A20: Receitas do Fundo de Assistência Social Social dos Servidores | B20: 1.3.2.1.00.1.1.01.10 | C20: =SUM(D20:O20) -> 0
A21: Remuneração de Depósitos Bancários de Recursos Vinculados - Fundo de Assistência Social | B21: 1.3.2.1.00.1.X.01.09
A22: Receitas Diretamente Arrecadadas pelo Fundo de Assistência Social dos Servidores | B22: 1.9.9.0.99.1.X.02.00.00 | C22: =SUM(D22:O22) -> 0
A23: Receitas do Fundo de Assistência à Saúde do Servidor | C23: =SUM(D23:O23) -> 0
A24: Remuneração de Depósito Bancários de Recursos Vínculados - Fundo de Assistência à Saúde do Servidor (341) | B24: 1.3.2.1.00.1.X.01.10.00 | C24: =SUM(D24:O24) -> 35040.63 | D24: =7750.51 -> 7750.51 | E24: =3451.15 -> 3451.15 | F24: 3251.51 | G24: 3466.3 | H24: =3240.91 -> 3240.91 | I24: =2716.37 -> 2716.37 | J24: =3681.13 -> 3681.13 | K24: =2624.65 -> 2624.65 | L24: =390.81 -> 390.81 | M24: 1595.84 | N24: 1427.22 | O24: =1444.23 -> 1444.23
A25: Receitas Diretamente Arrecadadas pelo Fundo de Assistência à Saúde dos Servidores (343) | B25: 1.9.9.0.99.1.X.03.00.00 | C25: =SUM(D25:O25) -> 1512196.9 | D25: =150593.31-50 -> 150543.31 | E25: =115381.72 -> 115381.72 | F25: 151744.2 | G25: =128384.5 -> 128384.5 | H25: =150351.34-122.28 -> 150229.06 | I25: =123275.42 -> 123275.42 | J25: =127275.83 -> 127275.83 | K25: =112279.92 -> 112279.92 | L25: =119852.53-42 -> 119810.53 | M25: =108541.5 -> 108541.5 | N25: =119962.13-2155.23 -> 117806.9 | O25: =107183.73-259.75 -> 106923.98
A26: Outras Contribuições Sociais | C26: =SUM(D26:O26) -> 0
A27: Outras Contribuições Sociais (1) | B27: 1.2.1.9.00.0.0.00.00.00 | C27: =SUM(D27:O27) -> 0
A28: ( - ) Compensação Previdenciárfia à Prefeitura Municipal | B28: (1.2.1.9.99.1.X.01.00.00) | C28: =SUM(D28:O28) -> 0
A29: ( - ) Contribuição dos Inativos e Pensionistas à Prefeitura Municipal | B29: (1.2.1.9.99.1.X.02.00.00) | C29: =SUM(D29:O29) -> 0
A30: ( R ) Todas as contas dedutoras de receita correspondentes às utilizadas acima | C30: =SUM(D30:O30) -> 0
A31: III - SUBTOTAL (III = I - II) | C31: =SUM(D31:O31) -> 1.1473092e+08 | D31: =D5-D8 -> 14677042 | E31: =E5-E8 -> 10128240 | F31: =F5-F8 -> 10456829 | G31: =G5-G8 -> 7810614.9 | H31: =H5-H8 -> 8737446.4 | I31: =I5-I8 -> 11515286 | J31: =J5-J8 -> 8172315.3 | K31: =K5-K8 -> 9079103.9 | ... O31: =O5-O8 -> 9046275.6
A32: IV - ( + ) Perda para o FUNDEB | C32: =SUM(D32:O32) -> 0
A33: V - RECEITA CORRENTE LÍQUIDA (V = III + V) | C33: =SUM(D33:O33) -> 1.1473092e+08 | D33: =D31+D32 -> 14677042 | E33: =E31+E32 -> 10128240 | F33: =F31+F32 -> 10456829 | G33: =G31+G32 -> 7810614.9 | H33: =H31+H32 -> 8737446.4 | I33: =I31+I32 -> 11515286 | J33: =J31+J32 -> 8172315.3 | K33: =K31+K32 -> 9079103.9 | ... O33: =O31+O32 -> 9046275.6
A34: VI - Valor das Emendas Parlamentares de Individuais | C34: =SUM(D34:O34) -> 980000 | E34: 100000 | F34: =880000 -> 880000
A35: VII - RECEITA CORRENTE LÍQUIDA Endividamento) (VIII = V - VI) | C35: =SUM(D35:O35) -> 1.1375092e+08 | D35: =D33-D34 -> 14677042 | E35: =E33-E34 -> 10028240 | F35: =F33-F34 -> 9576828.8 | G35: =G33-G34 -> 7810614.9 | H35: =H33-H34 -> 8737446.4 | I35: =I33-I34 -> 11515286 | J35: =J33-J34 -> 8172315.3 | K35: =K33-K34 -> 9079103.9 | ... O35: =O33-O34 -> 9046275.6
A36: VIII - Valor das Emendas Parlamentares de Bancada | C36: =SUM(D36:O36) -> 350000 | I36: 350000
A37: IX - RECEITA CORRENTE LIQUIDA (Despesas com Pessoal) (IX = VII - VIII) | C37: =SUM(D37:O37) -> 1.1340092e+08 | D37: =D35-D36 -> 14677042 | E37: =E35-E36 -> 10028240 | F37: =F35-F36 -> 9576828.8 | G37: =G35-G36 -> 7810614.9 | H37: =H35-H36 -> 8737446.4 | I37: =I35-I36 -> 11165286 | J37: =J35-J36 -> 8172315.3 | K37: =K35-K36 -> 9079103.9 | ... O37: =O35-O36 -> 9046275.6
A38: Fonte da Metodologia TCE/RS. (OBS.: Foi deduzidos os valores das Emendas Parlamentares) | D38: =14677042.08-D37 -> 0 | E38: =10128239.71-E37 -> 100000 | F38: =10456828.75-F37 -> 880000 | G38: =7810614.92-G37 -> 0 | H38: =8737446.36-H37 -> 0 | I38: =11515286.49-I37 -> 350000 | J38: =8172315.33-J37 -> 0 | K38: =9079103.88-K37 -> 0
A39: ( 1 ) A Natureza de Receita 1.2.9.99.1.0.00.00.00 - Demais Contribuições Socias deverá ser detalhada conforme a necessidade do Orgão para a contabilização das contribuições para Fundos de Assitência Médica dos Servidores Municipais.
A40: ( 2 ) Valor correspondente à Soma das Receitas Arrecadadas no período com os complementos de recurso vínculado código 3110 - transferências da União decorrentes de Emendas Pralamentares Individuais e 3410 - TransferÊncias da União decorrentes de Emndas Parlamentares Individuais - COVID-19.
...

Sheet DCLP
B1: Modelo 2 - Demonstrativo da Despesa com Pessoal | H1: INSTRUÇÃO NORMATIVA nº 18/2021 - TCE/RS. | K1: Página: 1/2 | M1: Modelo 2 - Demonstrativo da Despesa com Pessoal | R1: INSTRUÇÃO NORMATIVA nº 18/2021 - TCE/RS. | W1: Página: 2/2
A2: Lei Complementar Federal nº 101/2000, artigo 54 e alínea "a" do inciso I do artigo 55
A3: Despesa Líquidada | B3: 9000 - Prefeitura e Fundos: | H3: Total dos últimos | I3: =RCL!D2 -> 44531 | J3: =RCL!E2 -> 44501 | K3: =RCL!F2 -> 44470 | L3: =RCL!G2 -> 44440 | M3: =RCL!H2 -> 44409 | N3: =RCL!I2 -> 44378 | O3: =RCL!J2 -> 44348 | P3: =RCL!K2 -> 44317 | ... T3: =RCL!O2 -> 44197
A4: Discriminação | B4: Detalhamento: | G4: Codificação: | H4: 12 meses | I4: 12º Mês | J4: 11º mês | K4: 10º Mês | L4: 9º Mês | M4: 8º Mês | N4: 7º Mês | O4: 6º Mês | P4: 5º Mês | Q4: 4º Mês | R4: 3º Mês | S4: 2º Mês | T4: 1º Mês
A5: I - NATUREZA DE DESPESA | H5: =SUM(I5:T5) -> 96188829 | I5: =I6+I7 -> 15244094 | J5: =J6+J7 -> 7378248.6 | K5: =K6+K7 -> 7307481.9 | L5: =L6+L7 -> 7201087.4 | M5: =M6+M7 -> 7291245.3 | N5: =N6+N7 -> 7457935.2 | O5: =O6+O7 -> 7299492 | P5: =P6+P7 -> 7278817.8 | ... T5: =T6+T7 -> 7252406.9
A6: Pessoal e encargos sociais | G6: 3.1.00.00.00.00 | H6: =SUM(I6:T6) -> 95074088 | I6: =15177341.49 -> 15177341 | J6: =7311846.31 -> 7311846.3 | K6: 7235984.9 | L6: =7106261.44 -> 7106261.4 | M6: =7167386.63 -> 7167386.6 | N6: =7526337.83-236922.78 -> 7289415 | O6: =7170867.52 -> 7170867.5 | P6: =7046389.84 -> 7046389.8 | Q6: =7237452.49 -> 7237452.5 | R6: 7577072.3 | S6: =7501662.83 -> 7501662.8 | T6: 7252406.9
A7: Outras Despesas de Pessoal de Contratos de Terceirização - Substituição de mão de obra (art. 18, § 1º da LRF) | G7: 3.3.XX.34.01.00 | H7: =SUM(I7:T7) -> 1114741 | I7: =66752.4 -> 66752.4 | J7: =66402.3 -> 66402.3 | K7: 71497 | L7: =94826 -> 94826 | M7: =123858.67 -> 123858.67 | N7: 168520.14 | O7: =128624.5 -> 128624.5 | P7: =232428 -> 232428 | R7: 124344 | S7: 37488
A8: II - DEDUÇÕES | H8: =SUM(I8:T8) -> 26584787 | I8: =SUM(I10:I19) -> 3828455.8 | J8: =SUM(J10:J19) -> 2029057.4 | K8: =SUM(K10:K19) -> 1934118.1 | L8: =SUM(L10:L19) -> 1937387.8 | M8: =SUM(M10:M19) -> 1922337.1 | N8: =SUM(N10:N19) -> 2153651.4 | O8: =SUM(O10:O19) -> 2016525.9 | P8: =SUM(P10:P19) -> 1894472.9 | ... T8: =SUM(T10:T19) -> 2207517.2
A10: Aposentadoria do RPPS, Reserva Remunerada e Reformas dos Militares (com recursos do RPPS) | G10: 3.1.90.01 | H10: =SUM(I10:T10) -> 21412073 | I10: =3278600.89 -> 3278600.9 | J10: =1652874.5 -> 1652874.5 | K10: 1651696.4 | L10: =1649833.24 -> 1649833.2 | M10: =1648483.54 -> 1648483.5 | N10: 1652132.2 | O10: =1649294.67 -> 1649294.7 | P10: =1642118.8 -> 1642118.8 | Q10: =1638614.89 -> 1638614.9 | R10: =1695217.98 -> 1695218 | S10: =1674599.82 -> 1674599.8 | T10: 1578605.8
A12: Pensões do RPPS e do Militar (com Recursos do RPPS) | G12: 3.1.90.03 | H12: =SUM(I12:T12) -> 2785344.7 | I12: =425586.98 -> 425586.98 | J12: =213881.89 -> 213881.89 | K12: 214871 | L12: =214871 -> 214871 | M12: =214871 -> 214871 | N12: 231683.43 | O12: =210844.25 -> 210844.25 | P12: =210918.91 -> 210918.91 | Q12: =209700.26 -> 209700.26 | R12: =219471.11 -> 219471.11 | S12: =222290.44 -> 222290.44 | T12: =196354.43 -> 196354.43
H13: =SUM(I13:T13) -> 0
A14: Sentenças Judiciais | F14: =73331.76-H14 -> 0 | G14: 3.1.X.X.91 | H14: =SUM(I14:T14) -> 73331.76 | I14: 53381.19 | J14: 1335.92 | K14: 6469.51 | L14: =1335.92 -> 1335.92 | M14: =1335.92 -> 1335.92 | N14: =1335.92 -> 1335.92 | O14: =1335.92 -> 1335.92 | P14: =1335.92 -> 1335.92 | Q14: 1335.92 | R14: =1396.85 -> 1396.85 | S14: =1396.85 -> 1396.85 | T14: 1335.92
A16: Despesas de Exercícios Anteriores | G16: 3.1.90.92 | H16: =SUM(I16:T16) -> 0
A18: Indenizações e Restituições Trabalhistas | G18: 3.1.9.0.94 | H18: =SUM(I18:T18) -> 2314037.4 | I18: =70886.76 -> 70886.76 | J18: =160965.04 -> 160965.04 | K18: 61081.18 | L18: =71347.66 -> 71347.66 | M18: 57646.67 | N18: 268499.77 | O18: =155051.03 -> 155051.03 | P18: =40099.27 -> 40099.27 | Q18: =253398.44 -> 253398.44 | R18: =378775.85 -> 378775.85 | S18: 365064.69 | T18: 431221.06
H19: =SUM(I19:T19) -> 0
A20: III - TOTAL DAS NATUREZAS DE DESPESA (I - II) | H20: =SUM(I20:T20) -> 69604042 | I20: =I5-I8 -> 11415638 | J20: =J5-J8 -> 5349191.3 | K20: =K5-K8 -> 5373363.8 | L20: =L5-L8 -> 5263699.6 | M20: =M5-M8 -> 5368908.2 | N20: =N5-N8 -> 5304283.8 | O20: =O5-O8 -> 5282966.1 | P20: =P5-P8 -> 5384344.9 | ... T20: =T5-T8 -> 5044889.7
A21: Recursos para cobertura de Insuficências Financeiras | G21: 3.5.1.3.2.01.01 | H21: =SUM(I21:T21) -> 0
A22: Recursos para cobertura de Déficit Financeiro | G22: 3.5.1.3.2.02.01 | H22: =SUM(I22:T22) -> 0
A23: IV - TOTAL DAS CONTAS PATRIMONIAIS | H23: =SUM(I23:T23) -> 0 | I23: =SUM(I21:I22) -> 0 | J23: =SUM(J21:J22) -> 0 | K23: =SUM(K21:K22) -> 0 | L23: =SUM(L21:L22) -> 0 | M23: =SUM(M21:M22) -> 0 | N23: =SUM(N21:N22) -> 0 | O23: =SUM(O21:O22) -> 0 | P23: =SUM(P21:P22) -> 0 | ... T23: =SUM(T21:T22) -> 0
A24: Cálculo Despesa c/ Pessoal 1º e 2º Quadrimestre/1º Semestre: Emp. Não Liquidados | B24: Cálculo das contas das naturezas de despesas de pessoal dos Itens I e II | H24: =SUM(I24:T24) -> 5.8207661e-10 | I24: =(15143005.9-I6)+(-1283.7-I7) -> -102371.69 | J24: =(7288911.42+134438.4)-(J6+J7) -> 45101.21 | K24: =(7229419.31+71497)-(K6+K7) -> -6565.63 | L24: =(7097448.16+94826)-(L6+L7) -> -8813.28 | M24: =(7157933.11+123858.67)-(M6+M7) -> -9453.52 | N24: =(7280601.77+109820.64)-(N6+N7) -> -67512.78 | O24: =7154869.31-(O6+O66) -> -15998.21 | P24: =(7045109.36-P6+355000-P7)-128624.5 -> -7332.98 | Q24: =7228639.21-Q6+1584-Q7 -> -7229.28 | R24: =7670632.48-R6+70000-R7 -> 39216.16 | S24: =7447735.4-S6+155000-S7 -> 63584.57 | T24: =7329782.33-T6 -> 77375.43
A25: Cálculo Despesa c/ Pessoal 3º Quadrimestre/2º Semestre: Restos a Pagar Não Processados | B25: Cálculo das contas das naturezas de despesas de pessoal dos Itens I e II | H25: =SUM(I25:T25) -> 0
A26: V - TOTAL DOS EMPENHOS NÃO LÍQUIDADOS - RESTOS A PAGAR NÃO PROCESSADOS | H26: =SUM(I26:T26) -> 5.8207661e-10 | I26: =SUM(I24:I25) -> -102371.69 | J26: =SUM(J24:J25) -> 45101.21 | K26: =SUM(K24:K25) -> -6565.63 | L26: =SUM(L24:L25) -> -8813.28 | M26: =SUM(M24:M25) -> -9453.52 | N26: =SUM(N24:N25) -> -67512.78 | O26: =SUM(O24:O25) -> -15998.21 | P26: =SUM(P24:P25) -> -7332.98 | ... T26: =SUM(T24:T25) -> 77375.43
B27: Informação da Execução do Consórcio p/ consolidação - maio a Dez | G27: 8.5.3.2.4.01.01 | H27: =SUM(I27:T27) -> 0
A28: Contas Aplicáveis ao 1º Quadrimestre (1) | B28: Informação da Execução do Consórcio p/ consolidação - Exercício atual - 1º Bimestre | G28: 8.5.3.2.4.02.01 | H28: =SUM(I28:T28) -> 0
B29: Informação da Execução do Consórcio p/ consolidação - Exercício atual - 2º Bimestre | G29: 8.5.3.2.4.02.02 | H29: =SUM(I29:T29) -> 0
B30: Informação da Execução do Consórcio p/ consolidação - julho a Dez | G30: 8.5.3.2.4.01.02 | H30: =SUM(I30:T30) -> 0
A31: Contas Aplicáveis ao 1º Semestre (1) | B31: Informação da Execução do Consórcio p/ consolidação - Exercício atual - 1º Bimestre | G31: 8.5.3.2.4.02.01 | H31: =SUM(I31:T31) -> 0
B32: Informação da Execução do Consórcio p/ consolidação - Exercício atual - 2º Bimestre | G32: 8.5.3.2.4.02.02 | H32: =SUM(I32:T32) -> 0
B33: Informação da Execução do Consórcio p/ consolidação - Exercício atual - 3º Bimestre | G33: 8.5.3.2.4.02.03 | H33: =SUM(I33:T33) -> 0
B34: Informação da Execução do Consórcio p/ consolidação - Setembro a Dez | G34: 8.5.3.2.4.01.03 | H34: =SUM(I34:T34) -> 0
B35: Informação da Execução do Consórcio p/ consolidação - Exercício atual - 1º Bimestre | G35: 8.5.3.2.4.02.01 | H35: =SUM(I35:T35) -> 0
A36: Contas Aplicáveis ao 2º Quadrimestre (1) | B36: Informação da Execução do Consórcio p/ consolidação - Exercício atual - 2º Bimestre | G36: 8.5.3.2.4.02.02 | H36: =SUM(I36:T36) -> 0
B37: Informação da Execução do Consórcio p/ consolidação - Exercício atual - 3º Bimestre | G37: 8.5.3.2.4.02.03 | H37: =SUM(I37:T37) -> 0
B38: Informação da Execução do Consórcio p/ consolidação - Exercício atual - 4º Bimestre | G38: 8.5.3.2.4.02.04 | H38: =SUM(I38:T38) -> 0
B39: Informação da Execução do Consórcio p/ consolidação - Exercício atual - 1º Bimestre | G39: 8.5.3.2.4.02.01 | H39: =SUM(I39:T39) -> 0
B40: Informação da Execução do Consórcio p/ consolidação - Exercício atual - 2º Bimestre | G40: 8.5.3.2.4.02.02 | H40: =SUM(I40:T40) -> 0
A41: Contas Aplicáveis ao 3º Quadrimestre e ao 2º Semestre (1) | B41: Informação da Execução do Consórcio p/ consolidação - Exercício atual - 3º Bimestre | G41: 8.5.3.2.4.02.03 | H41: =SUM(I41:T41) -> 0
B42: Informação da Execução do Consórcio p/ consolidação - Exercício atual - 4º Bimestre | G42: 8.5.3.2.4.02.04 | H42: =SUM(I42:T42) -> 0
B43: Informação da Execução do Consórcio p/ consolidação - Exercício atual - 5º Bimestre | G43: 8.5.3.2.4.02.05 | H43: =SUM(I43:T43) -> 0
B44: Informação da Execução do Consórcio p/ consolidação - Exercício atual - 6º Bimestre | G44: 8.5.3.2.4.02.06 | H44: =SUM(I44:T44) -> 0
...

Sheet DCLP_RCL
C2: Evolução Mensal da Despesa Liquidada com Pessoal | J2: INSTRUÇÃO NORMATIVA nº 18/2021 - TCE/RS.
D4: =DCLP!I3 -> 44531 | E4: =DCLP!J3 -> 44501 | F4: =DCLP!K3 -> 44470 | G4: =DCLP!L3 -> 44440 | H4: =DCLP!M3 -> 44409 | I4: =DCLP!N3 -> 44378 | J4: =DCLP!O3 -> 44348 | K4: =DCLP!P3 -> 44317 | ... O4: =DCLP!T3 -> 44197
B5: TOTAIS DOS ÚLTIMOS 12 MESES | D5: 12º Mês | E5: 11º mês | F5: 10º Mês | G5: 9º Mês | H5: 8º Mês | I5: 7º Mês | J5: 6º Mês | K5: 5º Mês | L5: 4º Mês | M5: 3º Mês | N5: 2º Mês | O5: 1º Mês
B6: Despesa Liquida c/ Pessoal | C6: =(SUM(D6:O6)) -> 69604042 | D6: =DCLP!I46 -> 11313266 | E6: =DCLP!J46 -> 5394292.5 | F6: =DCLP!K46 -> 5366798.2 | G6: =DCLP!L46 -> 5254886.3 | H6: =DCLP!M46 -> 5359454.7 | I6: =DCLP!N46 -> 5236771 | J6: =DCLP!O46 -> 5266967.9 | K6: =DCLP!P46 -> 5377012 | ... O6: =DCLP!T46 -> 5122265.1
B7: Receita Corrente Líquida | C7: =SUM(D7:O7) -> 1.1340092e+08 | D7: =RCL!D37 -> 14677042 | E7: =RCL!E37 -> 10028240 | F7: =RCL!F37 -> 9576828.8 | G7: =RCL!G37 -> 7810614.9 | H7: =RCL!H37 -> 8737446.4 | I7: =RCL!I37 -> 11165286 | J7: =RCL!J37 -> 8172315.3 | K7: =RCL!K37 -> 9079103.9 | ... O7: =RCL!O37 -> 9046275.6
B8: Índice da DCLP s/ a RCL | C8: =C6/C7 -> 0.61378728 | D8: =D6/D7 -> 0.77081379 | E8: =E6/E7 -> 0.5379102 | F8: =F6/F7 -> 0.56039409 | G8: =G6/G7 -> 0.67278779 | H8: =H6/H7 -> 0.61338913 | I8: =I6/I7 -> 0.46902254 | J8: =J6/J7 -> 0.64448907 | ... O8: =O6/O7 -> 0.56622916
B9: Limite Máximo do Índice | C9: 0.54 | D9: 0.54 | E9: 0.54 | F9: 0.54 | G9: 0.54 | H9: 0.54 | I9: 0.54 | J9: 0.54 | K9: 0.54 | L9: 0.54 | M9: 0.54 | N9: 0.54 | O9: 0.54
B10: OBS.: | C10: No Valor da RCL foi deduzidos os valores das Emendandas Parlamentares do Período.
B53: Fonte: | C53: Demonstrativos apurados pela Contabilidade da Receita Corrente Realizada e da Despesa Líquidada Orçamentarias.
C57: Giovani Amestoy da Silva | F57: Ihoko Nakashima Mota | J57: Arlei Lopes Souza
C58: Prefeito Municipal | F58: Secret. de Município da Fazenda | J58: Contador - CRC/RS: 068452/O-6

Sheet AcompFAPS
A2: Aliquotas vigentes em 2021 do FAPS/RPPS
A3: ENTE | B3: SEGURADO
A4: Normal | B4: Normal
A5: 0.1999 | B5: 0.1184
A6: Suplementar | B6: Média dos Segurados
A7: 0.33
F9: Período: | G9: 2021 | H9: 2021 | I9: 2022 | J9: 2023 | K9: 2024 | L9: 2025
F10: L. M. Nº 4167 de 04/08/2020 - Art. 4º - Aliquota do Passivo Atuarial. | G10: 0.33 | H10: 0.335 | I10: 0.4 | J10: 0.5 | K10: 0.74 | L10: 0.72
F11: L. M. Nº 4.244 de 22/07/2021 - Art. 4º - Aliquota do Passivo Atuarial.
B14: Ano: 2021 | D14: Janeiro | E14: Fevereiro | F14: Março | G14: Abril | H14: Maio | I14: Junho | J14: Julho | K14: Agosto | L14: Setembro | M14: Outubro | N14: Novembro | O14: Dezembro | P14: TOTAIS:
B15: Aportes Periodicos
A16: 7.9.9.0.01.1.1 | B16: Amortiz Deficit Atuarial | C16: 311 | D16: 646851.22 | E16: 1584309.8 | F16: 1110585.6 | G16: 1101862.1 | H16: =1041204.38 -> 1041204.4 | I16: 1041463.5 | J16: 1038282 | K16: 1036421.9 | L16: 1047813.3 | M16: 1031939.7 | N16: =1031371.47 -> 1031371.5 | O16: =2257142.6 -> 2257142.6 | P16: =SUM(D16:O16) -> 13969248 | Q16: =13969247.57-P16 -> 0
A17: 7.9.9.0.01.1.3 | B17: Deficit Atuarial - Div Ativa | C17: 320 | D17: 40013.54 | E17: 25467.31 | F17: =43738.35 -> 43738.35 | G17: 147124.29 | H17: =167667.79 -> 167667.79 | I17: 197063.87 | J17: 79480.33 | K17: 114330.75 | L17: 39881.89 | M17: 76483.03 | N17: =132426.56 -> 132426.56 | O17: =81964.99 -> 81964.99 | P17: =SUM(D17:O17) -> 1145642.7 | Q17: =1145642.7-P17 -> 0
B18: 1. Receitas Totais | D18: 1821306.7 | E18: 3418373.4 | F18: 2477692 | G18: 2713144.4 | H18: =2527081.2 -> 2527081.2 | I18: 2358458.2 | J18: 2342207.5 | K18: =2308046.36 -> 2308046.4 | L18: 2466047.5 | M18: 2370360.4 | N18: =2878589.87 -> 2878589.9 | O18: =5272665.5 -> 5272665.5 | P18: =SUM(D18:N18) -> 27681307 | Q18: =27681307.39-P18 -> 0
B19: 2. Total da Despesa Paga | D19: 1774960.3 | E19: 1892028.5 | F19: 1916270.8 | G19: 1847527.9 | H19: 1862823.2 | I19: =1860508.85 -> 1860508.9 | J19: 1888869.8 | K19: 1864374.6 | L19: =1864704.24 -> 1864704.2 | M19: 1868149.1 | N19: =1866454.01 -> 1866454 | O19: =3707726.11 -> 3707726.1 | P19: =SUM(D19:O19) -> 24214397 | Q19: =24214397.41-P19 -> 0
B20: 3. Resultado: 1. - 2. = | C20: (- ) | D20: =D18-D19 -> 46346.42 | E20: =E18-E19 -> 1526344.8 | F20: =F18-F19 -> 561421.16 | G20: =G18-G19 -> 865616.53 | H20: =H18-H19 -> 664258.01 | I20: =I18-I19 -> 497949.35 | J20: =J18-J19 -> 453337.71 | K20: =K18-K19 -> 443671.71 | ... O20: =O18-O19 -> 1564939.4 | P20: =SUM(D20:N20) -> 7174636.1
B22: Valor do déficit para cobertura do Passivo Atuarial: | C22: ( = ) | D22: =SUM(D16:D17)-D20 -> 640518.34 | E22: =SUM(E16:E17)-E20 -> 83432.26 | F22: =SUM(F16:F17)-F20 -> 592902.82 | G22: =SUM(G16:G17)-G20 -> 383369.85 | H22: =SUM(H16:H17)-H20 -> 544614.16 | I22: =SUM(I16:I17)-I20 -> 740577.99 | J22: =SUM(J16:J17)-J20 -> 664424.66 | K22: =SUM(K16:K17)-K20 -> 707080.93 | ... O22: =SUM(O16:O17)-O20 -> 774168.2 | P22: =SUM(D22:O22) -> 6375314.8
B23: Progressão do Déficit no período | E23: =D22+E22 -> 723950.6 | F23: =E23+F22 -> 1316853.4 | G23: =F23+G22 -> 1700223.3 | H23: =G23+H22 -> 2244837.4 | I23: =H23+I22 -> 2985415.4 | J23: =I23+J22 -> 3649840.1 | K23: =J23+K22 -> 4356921 | L23: =K23+L22 -> 4843272.9 | M23: =L23+M22 -> 5449484.4 | ... O23: =N23+O22 -> 6375314.8
B25: Rendimentos Líquidos Auferidos do Período: | D25: =21390.5-13008.99 -> 8381.51 | E25: 7644.48 | F25: =70335.98-81867.41 -> -11531.43 | G25: 236970.22 | H25: =196118.17-25818.29 -> 170299.88 | I25: =48213.11-50509.62 -> -2296.51 | J25: =73898.94-87402.27 -> -13503.33 | K25: =93050.89-139895.26 -> -46844.37 | L25: =207190.52-117856.34 -> 89334.18 | M25: =356724.71-334520.02 -> 22204.69 | N25: =559892.02-(2703.66+30050.01) -> 527138.35 | O25: =468274.43 -> 468274.43 | P25: =SUM(D25:N25) -> 987797.67 | Q25: =(1883005.45-(2703.66+892504.12))-P25 -> 0
B28: Saldo dos Valores Aplicados: | D28: 33033587 | E28: 32875957 | F28: 34457888 | G28: 35776936 | H28: 35898682 | I28: =35480656.82 -> 35480657 | J28: =35920808.42 -> 35920808 | K28: 36369533 | L28: =36874615.14 -> 36874615 | M28: 37473088 | N28: 38488332 | O28: 40962776 | P28: TOTAIS:
E29: =E28-D28 -> -157630.07 | F29: =F28-E28 -> 1581931.6 | G29: =G28-F28 -> 1319048 | H29: =H28-G28 -> 121746.14 | I29: =I28-H28 -> -418025.45 | J29: =J28-I28 -> 440151.6 | K29: =K28-J28 -> 448724.77 | L29: =L28-K28 -> 505081.95 | ... O29: =O28-N28 -> 2474443.8 | P29: =SUM(E29:O29) -> 7929189.6 | Q29: =O28-D28-P29 -> 0
C31: Percentual dos Rendimentos em relação ao Saldo: | D31: =D25/D28 -> 0.00025372691 | E31: =E25/E28 -> 0.00023252495 | F31: =F25/F28 -> -0.00033465284 | G31: =G25/G28 -> 0.0066235471 | H31: =H25/H28 -> 0.0047439034 | I31: =I25/I28 -> -6.472569e-05 | J31: =J25/J28 -> -0.00037591943 | K31: =K25/K28 -> -0.0012880113 | ... O31: =O25/O28 -> 0.011431706 | P31: =SUM(D31:O31) -> 0.037933353
B36: Giovani Amestoy da Silva | E36: Ihoko Nakashima Mota | H36: Arlei Lopes Souza
B37: Prefeito Municipal | E37: Secret. de Município da Fazenda | H37: Contador - CRC/RS: 068452/O-6
B41: ANÁLISE DO EXERCÍCIO ENCERRADO DE 2021 DAS MOVIMENTAÇÕES FINANCEIRAS DO FAPS/RPPS:
A42: 1. | B42: A PM de Caçapava do Sul repassou ao FAPS/RPPS para recuperação do Passivo Atuarial: | H42: =P16+P17 -> 15114890
A43: 2. | B43: O saldo inicial das aplicações do FAPS/RPPS em 1º de janeiro de 2021 nos bancos totalizavam o montante de: | I43: =D28 -> 33033587
A44: 3. | B44: Os Rendimemtos líquidos das aplicações finanaceiras do FAPS/RPPS totalizaram em 31 de dezembro/2021: | I44: =P25 -> 987797.67
A45: 4. | B45: O saldo final das aplicações do FAPS/RPPS em 31 de dezembro de 2021 nos bancos totalizam o montante de: | I45: =O28 -> 40962776
A46: 5. | B46: O Passivo Atuarial que deveria ter sido recuperado no mínimo no valor constante no item "1." foi recuperado só: | I46: =I45-(I43+I44) -> 6941391.9
A47: 6. | B47: Os Rendimentos das aplicações renderam durante o ano, somente 3,79% e este percentual ficou abaixo, por exemplo que os rendimentos da poupança
B48: Inflação | D48: Rend. p/Poupança | E48: Perda: | F48: Num Aplicação: | G48: temos a Perda de
B49: 0.106 | D49: =B49-E49 -> 0.0423 | E49: 0.0637 | F49: 1000 | G49: =F49*E49 -> 63.7
B50: Fonte: Fabrício de Castro do UOL, em Brasília de 13/01/2022 17h25
B51: Portanto nas aplicaçôes do FAPS tivemos perdas maiores que se tivessem sidos aplicados na Poupança.
H55: Giovani Amestoy da Silva | K55: Ihoko Nakashima Mota | O55: Arlei Lopes Souza
H56: Prefeito Municipal | K56: Secret. de Município da Fazenda | O56: Contador - CRC/RS: 068452/O-6

Sheet Cronogra
E1: ANEXO II DO CRONOGRAMA DE DESEMBOLSO PARA 2021 | U1: ANEXO III - CRONOGRAMA DE REEMBOLSO E DESEMBOLSO AO MÊS PARA 2021
U2: CRONOGRAMA DE DESEMBOLSO POR ORGÃO PARA O EXERCÍCIO DE 2021
A3: Cronograma | B3: RECEITA CONSOLIDADA REALIZADA | L3: PREVISTO | N3: REESTIMADA | Q3: Seq. | R3: ÓRGÃOS | S3: JANEIRO | T3: FEVEREIRO | U3: MARÇO | V3: ABRIL | W3: MAIO | X3: JUNHO | Y3: JULHO | Z3: AGOSTO | AA3: SETEMBRO | AB3: OUTUBRO | AC3: NOVEMBRO | AD3: DEZEMBRO | AE3: TOTAL
A4: MESES | B4: 2016 | C4: % | D4: 2017 | F4: 2018 | G4: % | H4: 2019 | I4: % | J4: 2020 | K4: % | L4: 2021 | M4: % | N4: 2022 | O4: 2023 | Q4: 1 | R4: Câmara | S4: =4189000/12 -> 349083.33 | T4: =4189000/12 -> 349083.33 | U4: =4189000/12 -> 349083.33 | V4: =4189000/12 -> 349083.33 | W4: =4189000/12 -> 349083.33 | X4: =4189000/12 -> 349083.33 | Y4: =4189000/12 -> 349083.33 | Z4: =4189000/12 -> 349083.33 | ... AD4: =4189000/12 -> 349083.33 | AE4: =SUM(S4:AD4) -> 4189000 | AF4: =AE4/$AE$20 -> 0.029840899
A5: Janeiro | B5: =14399728.14-6630054.7 -> 7769673.4 | C5: =B5/B17 -> 0.08438993 | D5: 8128227.2 | E5: =D5/D17 -> 0.077766632 | F5: 7522241.3 | G5: =F5/F17 -> 0.079831482 | H5: 10690470 | I5: =H5/H17 -> 0.092128812 | J5: 10229896 | K5: =J5/J17 -> 0.082588546 | L5: 11654887 | M5: =L5/L17 -> 0.083025137 | N5: =((F5+H5+J5+L5)/3.15)-354050.16 -> 12375313 | O5: =(H5+J5+L5+N5)/3.15 -> 14270021 | Q5: 2 | R5: Gabinete | S5: =2321581.45*M5 -> 192749.62 | T5: =2321581.45*M6 -> 196936.61 | U5: =2321581.45*M7 -> 184177.54 | V5: =2321581.45*M8 -> 191029.57 | W5: =2321581.45*M9 -> 188976.51 | X5: =2321581.45*M10 -> 171768.81 | Y5: =2321581.45*M11 -> 200982.46 | Z5: =2321581.45*M12 -> 175552.85 | AA5: =2321581.45*M13 -> 173706.73 | AB5: =2321581.45*M14 -> 188600.43 | AC5: =2321581.45*M15 -> 176054.69 | AD5: =2321581.45*M16 -> 281045.64 | AE5: =SUM(S5:AD5) -> 2321581.4 | AF5: =AE5/$AE$20 -> 0.016538094
A6: Fevereiro | B6: 6630054.7 | C6: =B6/B17 -> 0.072012017 | D6: 8406126.3 | E6: =D6/D17 -> 0.080425426 | F6: =7197732.78 -> 7197732.8 | G6: =F6/F17 -> 0.076387563 | H6: =8384491.75 -> 8384491.8 | I6: =H6/H17 -> 0.07225625 | J6: =10875208.14 -> 10875208 | K6: =J6/J17 -> 0.087798312 | L6: 11908060 | M6: =L6/L17 -> 0.084828646 | N6: =(F6+H6+J6+L6)/3.15 -> 12179521 | O6: =(H6+J6+L6+N6)/3.15 -> 13761042 | Q6: 3 | R6: SGM | S6: =1262392.3*M5 -> 104810.29 | T6: =1262392.3*M6 -> 107087.03 | U6: =1262392.3*M7 -> 100149.11 | V6: =1262392.3*M8 -> 103874.99 | W6: =1262392.3*M9 -> 102758.61 | X6: =1262392.3*M10 -> 93401.685 | Y6: =1262392.3*M11 -> 109287.02 | Z6: =1262392.3*M12 -> 95459.309 | AA6: =1262392.3*M13 -> 94455.46 | AB6: =1262392.3*M14 -> 102554.11 | AC6: =1262392.3*M15 -> 95732.191 | AD6: =1262392.3*M16 -> 152822.49 | AE6: =SUM(S6:AD6) -> 1262392.3 | AF6: =AE6/$AE$20 -> 0.0089928194
A7: Março | B7: 6582277.3 | C7: =B7/B17 -> 0.071493085 | D7: =8078817.9 -> 8078817.9 | E7: =D7/D17 -> 0.07729391 | F7: 7899052.6 | G7: =F7/F17 -> 0.083830478 | H7: 8599525.4 | I7: =H7/H17 -> 0.074109377 | J7: 9752914.4 | K7: =J7/J17 -> 0.07873775 | L7: =((D7+F7+H7+J7)/3.15)+238052.79 -> 11136564 | M7: =L7/L17 -> 0.079332795 | N7: =(F7+H7+J7+L7)/3.15 -> 11869224 | O7: =(H7+J7+L7+N7)/3.15 -> 13129596 | Q7: 4 | R7: SMCP | S7: =1831204.8*M5 -> 152036.03 | T7: =1831204.8*M6 -> 155338.62 | U7: =1831204.8*M7 -> 145274.59 | V7: =1831204.8*M8 -> 150679.3 | W7: =1831204.8*M9 -> 149059.89 | X7: =1831204.8*M10 -> 135486.9 | Y7: =1831204.8*M11 -> 158529.89 | Z7: =1831204.8*M12 -> 138471.65 | AA7: =1831204.8*M13 -> 137015.48 | AB7: =1831204.8*M14 -> 148763.25 | AC7: =1831204.8*M15 -> 138867.49 | AD7: =1831204.8*M16 -> 221681.7 | AE7: =SUM(S7:AD7) -> 1831204.8 | AF7: =AE7/$AE$20 -> 0.013044831
A8: Abril | B8: 7609123.8 | C8: =B8/B17 -> 0.082646128 | D8: 8695190.6 | E8: =D8/D17 -> 0.083191042 | F8: 7799663.9 | G8: =F8/F17 -> 0.082775693 | H8: =10080023.23 -> 10080023 | I8: =H8/H17 -> 0.086868078 | J8: =9810398.72 -> 9810398.7 | K8: =J8/J17 -> 0.079201836 | L8: =((D8+F8+H8+J8)/3.15) -> 11550881 | M8: =L8/L17 -> 0.08228424 | N8: =(F8+H8+J8+L8)/3.15 -> 12457450 | O8: =(H8+J8+L8+N8)/3.15 -> 13936112 | Q8: 5 | R8: SMA | S8: =7750365.63*M5 -> 643475.17 | T8: =7750365.63*M6 -> 657453.02 | U8: =7750365.63*M7 -> 614858.16 | V8: =7750365.63*M8 -> 637732.94 | W8: =7750365.63*M9 -> 630879.01 | X8: =7750365.63*M10 -> 573432.85 | Y8: =7750365.63*M11 -> 670959.69 | Z8: =7750365.63*M12 -> 586065.48 | AA8: =7750365.63*M13 -> 579902.42 | AB8: =7750365.63*M14 -> 629623.52 | AC8: =7750365.63*M15 -> 587740.82 | AD8: =7750365.63*M16 -> 938242.54 | AE8: =SUM(S8:AD8) -> 7750365.6 | AF8: =AE8/$AE$20 -> 0.05521076
A9: Maio | B9: 7587298.9 | C9: =B9/B17 -> 0.082409078 | D9: =8219532.42 -> 8219532.4 | E9: =D9/D17 -> 0.078640193 | F9: =7664973.99 -> 7664974 | G9: =F9/F17 -> 0.081346265 | H9: =9454030.45 -> 9454030.4 | I9: =H9/H17 -> 0.081473369 | J9: =10655694.71 -> 10655695 | K9: =J9/J17 -> 0.086026124 | L9: =((D9+F9+H9+J9)/3.15) -> 11426740 | M9: =L9/L17 -> 0.081399903 | N9: =(F9+H9+J9+L9)/3.15 -> 12444901 | O9: =((H9+J9+L9+N9)/3.15)-5409.33 -> 13956929 | Q9: 6 | R9: SMF | S9: =3547551.94*M5 -> 294535.99 | T9: =3547551.94*M6 -> 300934.03 | U9: =3547551.94*M7 -> 281437.21 | V9: =3547551.94*M8 -> 291907.61 | W9: =3547551.94*M9 -> 288770.38 | X9: =3547551.94*M10 -> 262475.72 | Y9: =3547551.94*M11 -> 307116.39 | Z9: =3547551.94*M12 -> 268258.02 | AA9: =3547551.94*M13 -> 265437.02 | AB9: =3547551.94*M14 -> 288195.71 | AC9: =3547551.94*M15 -> 269024.87 | AD9: =3547551.94*M16 -> 429458.98 | AE9: =SUM(S9:AD9) -> 3547551.9 | AF9: =AE9/$AE$20 -> 0.025271458
A10: Junho | B10: 6475322.6 | C10: =B10/B17 -> 0.070331402 | D10: 7486671.7 | E10: =D10/D17 -> 0.071628564 | F10: =7453635.72+55.15 -> 7453690.9 | G10: =F10/F17 -> 0.079103976 | H10: =8906802.9 -> 8906802.9 | I10: =H10/H17 -> 0.076757447 | J10: =8869527.04 -> 8869527 | K10: =J10/J17 -> 0.07160594 | L10: =((D10+F10+H10+J10)/3.15) -> 10386252 | M10: =L10/L17 -> 0.073987844 | N10: =(F10+H10+J10+L10)/3.15 -> 11306753 | O10: =(H10+J10+L10+N10)/3.15 -> 12529948 | Q10: 7 | R10: SMTur | S10: =1229036.08*M5 -> 102040.89 | T10: =1229036.08*M6 -> 104257.47 | U10: =1229036.08*M7 -> 97502.867 | V10: =1229036.08*M8 -> 101130.3 | W10: =1229036.08*M9 -> 100043.42 | X10: =1229036.08*M10 -> 90933.73 | Y10: =1229036.08*M11 -> 106399.32 | Z10: =1229036.08*M12 -> 92936.986 | AA10: =1229036.08*M13 -> 91959.662 | AB10: =1229036.08*M14 -> 99844.324 | AC10: =1229036.08*M15 -> 93202.657 | AD10: =1229036.08*M16 -> 148784.46 | AE10: =SUM(S10:AD10) -> 1229036.1 | AF10: =AE10/$AE$20 -> 0.008755202
A11: Julho | B11: 6763469.2 | C11: =B11/B17 -> 0.073461092 | D11: 9406077.2 | E11: =D11/D17 -> 0.089992433 | F11: 8077958 | G11: =F11/F17 -> 0.085729151 | H11: 9979327.4 | I11: =H11/H17 -> 0.086000296 | J11: =10817635.8 -> 10817636 | K11: =J11/J17 -> 0.087333516 | L11: =((D11+F11+H11+J11)/3.15) -> 12152698 | M11: =L11/L17 -> 0.08657136 | N11: =(F11+H11+J11+L11)/3.15 -> 13024641 | O11: =(H11+J11+L11+N11)/3.15 -> 14595017 | Q11: 8 | R11: SMTSUI | S11: =12475764.3*M5 -> 1035802 | T11: =12475764.3*M6 -> 1058302.2 | U11: =12475764.3*M7 -> 989737.25 | V11: =12475764.3*M8 -> 1026558.8 | W11: =12475764.3*M9 -> 1015526 | X11: =12475764.3*M10 -> 923054.91 | Y11: =12475764.3*M11 -> 1080043.9 | Z11: =12475764.3*M12 -> 943389.66 | AA11: =12475764.3*M13 -> 933468.99 | AB11: =12475764.3*M14 -> 1013505 | AC11: =12475764.3*M15 -> 946086.45 | AD11: =12475764.3*M16 -> 1510289.1 | AE11: =SUM(S11:AD11) -> 12475764 | AF11: =AE11/$AE$20 -> 0.088872766
A12: Agosto | B12: 6706244.7 | C12: =B12/B17 -> 0.072839551 | D12: =7641217.97 -> 7641218 | E12: =D12/D17 -> 0.073107182 | F12: 7400073.4 | G12: =F12/F17 -> 0.078534948 | H12: 8879675.8 | I12: =H12/H17 -> 0.076523669 | J12: =9516468.8 -> 9516468.8 | K12: =J12/J17 -> 0.076828865 | L12: =((D12+F12+H12+J12)/3.15) -> 10615059 | M12: =L12/L17 -> 0.075617785 | N12: =(F12+H12+J12+L12)/3.15 -> 11559136 | O12: =(H12+J12+L12+N12)/3.15 -> 12879473 | Q12: 9 | R12: SEDUC | S12: =38964505.89*M5 -> 3235033.4 | T12: =38964505.89*M6 -> 3305306.3 | U12: =38964505.89*M7 -> 3091163.1 | V12: =38964505.89*M8 -> 3206164.8 | W12: =38964505.89*M9 -> 3171707 | X12: =38964505.89*M10 -> 2882899.8 | Y12: =38964505.89*M11 -> 3373210.3 | Z12: =38964505.89*M12 -> 2946409.6 | AA12: =38964505.89*M13 -> 2915425.2 | AB12: =38964505.89*M14 -> 3165395.1 | AC12: =38964505.89*M15 -> 2954832.3 | AD12: =38964505.89*M16 -> 4716959 | AE12: =SUM(S12:AD12) -> 38964506 | AF12: =AE12/$AE$20 -> 0.27756884
A13: Setembro | B13: 7994407.7 | C13: =B13/B17 -> 0.08683087 | D13: 7402995.9 | E13: =D13/D17 -> 0.070827998 | F13: =6729771.56 -> 6729771.6 | G13: =F13/F17 -> 0.071421219 | H13: =8643003.18 -> 8643003.2 | I13: =H13/H17 -> 0.074484062 | J13: =10310037.68 -> 10310038 | K13: =J13/J17 -> 0.083235548 | L13: =((D13+F13+H13+J13)/3.15) -> 10503431 | M13: =L13/L17 -> 0.074822589 | N13: =(F13+H13+J13+L13)/3.15 -> 11487696 | O13: =(H13+J13+L13+N13)/3.15 -> 12998149 | Q13: 10 | R13: SMS | S13: =27215844.71*M5 -> 2259599.2 | T13: =27215844.71*M6 -> 2308683.3 | U13: =27215844.71*M7 -> 2159109 | V13: =27215844.71*M8 -> 2239435.1 | W13: =27215844.71*M9 -> 2215367.1 | X13: =27215844.71*M10 -> 2013641.7 | Y13: =27215844.71*M11 -> 2356112.7 | Z13: =27215844.71*M12 -> 2058001.9 | AA13: =27215844.71*M13 -> 2036360 | AB13: =27215844.71*M14 -> 2210958.4 | AC13: =27215844.71*M15 -> 2063884.9 | AD13: =27215844.71*M16 -> 3294691.4 | AE13: =SUM(S13:AD13) -> 27215845 | AF13: =AE13/$AE$20 -> 0.19387569
A14: Outubro | B14: 8256815.9 | C14: =B14/B17 -> 0.089681005 | D14: 9451675.9 | E14: =D14/D17 -> 0.090428698 | F14: =7115297.7 -> 7115297.7 | G14: =F14/F17 -> 0.075512702 | H14: =10001253.91 -> 10001254 | I14: =H14/H17 -> 0.086189256 | J14: 9354372.9 | K14: =J14/J17 -> 0.075520223 | L14: =((D14+F14+H14+J14)/3.15) -> 11404000 | M14: =L14/L17 -> 0.081237911 | N14: =(F14+H14+J14+L14)/3.15 -> 12023786 | O14: =(H14+J14+L14+N14)/3.15 -> 13582036 | Q14: 11 | R14: SMAS | S14: =4170062.01*M5 -> 346219.97 | T14: =4170062.01*M6 -> 353740.71 | U14: =4170062.01*M7 -> 330822.67 | V14: =4170062.01*M8 -> 343130.38 | W14: =4170062.01*M9 -> 339442.64 | X14: =4170062.01*M10 -> 308533.9 | Y14: =4170062.01*M11 -> 361007.94 | Z14: =4170062.01*M12 -> 315330.85 | AA14: =4170062.01*M13 -> 312014.84 | AB14: =4170062.01*M14 -> 338767.13 | AC14: =4170062.01*M15 -> 316232.26 | AD14: =4170062.01*M16 -> 504818.71 | AE14: =SUM(S14:AD14) -> 4170062 | AF14: =AE14/$AE$20 -> 0.029705991
A15: Novembro | B15: 7544593.7 | C15: =B15/B17 -> 0.081945238 | D15: 8798730.5 | E15: =D15/D17 -> 0.084181658 | F15: 8267235.2 | G15: =F15/F17 -> 0.087737898 | H15: 7399552.2 | I15: =H15/H17 -> 0.063768194 | J15: =9067503.09 -> 9067503.1 | K15: =J15/J17 -> 0.073204251 | L15: =((D15+F15+H15+J15)/3.15) -> 10645403 | M15: =L15/L17 -> 0.075833947 | N15: =(F15+H15+J15+L15)/3.15 -> 11231649 | O15: =(H15+J15+L15+N15)/3.15 -> 12172733 | Q15: 12 | R15: SMAIC | S15: =1810655.75*M5 -> 150329.94 | T15: =1810655.75*M6 -> 153595.48 | U15: =1810655.75*M7 -> 143644.38 | V15: =1810655.75*M8 -> 148988.43 | W15: =1810655.75*M9 -> 147387.2 | X15: =1810655.75*M10 -> 133966.52 | Y15: =1810655.75*M11 -> 156750.93 | Z15: =1810655.75*M12 -> 136917.78 | AA15: =1810655.75*M13 -> 135477.95 | AB15: =1810655.75*M14 -> 147093.89 | AC15: =1810655.75*M15 -> 137309.17 | AD15: =1810655.75*M16 -> 219194.08 | AE15: =SUM(S15:AD15) -> 1810655.7 | AF15: =AE15/$AE$20 -> 0.012898447
A16: Dezembro | B16: =12149444.83 -> 12149445 | C16: =B16/B17 -> 0.1319606 | D16: 12805493 | E16: =D16/D17 -> 0.12251626 | F16: 11098810 | G16: =F16/F17 -> 0.11778863 | H16: =15020134.53 -> 15020135 | I16: =H16/H17 -> 0.12944119 | J16: 14606142 | K16: =J16/J17 -> 0.11791909 | L16: =((D16+F16+H16+J16)/3.15) -> 16993835 | M16: =L16/L17 -> 0.12105784 | N16: =(F16+H16+J16+L16)/3.15 -> 18323467 | O16: =(H16+J16+L16+N16)/3.15 -> 20617009 | Q16: 13 | R16: Encargos | S16: =3009924.34*M5 -> 249899.38 | T16: =3009924.34*M6 -> 255327.81 | U16: =3009924.34*M7 -> 238785.71 | V16: =3009924.34*M8 -> 247669.34 | W16: =3009924.34*M9 -> 245007.55 | X16: =3009924.34*M10 -> 222697.81 | Y16: =3009924.34*M11 -> 260573.24 | Z16: =3009924.34*M12 -> 227603.81 | AA16: =3009924.34*M13 -> 225210.33 | AB16: =3009924.34*M14 -> 244519.97 | AC16: =3009924.34*M15 -> 228254.44 | AD16: =3009924.34*M16 -> 364374.95 | AE16: =SUM(S16:AD16) -> 3009924.3 | AF16: =AE16/$AE$20 -> 0.021441596
A17: TOTAIS | B17: =SUM(B5:B16) -> 92068727 | C17: =B17/B17 -> 1 | D17: =SUM(D5:D16) -> 1.0452076e+08 | E17: =D17/D17 -> 1 | F17: =SUM(F5:F16) -> 94226502 | G17: =F17/F17 -> 1 | H17: =SUM(H5:H16) -> 1.1603829e+08 | I17: =H17/H17 -> 1 | J17: =SUM(J5:J16) -> 1.238658e+08 | K17: =J17/J17 -> 1 | L17: =SUM(L5:L16) -> 1.4037781e+08 | M17: =L17/L17 -> 1 | N17: =SUM(N5:N16) -> 1.5028354e+08 | O17: =SUM(O5:O16) -> 1.6842806e+08 | Q17: 14 | R17: Reserva | S17: =372483.18*M5 -> 30925.467 | T17: =372483.18*M6 -> 31597.244 | U17: =372483.18*M7 -> 29550.132 | V17: =372483.18*M8 -> 30649.495 | W17: =372483.18*M9 -> 30320.095 | X17: =372483.18*M10 -> 27559.228 | Y17: =372483.18*M11 -> 32246.375 | Z17: =372483.18*M12 -> 28166.353 | AA17: =372483.18*M13 -> 27870.156 | AB17: =372483.18*M14 -> 30259.756 | AC17: =372483.18*M15 -> 28246.87 | AD17: =372483.18*M16 -> 45092.01 | AE17: =SUM(S17:AD17) -> 372483.18 | AF17: =AE17/$AE$20 -> 0.0026534335
A18: % em relação ao ano anterior | D18: =(D17-B17)/B17 -> 0.13524711 | F18: =(F17-D17)/D17 -> -0.09849005 | H18: =(H17-F17)/F17 -> 0.23148253 | J18: =(J17-H17)/H17 -> 0.067456262 | L18: =(L17-J17)/J17 -> 0.13330565 | N18: =(N17-L17)/L17 -> 0.070564768 | O18: =(O17-N17)/N17 -> 0.12073528 | Q18: 15 | R18: FAPS | S18: =25810700.56*M5 -> 2142937 | T18: =25810700.56*M6 -> 2189486.8 | U18: =25810700.56*M7 -> 2047635 | V18: =25810700.56*M8 -> 2123813.9 | W18: =25810700.56*M9 -> 2100988.5 | X18: =25810700.56*M10 -> 1909678.1 | Y18: =25810700.56*M11 -> 2234467.4 | Z18: =25810700.56*M12 -> 1951748 | AA18: =25810700.56*M13 -> 1931223.4 | AB18: =25810700.56*M14 -> 2096807.4 | AC18: =25810700.56*M15 -> 1957327.3 | AD18: =25810700.56*M16 -> 3124587.7 | AE18: =SUM(S18:AD18) -> 25810701 | AF18: =AE18/$AE$20 -> 0.18386596
L19: =140377810.27-L17 -> -0.0023809671 | Q19: 16 | R19: FASM | S19: =4416737.33*M5 -> 366700.22 | T19: =4416737.33*M6 -> 374665.85 | U19: =4416737.33*M7 -> 350392.12 | V19: =4416737.33*M8 -> 363427.87 | W19: =4416737.33*M9 -> 359521.99 | X19: =4416737.33*M10 -> 326784.87 | Y19: =4416737.33*M11 -> 382362.96 | Z19: =4416737.33*M12 -> 333983.89 | AA19: =4416737.33*M13 -> 330471.72 | AB19: =4416737.33*M14 -> 358806.52 | AC19: =4416737.33*M15 -> 334938.63 | AD19: =4416737.33*M16 -> 534680.69 | AE19: =SUM(S19:AD19) -> 4416737.3 | AF19: =AE19/$AE$20 -> 0.031463216
A20: Cronograma | B20: DESPESA CONSOLIDA LIQUIDADA | L20: PREVISTO | N20: REESTIMADA | Q20: = | R20: TOTAL | S20: =SUM(S4:S19) -> 11656178 | T20: =SUM(T4:T19) -> 11901796 | U20: =SUM(U4:U19) -> 11153322 | V20: =SUM(V4:V19) -> 11555276 | W20: =SUM(W4:W19) -> 11434839 | X20: =SUM(X4:X19) -> 10425400 | Y20: =SUM(Y4:Y19) -> 12139134 | Z20: =SUM(Z4:Z19) -> 10647379 | ... AF20: =SUM(AF4:AF19) -> 1
A21: MESES | B21: =B4 -> 2016 | C21: % | D21: =D4 -> 2017 | F21: =F4 -> 2018 | G21: % | H21: =H4 -> 2019 | I21: % | J21: =J4 -> 2020 | K21: % | L21: =L4 -> 2021 | M21: % | N21: =N4 -> 2022 | O21: =O4 -> 2023 | R21: % ao mês | S21: =S20/$AE$20 -> 0.083034334 | T21: =T20/$AE$20 -> 0.084784024 | U21: =U20/$AE$20 -> 0.079452174 | V21: =V20/$AE$20 -> 0.082315546 | W21: =W20/$AE$20 -> 0.081457599 | X21: =X20/$AE$20 -> 0.074266722 | Y21: =Y20/$AE$20 -> 0.086474734 | Z21: =Z20/$AE$20 -> 0.075848024 | ... AE21: =AE20/$AE$20 -> 1
A22: Janeiro | B22: 5345719.2 | C22: =B22/B34 -> 0.058274466 | D22: 5981651 | E22: =D22/D34 -> 0.062053544 | F22: 7670864.2 | G22: =F22/F34 -> 0.072802734 | H22: 7979821.7 | I22: =H22/H34 -> 0.068577943 | J22: =7671797.23 -> 7671797.2 | K22: =J22/J34 -> 0.062068219 | L22: 9502229.8 | M22: =L22/L34 -> 0.072049164 | N22: =(F22+H22+J22+L22)/3.2 -> 10257723 | O22: =(H22+J22+L22+N22)/3.3 -> 10730779 | Q22: Total por Bimestre | S22: 1º Bimestre | T22: =S20+T20 -> 23557974 | U22: 2º Bimestre | V22: =U20+V20 -> 22708598 | W22: 3º Bimestre | X22: =W20+X20 -> 21860239 | Y22: 4º Bimestre | Z22: =Y20+Z20 -> 22786513 | AA22: 5º Bimestre | AB22: =AA20+AB20 -> 21951861 | AC22: 6º Bimestre | AD22: =AC20+AD20 -> 27512625 | AE22: =SUM(S22:AD22) -> 1.4037781e+08 | AF22: =140377810.27-AE20 -> 0
A23: Fevereiro | B23: 5798452 | C23: =B23/B34 -> 0.063209773 | D23: 6665778.9 | E23: =D23/D34 -> 0.069150675 | F23: =7361356.62+32710.31 -> 7394066.9 | G23: =F23/F34 -> 0.070175703 | H23: 7902084.6 | I23: =H23/H34 -> 0.067909876 | J23: =8682002.48 -> 8682002.5 | K23: =J23/J34 -> 0.070241224 | L23: 9870035.5 | M23: =L23/L34 -> 0.074837992 | N23: =(F23+H23+J23+L23)/3 -> 11282730 | O23: =(H23+J23+L23+N23)/3.3 -> 11435410 | Q23: Seq. | R23: ÓRGÃOS | S23: JANEIRO | T23: FEVEREIRO | U23: MARÇO | V23: ABRIL | W23: MAIO | X23: JUNHO | Y23: JULHO | Z23: AGOSTO | AA23: SETEMBRO | AB23: OUTUBRO | AC23: NOVEMBRO | AD23: DEZEMBRO | AE23: TOTAL
A24: Março | B24: 5890259.3 | C24: =B24/B34 -> 0.064210577 | D24: 7484694 | E24: =D24/D34 -> 0.077646086 | F24: 8190765.8 | G24: =F24/F34 -> 0.077737022 | H24: =9215305.68 -> 9215305.7 | I24: =H24/H34 -> 0.079195592 | J24: 9514390.6 | K24: =J24/J34 -> 0.076975611 | L24: =((D24+F24+H24+J24)/3.4)+226036 -> 10345200 | M24: =L24/L34 -> 0.078440849 | N24: =(F24+H24+J24+L24)/3 -> 12421887 | O24: =(H24+J24+L24+N24)/3.3 -> 12574783 | Q24: 1 | R24: Câmara | S24: 272500.6 | T24: 288816.56 | U24: 271577.03 | V24: =261884.04 -> 261884.04 | W24: 286697.43 | X24: 287331.03 | Y24: =282884.08 -> 282884.08 | Z24: =261210.5 -> 261210.5 | AA24: =265584 -> 265584 | AB24: 287264.74 | AC24: =274161.97 -> 274161.97 | AD24: 476624.46 | AE24: =SUM(S24:AD24) -> 3516536.4 | AF24: =AE24/$AE$40 -> 0.025257914
A25: Abril | B25: 7183262.3 | C25: =B25/B34 -> 0.078305791 | D25: =7391916.3-2329.01 -> 7389587.3 | E25: =D25/D34 -> 0.07665945 | F25: 7513399.3 | G25: =F25/F34 -> 0.071308264 | H25: 9663995.9 | I25: =H25/H34 -> 0.083051599 | J25: =10634576.05 -> 10634576 | K25: =J25/J34 -> 0.086038405 | L25: =((D25+F25+H25+J25)/3.4) -> 10353400 | M25: =L25/L34 -> 0.078503025 | N25: =(F25+H25+J25+L25)/3 -> 12721790 | O25: =(H25+J25+L25+N25)/3.3 -> 13143564 | Q25: 2 | R25: Gabinete | S25: 181653.21 | T25: 174100.48 | U25: 170867.34 | V25: =161288.32 -> 161288.32 | W25: 166287.82 | X25: 178182.14 | Y25: =165804.47 -> 165804.47 | Z25: =172862.23 -> 172862.23 | AA25: =170260.85 -> 170260.85 | AB25: 181889.07 | AC25: =172209.35 -> 172209.35 | AD25: =337391.19 -> 337391.19 | AE25: =SUM(S25:AD25) -> 2232796.5 | AF25: =AE25/$AE$40 -> 0.016037309
A26: Maio | B26: 6519507.1 | C26: =B26/B34 -> 0.071070099 | D26: 8056881.4 | E26: =D26/D34 -> 0.083581947 | F26: 8332242.9 | G26: =F26/F34 -> 0.079079755 | H26: =9721771.29 -> 9721771.3 | I26: =H26/H34 -> 0.083548116 | J26: =8693274.76 -> 8693274.8 | K26: =J26/J34 -> 0.070332422 | L26: =((D26+F26+H26+J26)/3.4) -> 10236521 | M26: =L26/L34 -> 0.077616809 | N26: =(F26+H26+J26+L26)/3 -> 12327937 | O26: =(H26+J26+L26+N26)/3.3 -> 12418031 | Q26: 3 | R26: SGM | S26: 57093.17 | T26: 52779.72 | U26: 60075 | V26: =55713.19 -> 55713.19 | W26: 52815.68 | X26: 61577.78 | Y26: =54583.25 -> 54583.25 | Z26: =55389.09 -> 55389.09 | AA26: =57158.13 -> 57158.13 | AB26: 59895.36 | AC26: =52463.82 -> 52463.82 | AD26: =155201.85 -> 155201.85 | AE26: =SUM(S26:AD26) -> 774746.04 | AF26: =AE26/$AE$40 -> 0.0055646995
A27: Junho | B27: 9389677.8 | C27: =B27/B34 -> 0.10235825 | D27: 8550639.5 | E27: =D27/D34 -> 0.088704186 | F27: 9391234.3 | G27: =F27/F34 -> 0.089130444 | H27: 9467661 | I27: =H27/H34 -> 0.081364313 | J27: =10697988.26 -> 10697988 | K27: =J27/J34 -> 0.086551437 | L27: =((D27+F27+H27+J27)/3.4) -> 11208095 | M27: =L27/L34 -> 0.084983618 | N27: =(F27+H27+J27+L27)/3 -> 13588326 | O27: =(H27+J27+L27+N27)/3.3 -> 13624870 | Q27: 4 | R27: SMCP | S27: 124867.31 | T27: 125453.03 | U27: =138017.54 -> 138017.54 | V27: =128644.09 -> 128644.09 | W27: 132426.13 | X27: 135125.87 | Y27: =137106.43 -> 137106.43 | Z27: =132915.97 -> 132915.97 | AA27: =146111.38 -> 146111.38 | AB27: 138426.46 | AC27: =138464.49 -> 138464.49 | AD27: =389371.19 -> 389371.19 | AE27: =SUM(S27:AD27) -> 1866929.9 | AF27: =AE27/$AE$40 -> 0.013409431
A28: Julho | B28: 7703387 | C28: =B28/B34 -> 0.083975746 | D28: 8123962.6 | E28: =D28/D34 -> 0.084277847 | F28: =8712975.37 -> 8712975.4 | G28: =F28/F34 -> 0.082693216 | H28: 8718239.6 | I28: =H28/H34 -> 0.074923846 | J28: 9134532 | K28: =J28/J34 -> 0.073902387 | L28: =((D28+F28+H28+J28)/3.4) -> 10202856 | M28: =L28/L34 -> 0.07736155 | N28: =(F28+H28+J28+L28)/3 -> 12256201 | O28: =(H28+J28+L28+N28)/3.3 -> 12215706 | Q28: 5 | R28: SMA | S28: 641306.12 | T28: 675401.63 | U28: 760919.67 | V28: =602770.84 -> 602770.84 | W28: 674830.82 | X28: 643394.65 | Y28: =648673.3 -> 648673.3 | Z28: =687994.84 -> 687994.84 | AA28: =655357.97 -> 655357.97 | AB28: 671354.8 | AC28: =675595.45 -> 675595.45 | AD28: =1212455 -> 1212455 | AE28: =SUM(S28:AD28) -> 8550055.1 | AF28: =AE28/$AE$40 -> 0.061411721
A29: Agosto | B29: 8109803.2 | C29: =B29/B34 -> 0.088406149 | D29: 8191361.9 | E29: =D29/D34 -> 0.084977046 | F29: =8881833.91 -> 8881833.9 | G29: =F29/F34 -> 0.08429582 | H29: 9251295.1 | I29: =H29/H34 -> 0.079504882 | J29: =9036456.79 -> 9036456.8 | K29: =J29/J34 -> 0.073108916 | L29: =((D29+F29+H29+J29)/3.4) -> 10400279 | M29: =L29/L34 -> 0.078858479 | N29: =(F29+H29+J29+L29)/3 -> 12523288 | O29: =(H29+J29+L29+N29)/3.3 -> 12488278 | Q29: 6 | R29: SMF | S29: 259694.11 | T29: 254528.62 | U29: =265796.65 -> 265796.65 | V29: =229132.76 -> 229132.76 | W29: 279843.4 | X29: 252792.81 | Y29: =252672.83 -> 252672.83 | Z29: =248042.36 -> 248042.36 | AA29: =249527.57 -> 249527.57 | AB29: 226386.4 | AC29: =388743.27 -> 388743.27 | AD29: =518442.27 -> 518442.27 | AE29: =SUM(S29:AD29) -> 3425603 | AF29: =AE29/$AE$40 -> 0.024604774
A30: Setembro | B30: 7384516.2 | C30: =B30/B34 -> 0.080499689 | D30: =7555140.76 -> 7555140.8 | E30: =D30/D34 -> 0.078376899 | F30: 8405663.2 | G30: =F30/F34 -> 0.079776574 | H30: =9019781.08 -> 9019781.1 | I30: =H30/H34 -> 0.077515269 | J30: =10105595.49 -> 10105595 | K30: =J30/J34 -> 0.081758719 | L30: =((D30+F30+H30+J30)/3.4) -> 10319465 | M30: =L30/L34 -> 0.07824572 | N30: =(F30+H30+J30+L30)/3 -> 12616835 | O30: =(H30+J30+L30+N30)/3.3 -> 12745963 | Q30: 7 | R30: SMTur | S30: 58851.92 | T30: 50153.6 | U30: =55556.25 -> 55556.25 | V30: =58785.61 -> 58785.61 | W30: 62776.26 | X30: 58566.02 | Y30: =65259.27 -> 65259.27 | Z30: =84715.2 -> 84715.2 | AA30: =88705.76 -> 88705.76 | AB30: 138334.23 | AC30: =119116.63 -> 119116.63 | AD30: =298372.67 -> 298372.67 | AE30: =SUM(S30:AD30) -> 1139193.4 | AF30: =AE30/$AE$40 -> 0.0081823833
A31: Outubro | B31: 7353919.7 | C31: =B31/B34 -> 0.080166153 | D31: 7682619.9 | E31: =D31/D34 -> 0.079699365 | F31: 8594186.1 | G31: =F31/F34 -> 0.081565809 | H31: =9257306.49 -> 9257306.5 | I31: =H31/H34 -> 0.079556543 | J31: 9996580.7 | K31: =J31/J34 -> 0.080876741 | L31: =((D31+F31+H31+J31)/3.4) -> 10450204 | M31: =L31/L34 -> 0.079237028 | N31: =(F31+H31+J31+L31)/3 -> 12766092 | O31: =(H31+J31+L31+N31)/3.3 -> 12869753 | Q31: 8 | R31: SMTSUI | S31: 740885.48 | T31: 589309.21 | U31: 913485.51 | V31: =783014.71 -> 783014.71 | W31: 1038389.1 | X31: 974893.93 | Y31: =922550.47 -> 922550.47 | Z31: =1548599.94 -> 1548599.9 | AA31: =786229.3 -> 786229.3 | AB31: 965076.32 | AC31: =1289385.18 -> 1289385.2 | AD31: =1683892.92 -> 1683892.9 | AE31: =SUM(S31:AD31) -> 12235712 | AF31: =AE31/$AE$40 -> 0.087884361
A32: Novembro | B32: 7912382.4 | C32: =B32/B34 -> 0.086254036 | D32: 8077679.6 | E32: =D32/D34 -> 0.083797708 | F32: 8884947.5 | G32: =F32/F34 -> 0.084325371 | H32: 9510627.3 | I32: =H32/H34 -> 0.081733562 | J32: =10537885.72 -> 10537886 | K32: =J32/J34 -> 0.085256137 | L32: =((D32+F32+H32+J32)/3.4) -> 10885629 | M32: =L32/L34 -> 0.082538574 | N32: =(F32+H32+J32+L32)/3 -> 13273030 | O32: =(H32+J32+L32+N32)/3.3 -> 13396113 | Q32: 9 | R32: SEDUC | S32: 2501144.2 | T32: 2645212.9 | U32: =2707776.74 -> 2707776.7 | V32: =2760789.37 -> 2760789.4 | W32: 2538135.1 | X32: 2596091.3 | Y32: =2486286.67 -> 2486286.7 | Z32: =2904138.86 -> 2904138.9 | AA32: =2749841.94 -> 2749841.9 | AB32: 3292207.9 | AC32: =3093413.87 -> 3093413.9 | AD32: 6370992.8 | AE32: =SUM(S32:AD32) -> 36646032 | AF32: =AE32/$AE$40 -> 0.26321419
