Workbook

Sheet RREO_Jun_2021
A1: Prefeitura Municipal de Cacapava do Sul - RS
A2: Relatório Resumido da Execução Orçamentária
A3: Demonstrativo Simplificado do Relatório Resumido da Execução Orçamentária
A4: Orçamentos Fiscal e da Seguridade Social
A5: Janeiro a Junho 2021/Bimestre Maio-Junho
A6: RREO - Anexo 14 (LRF, Art. 48) | F6: Em Reais
A7: BALANÇO ORÇAMENTÁRIO | D7: Até o bimestre
A8: RECEITAS
B9: Previsão Inicial | D9: 1.4036171e+08
B10: Previsão Atualizada | D10: 1.4311255e+08
B11: Receitas Realizadas | D11: 69783992
B12: Déficit Orçamentário | D12: -
B13: Saldos de Exercícios Anteriores(Utilizados para Créditos Adicionais) | D13: 3035789
A14: DESPESAS
B15: Dotação Inicial | D15: 1.3739269e+08
B16: Dotação Atualizada | D16: 143642569
B17: Despesas Empenhadas | D17: 68392937
B18: Despesas Liquidadas | D18: 62521744
B19: Despesas Pagas | D19: 58396882
B20: Superávit Orçamentário | D20: 7262248.4
A22: DESPESAS POR FUNÇÃO/SUBFUNÇÃO | D22: Até o bimestre
A23: Despesas Empenhadas | D23: 68392937
A24: Despesas Liquidadas | D24: 62521744
A26: RECEITA CORRENTE LÍQUIDA - RCL | D26: Até o bimestre
A27: Receita Corrente Líquida | D27: =103790631.47 -> 1.0379063e+08
A28: Receita Corrente Líquida Ajustada para Cálculo dos Limites de Endividamento | D28: =110065662.63+100000 -> 1.1016566e+08
A29: Receita Corrente Líquida Ajustada para Cálculo dos Limites da Despesa com Pessoal | D29: =110065662.63+100000 -> 1.1016566e+08
A31: RECEITAS E DESPESAS DO REGIME PRÓPRIO DE PREVIDÊNCIA DOS SERVIDORES | D31: Até o bimestre
A32: Regime Próprio de Previdência Social dos Servidores - PLANO PREVIDENCIÁRIO
B33: Receitas Previdenciárias Realizadas | D33: 8071340.2
B34: Despesas Previdenciárias Empenhadas | D34: 11148031
B35: Despesas Previdenciárias Liquidadas | D35: 11148031
B36: Resultado Previdenciário | D36: -3076691.2
A37: Regime Próprio de Previdência Social dos Servidores - PLANO FINANCEIRO
B38: Receitas Previdenciárias Realizadas | D38: 0
B39: Despesas Previdenciárias Empenhadas | D39: 0
B40: Despesas Previdenciárias Liquidadas | D40: 0
B41: Resultado Previdenciário | D41: 0
A43: RESULTADOS PRIMÁRIO E NOMINAL | D43: Meta Fixada no | E43: Resultado Apurado | F43: % em Relação à Meta
D44: Anexo de Metas | E44: Até o Bimestre
...

Sheet BalOrç
A1: Prefeitura Municipal de Cacapava do Sul-RS | Q1: Página 1 de 3
A2: Relatório Resumido da Execução Orçamentária
A3: Balanço Orçamentário
A4: Orçamento Fiscal e da Seguridade Social
A5: Janeiro a Junho 2021/Bimestre Maio-Junho
A7: RREO - Anexo 1 (LRF, Art. 52, inciso I, alineas "a" e "b" do inciso II e §1º) | O7: R$ 1,00
A8: RECEITAS | B8: PREVISÃO INICIAL | D8: PREVISÃO ATUALIZADA (a) | E8: RECEITAS REALIZADAS | K8: SALDO (a-c)
E9: No Bimestre (b) | F9: % (b/a) | G9: Até o Bimestre (c) | J9: % (c/a)
A10: RECEITAS (EXCETO INTRAORÇAMENTÁRIAS) (I) | B10: 122.816.285,74 | D10: 125.567.125,12 | E10: 19.149.437,34 | F10: 15,25 | G10: 56.662.156,57 | J10: 45,12 | K10: 68.904.968,55
A11: Receitas Correntes | B11: 121.126.571,23 | D11: 123.877.410,61 | E11: 18.802.777,72 | F11: 15,18 | G11: 56.312.408,96 | J11: 45,46 | K11: 67.565.001,65
A12: Impostos, Taxas e Contribuições de Melhoria | B12: 16.660.976,72 | D12: 16.660.976,72 | E12: 2.021.546,81 | F12: 12,13 | G12: 6.964.815,71 | J12: 41,80 | K12: 9.696.161,01
A13: Impostos | B13: 14.327.900,03 | D13: 14.327.900,03 | E13: 1.962.688,49 | F13: 13,70 | G13: 6.607.780,34 | J13: 46,12 | K13: 7.720.119,69
A14: Taxas | B14: 1.336.827,53 | D14: 1.336.827,53 | E14: 58.858,24 | F14: 4,40 | G14: 357.035,12 | J14: 26,71 | K14: 979.792,41
A15: Contribuição de Melhoria | B15: 996.249,16 | D15: 996.249,16 | E15: 0,08 | F15: - | G15: 0,25 | J15: - | K15: 996.248,91
A16: Contribuições | B16: 6.515.567,25 | D16: 6.515.567,25 | E16: 1.224.700,91 | F16: 18,80 | G16: 3.746.498,07 | J16: 57,50 | K16: 2.769.069,18
A17: Contribuições Sociais | B17: 5.583.836,41 | D17: 5.583.836,41 | E17: 1.054.800,17 | F17: 18,89 | G17: 3.232.771,31 | J17: 57,90 | K17: 2.351.065,10
A18: Contribuição para o Custeio do Serviço de Iluminação Pública | B18: 931.730,84 | D18: 931.730,84 | E18: 169.900,74 | F18: 18,23 | G18: 513.726,76 | J18: 55,14 | K18: 418.004,08
A19: Receita Patrimonial | B19: 6.420.844,14 | D19: 6.420.844,14 | E19: 219.241,76 | F19: 3,41 | G19: 491.344,87 | J19: 7,65 | K19: 5.929.499,27
A20: Exploração do Patrimônio Imobiliário do Estado | B20: 156.935,38 | D20: 156.935,38 | E20: 1.280,80 | F20: 0,82 | G20: 5.075,63 | J20: 3,23 | K20: 151.859,75
A21: Valores Mobiliários | B21: 6.263.908,76 | D21: 6.263.908,76 | E21: 217.960,96 | F21: 3,48 | G21: 486.269,24 | J21: 7,76 | K21: 5.777.639,52
... A28: Transferências dos Municípios e de suas Entidades | B28: 3.100.000,00 | D28: 3.100.000,00 | E28: 5.608,14 | F28: 0,18 | G28: 16.824,42 | J28: 0,54 | K28: 3.083.175,58
A29: Transferências de Instituições Privadas | B29: 4 | D29: 4,00 | E29: - | F29: - | G29: - | J29: - | K29: 4,00
A30: Transferências de Outras Instituições Públicas | B30: 19.076.280,00 | D30: 21.827.119,38 | E30: 4.289.388,59 | F30: 19,65 | G30: 12.865.617,64 | J30: 58,94 | K30: 8.961.501,74
A31: Transferências de Pessoas Físicas | B31: 300.000,00 | D31: 300.000,00 | E31: 2.450,00 | F31: 0,82 | G31: 3.850,00 | J31: 1,28 | K31: 296.150,00
A32: Outras Receitas Correntes | B32: 6.877.380,05 | D32: 6.877.380,05 | E32: 348.561,82 | F32: 5,07 | G32: 936.095,53 | J32: 13,61 | K32: 5.941.284,52
A33: Multas Administrativas, Contratuais e Judiciais | B33: 80.000,00 | D33: 80.000,00 | E33: 18.101,94 | F33: 22,63 | G33: 31.764,33 | J33: 39,71 | K33: 48.235,67
A34: Indenizações, Restituições e Ressarcimentos | B34: 3.720.664,90 | D34: 3.720.664,90 | E34: 7.322,34 | F34: 0,20 | G34: 33.764,22 | J34: 0,91 | K34: 3.686.900,68
A35: Demais Receitas Correntes | B35: 3.076.715,15 | D35: 3.076.715,15 | E35: 323.137,54 | F35: 10,50 | G35: 870.566,98 | J35: 28,30 | K35: 2.206.148,17
A36: Receitas de Capital | B36: 1.689.714,51 | D36: 1.689.714,51 | E36: 346.659,62 | F36: 20,52 | G36: 349.747,61 | J36: 20,70 | K36: 1.339.966,90
A37: Amortização de Empréstimos | B37: 60.000,00 | D37: 60.000,00 | E37: 263,85 | F37: 0,44 | G37: 351,80 | J37: 0,59 | K37: 59.648,20
A38: Transferências de Capital | B38: 1.618.818,66 | D38: 1.618.818,66 | E38: 340.066,03 | F38: 21,01 | G38: 340.066,03 | J38: 21,01 | K38: 1.278.752,63
A39: Transferências da União e de suas Entidades | B39: 1.598.818,66 | D39: 1.598.818,66 | E39: 290.066,03 | F39: 18,14 | G39: 290.066,03 | J39: 18,14 | K39: 1.308.752,63
A40: Transf dos Estados e do Distrito Federal e de suas Entidades | B40: 20.000,00 | D40: 20.000,00 | E40: 50.000,00 | F40: 250,00 | G40: 50.000,00 | J40: 250,00 | K40: (30.000,00)
A41: Outras Receitas de Capital | B41: 10.895,85 | D41: 10.895,85 | E41: 6.329,74 | F41: 58,09 | G41: 9.329,78 | J41: 85,63 | K41: 1.566,07
... A47: OPERAÇÕES DE CRÉDITO / REFINANCIAMENTO (IV) | B47: - | D47: - | E47: - | F47: - | G47: - | J47: - | K47: -
A49: Prefeitura Municipal de Cacapava do Sul-RS | Q49: Página 2 de 3
A50: Relatório Resumido da Execução Orçamentária
A51: Balanço Orçamentário
A52: Orçamento Fiscal e da Seguridade Social
A53: Janeiro a Junho 2021/Bimestre Maio-Junho
...

Sheet SubFunç
A1: Prefeitura Municipal de Cacapava do Sul - RS
A2: Relatório Resumido de Execução Orçamentária
A3: Demonstrativo da Execução das Despesas por Função/Subfunção
A4: Orçamento Fiscal e da Seguridade Social
A5: Janeiro a Junho 2021/Bimestre Maio-Junho
A7: RREO - ANEXO 2 (LRF, Art. 52, inciso II, alínea 'c') | L7: R$ 1,00
A8: FUNÇÃO/SUBFUNÇÃO | C8: Dotação | D8: Dotação | E8: Despesas Empenhadas | H8: SALDO | I8: Despesas Liquidadas | L8: Saldo
C9: Inicial | D9: Atualizada | E9: No Bimestre | F9: Até o Bimestre | G9: % | I9: No Bimestre | J9: Até o Bimestre | K9: %
D10: (a) | F10: (b) | G10: (b/total b) | H10: (c)=(a-b) | J10: (d) | K10: (d/Total d) | L10: (e)=(a-d)
A12: DESPESAS(EXCETO INTRAORÇAMENTÁRIAS)(I) | C12: 1.1088671e+08 | D12: 1.164235e+08 | E12: 16140535 | F12: 57106630 | G12: 83.5 | H12: 59316872 | I12: 17950322 | J12: 51235436 | K12: 81.95 | L12: 65188065
A13: Legislativa | C13: 3687000 | D13: 3687000 | E13: 506594.83 | F13: 1780660.6 | G13: 2.6 | H13: 1906339.4 | I13: 547205.28 | J13: 1587044.4 | K13: 2.54 | L13: 2099955.6
B14: Ação Legislativa | C14: 3329000 | D14: 3329000 | E14: 455592.86 | F14: 1627268.8 | G14: 2.38 | H14: 1701731.2 | I14: 496203.31 | J14: 1433652.5 | K14: 2.29 | L14: 1895347.5
B15: Previdência Básica | C15: 358000 | D15: 358000 | E15: 51001.97 | F15: 153391.89 | G15: 0.22 | H15: 204608.11 | I15: 51001.97 | J15: 153391.89 | K15: 0.25 | L15: 204608.11
A16: Essencial à Justiça | C16: 11713 | D16: 11713 | E16: 0 | F16: 1878.83 | G16: 0 | H16: 9834.17 | I16: 349 | J16: 1878.83 | K16: 0 | L16: 9834.17
B17: Representação Judicial e Extrajudicial | C17: 11713 | D17: 11713 | E17: 0 | F17: 1878.83 | G17: 0 | H17: 9834.17 | I17: 349 | J17: 1878.83 | K17: 0 | L17: 9834.17
A18: Administração | C18: 17377147 | D18: 17378846 | E18: 2352663.2 | F18: 8719320.2 | G18: 12.75 | H18: 8659526.1 | I18: 2591710.3 | J18: 7627847 | K18: 12.2 | L18: 9750999.2
B19: Administração Geral | C19: 14371289 | D19: 14367357 | E19: 1902133.3 | F19: 7222069.4 | G19: 10.56 | H19: 7145287.6 | I19: 2147282.9 | J19: 6289424.7 | K19: 10.06 | L19: 8077932.3
B20: Administração Financeira | C20: 54000 | D20: 54000 | E20: 0 | F20: 0 | G20: 0 | H20: 54000 | I20: 0 | J20: 0 | K20: 0 | L20: 54000
B21: Controle Interno | C21: 5000 | D21: 5000 | E21: 0 | F21: 0 | G21: 0 | H21: 5000 | I21: 0 | J21: 0 | K21: 0 | L21: 5000
B22: Normatização e Fiscalização | C22: 1000 | D22: 1000 | E22: 0 | F22: 0 | G22: 0 | H22: 1000 | I22: 0 | J22: 0 | K22: 0 | L22: 1000
B23: Tecnologia da Informação | C23: 107999 | D23: 107999 | E23: 50415.49 | F23: 70433.56 | G23: 0.1 | H23: 37565.44 | I23: 20018.07 | J23: 40036.14 | K23: 0.06 | L23: 67962.86
B24: Formação de Recursos Humanos | C24: 21778.45 | D24: 21881.05 | E24: 1253.55 | F24: 4101.55 | G24: 0.01 | H24: 17779.5 | I24: 1253.55 | J24: 1643.55 | K24: 0 | L24: 20237.5
B25: Administração de Receitas | C25: 30100 | D25: 30100 | E25: 0 | F25: 0 | G25: 0 | H25: 30100 | I25: 0 | J25: 0 | K25: 0 | L25: 30100
B26: Comunicação Social | C26: 5000 | D26: 5000 | E26: 1360 | F26: 1519 | G26: 0 | H26: 3481 | I26: 329 | J26: 329 | K26: 0 | L26: 4671
B27: Previdência Básica | C27: 352480.47 | D27: 356199.47 | E27: 54418.41 | F27: 159425.9 | G27: 0.23 | H27: 196773.57 | I27: 54418.41 | J27: 159425.9 | K27: 0.25 | L27: 196773.57
B28: Proteção e Benefícios ao Trabalhador | C28: 2137592 | D28: 2136692 | E28: 341394.45 | F28: 1199553.7 | G28: 1.75 | H28: 937138.28 | I28: 360116.58 | J28: 1099878.5 | K28: 1.76 | L28: 1036813.5
B29: Turismo | C29: 290908.32 | D29: 293617.76 | E29: 1688 | F29: 62217.08 | G29: 0.09 | H29: 231400.68 | I29: 8291.83 | J29: 37109.21 | K29: 0.06 | L29: 256508.55
A30: Segurança Pública | C30: 225919.9 | D30: 254419.9 | E30: 27085.2 | F30: 78760.87 | G30: 0.12 | H30: 175659.03 | I30: 32214.8 | J30: 49566.54 | K30: 0.08 | L30: 204853.36
B31: Defesa Terrestre | C31: 600 | D31: 600 | E31: 0 | F31: 0 | G31: 0 | H31: 600 | I31: 0 | J31: 0 | K31: 0 | L31: 600
B32: Defesa Civil | C32: 90815.2 | D32: 90815.2 | E32: 2957 | F32: 46925.49 | G32: 0.07 | H32: 43889.71 | I32: 25178.78 | J32: 40156.67 | K32: 0.06 | L32: 50658.53
B33: Serviços Urbanos | C33: 134504.7 | D33: 163004.7 | E33: 24128.2 | F33: 31835.38 | G33: 0.05 | H33: 131169.32 | I33: 7036.02 | J33: 9409.87 | K33: 0.02 | L33: 153594.83
A34: Assistência Social | C34: 3350447.4 | D34: 3618097 | E34: 482298.98 | F34: 1809520.5 | G34: 2.65 | H34: 1808576.4 | I34: 473262.38 | J34: 1569830.7 | K34: 2.51 | L34: 2048266.2
B35: Administração Geral | C35: 2121390 | D35: 2045418.1 | E35: 283303.26 | F35: 991797.01 | G35: 1.45 | H35: 1053621 | I35: 284987.3 | J35: 945901.73 | K35: 1.51 | L35: 1099516.3
B36: Assistência ao Idoso | C36: 55423 | D36: 50423 | E36: 0 | F36: 0 | G36: 0 | H36: 50423 | I36: 0 | J36: 0 | K36: 0 | L36: 50423
B37: Assistência ao Portador de Deficiência | C37: 55111 | D37: 57865.66 | E37: 0 | F37: 0 | G37: 0 | H37: 57865.66 | I37: 0 | J37: 0 | K37: 0 | L37: 57865.66
B38: Assistência à Criança e ao Adolescente | C38: 394680.21 | D38: 515687.25 | E38: 119781.31 | F38: 365498.37 | G38: 0.53 | H38: 150188.88 | I38: 65017.28 | J38: 242281.12 | K38: 0.39 | L38: 273406.13
B39: Assistência Comunitária | C39: 511883.18 | D39: 736743.03 | E39: 45165.14 | F39: 351899.31 | G39: 0.51 | H39: 384843.72 | I39: 89208.53 | J39: 281322.03 | K39: 0.45 | L39: 455421
B40: Previdência Básica | C40: 117654.01 | D40: 117654.01 | E40: 19679.03 | F40: 59909.53 | G40: 0.09 | H40: 57744.48 | I40: 19679.03 | J40: 59909.53 | K40: 0.1 | L40: 57744.48
B41: Proteção e Benefícios ao Trabalhador | C41: 94305.95 | D41: 94305.95 | E41: 14370.24 | F41: 40416.3 | G41: 0.06 | H41: 53889.65 | I41: 14370.24 | J41: 40416.3 | K41: 0.06 | L41: 53889.65
A42: Previdência Social | C42: 26301031 | D42: 27242317 | E42: 4786273.9 | F42: 15056075 | G42: 22.01 | H42: 12186243 | I42: 4845209.2 | J42: 14238535 | K42: 22.77 | L42: 13003782
...

Sheet RPPS
A1: Prefeitura Municipal de Cacapava do Sul-RS | L1: Página 1 de 5
A2: RELATÓRIO RESUMIDO DA EXECUÇÃO ORÇAMENTÁRIA
A3: DEMONSTRATIVO DAS RECEITAS E DESPESAS PREVIDENCIÁRIAS E DAS RECEITAS E DESPESAS ASSOCIADAS ÀS PENSÕES E INATIVOS MILITARES
A4: ORÇAMENTO FISCAL E DA SEGURIDADE SOCIAL
A5: Janeiro a Junho 2021/Bimestre Maio-Junho
A7: RREO - Anexo 4 (LRF, Art. 53, inciso II) | H7: Em Reais
A8: REGIME PRÓPRIO DE PREVIDÊNCIA DOS SERVIDORES - RPPS
A9: FUNDO EM CAPITALIZAÇÃO (PLANO PREVIDENCIÁRIO)
A10: RECEITAS PREVIDENCIÁRIAS - RPPS (FUNDO EM CAPITALIZAÇÃO) | B10: PREVISÃO ATUALIZADA (a) | E10: RECEITAS REALIZADAS Até o Bimestre (b)
A11: RECEITAS CORRENTES (I) | B11: 25.237.106,94 | E11: 15.218.691,89
A12: Receita de Contribuições dos Segurados | B12: 3.941.823,91 | E12: 2.415.476,49
A13: Ativo | B13: 3.914.085,33 | E13: 1.839.250,57
A14: Inativo | B14: 20.075,63 | E14: 459.340,64
A15: Pensionista | B15: 7.662,95 | E15: 116.885,28
A16: Receita de Contribuições Patronais | B16: 6.266.399,10 | E16: 5.081.427,69
A17: Ativo | B17: 6.217.865,80 | E17: 4.112.268,02
A18: Inativo | B18: 34.754,23 | E18: 796.310,74
A19: Pensionista | B19: 13.779,07 | E19: 172.848,93
A20: Receita Patrimonial | B20: 5.623.474,12 | E20: 409.468,15
A21: Receitas Imobiliárias | B21: - | E21: -
... A33: TOTAL DAS RECEITAS DO FUNDO EM CAPITALIZAÇÃO - (IV) = (I+III-II) | B33: 15.850.721,00 | E33: 8.071.340,17
A35: DESPESAS PREVIDENCIÁRIAS - RPPS (FUNDO EM CAPITALIZAÇÃO) | B35: DOTAÇÃO ATUALIZADA (c) | D35: DESPESAS EMPENHADAS Até o Bimestre (d) | F35: DESPESAS LIQUIDADAS Até o Bimestre (e) | G35: DESPESAS PAGAS Até o Bimestre (f) | J35: INSCRITAS EM RESTOS A PAGAR NÃO PROCESSADOS No Exercício (g)
A36: Benefícios | B36: 22.735.580,90 | D36: 11.148.031,40 | F36: 11.148.031,40 | G36: 11.140.865,25 | J36: -
A37: Aposentadorias | B37: 20.130.620,30 | D37: 9.878.452,00 | F37: 9.878.452,00 | G37: 9.871.860,35 | J37: -
A38: Pensões por Morte | B38: 2.604.960,60 | D38: 1.269.579,40 | F38: 1.269.579,40 | G38: 1.269.004,90 | J38: -
A39: Outras Despesas Previdenciárias | B39: - | D39: - | F39: - | G39: - | J39: -
A40: Compensação Financeira entre os regimes | B40: - | D40: - | F40: - | G40: - | J40: -
A41: Demais Despesas Previdenciárias | B41: - | D41: - | F41: - | G41: - | J41: -
A42: TOTAL DAS DESPESAS DO FUNDO EM CAPITALIZAÇÃO (V) | B42: 22.735.580,90 | D42: 11.148.031,40 | F42: 11.148.031,40 | G42: 11.140.865,25 | J42: -
A43: RESULTADO PREVIDENCIÁRIO - FUNDO EM CAPITALIZAÇÃO (VI) = (IV – V)² | B43: (6.884.859,90) | D43: (3.076.691,23) | F43: (3.076.691,23) | G43: (3.069.525,08)
A45: Prefeitura Municipal de Cacapava do Sul-RS | L45: Página 2 de 5
A46: RELATÓRIO RESUMIDO DA EXECUÇÃO ORÇAMENTÁRIA
A47: DEMONSTRATIVO DAS RECEITAS E DESPESAS PREVIDENCIÁRIAS E DAS RECEITAS E DESPESAS ASSOCIADAS ÀS PENSÕES E INATIVOS MILITARES
A48: ORÇAMENTO FISCAL E DA SEGURIDADE SOCIAL
A49: Janeiro a Junho 2021/Bimestre Maio-Junho
A51: RREO - Anexo 4 (LRF, Art. 53, inciso II) | H51: Em Reais
A52: RECURSOS RPPS ARRECADADOS EM EXERCÍCIOS ANTERIORES | B52: PREVISÃO ORÇAMENTÁRIA
A53: VALOR | B53: -
A55: RESERVA ORÇAMENTÁRIA DO RPPS | B55: PREVISÃO ORÇAMENTÁRIA
A56: VALOR | B56: 2.985.119,66
...

Sheet MDE
A1: Prefeitura Municipal de Cacapava do Sul-RS | Q1: Página 1 de 5
A2: RELATÓRIO RESUMIDO DA EXECUÇÃO ORÇAMENTÁRIA
A3: DEMONSTRATIVO DAS RECEITAS E DESPESAS COM MANUTENÇÃO E DESENVOLVIMENTO DO ENSINO - MDE
A4: ORÇAMENTO FISCAL E DA SEGURIDADE SOCIAL
A5: Janeiro a Junho 2021/Bimestre Maio-Junho
A7: RREO - Anexo 8 (LDB,art. 72) | L7: Em Reais
A8: RECEITA RESULTANTE DE IMPOSTOS (Arts. 212 e 212-A da Constituição Federal)
A9: RECEITA RESULTANTE DE IMPOSTOS | B9: PREVISÃO ATUALIZADA (a) | H9: RECEITAS REALIZADAS Até o Bimestre (b)
A10: 1- RECEITA DE IMPOSTOS | B10: 14.327.900,03 | H10: 6.607.780,34
A11: 1.1- Receita Resultante do Imposto sobre a Propriedade Predial e Territorial Urbana – IPTU | B11: 4.037.453,83 | H11: 2.130.194,98
A12: 1.2- Receita Resultante do Imposto sobre Transmissão Inter Vivos – ITBI | B12: 1.078.358,27 | H12: 1.038.829,71
A13: 1.3- Receita Resultante do Imposto sobre Serviços de Qualquer Natureza – ISS | B13: 5.723.855,79 | H13: 1.759.748,38
A14: 1.4- Receita Resultante do Imposto de Renda Retido na Fonte – IRRF | B14: 3.488.232,14 | H14: 1.679.007,27
A15: 2- RECEITA DE TRANSFERÊNCIAS CONSTITUCIONAIS E LEGAIS | B15: 58.063.914,35 | H15: 32.234.172,37
A16: 2.1- Cota-Parte FPM | B16: 25.861.825,58 | H16: 13.921.769,64
A17: 2.1.1- Parcela referente à CF, art. 159, I, alínea b | B17: 23.564.845,20 | H17: 13.921.769,64
A18: 2.1.2- Parcela referente à CF, art. 159, I, alíneas d e e | B18: 2.296.980,38 | H18: -
A19: 2.2- Cota-Parte ICMS | B19: 28.012.287,51 | H19: 15.723.427,88
A20: 2.3- Cota-Parte IPI-Exportação | B20: 364.667,51 | H20: 194.264,53
... A27: 5- VALOR MÍNIMO A SER APLICADO EM MDE ALÉM DO VALOR DESTINADO AO FUNDEB - 5% DE ((2.1.1) + (2.2) + (2.3) + (2.4) + (2.5)) + 25% DE ((1.1) + (1.2) + (1.3) + (1.4) + (2.1.2)+ (2.6)+ (2.7)) | B27: 6.944.566,80 | H27: 3.263.653,70
A29: FUNDEB
A30: RECEITAS RECEBIDAS DO FUNDEB NO EXERCÍCIO | B30: PREVISÃO ATUALIZADA (a) | H30: RECEITAS REALIZADAS Até o Bimestre (b)
A31: 6- RECEITAS RECEBIDAS DO FUNDEB | B31: 21.827.119,38 | H31: 12.865.617,64
A32: 6.1- FUNDEB - Impostos e Transferências de Impostos | B32: 21.827.119,38 | H32: 12.865.617,64
A33: 6.1.1- Principal | B33: 21.827.119,38 | H33: 12.865.617,64
A34: 6.1.2- Rendimentos de Aplicação Financeira | B34: - | H34: -
A35: 6.2- FUNDEB - Complementação da União - VAAF | B35: - | H35: -
A36: 6.2.1- Principal | B36: - | H36: -
A37: 6.2.2- Rendimentos de Aplicação Financeira | B37: - | H37: -
A38: 6.3- FUNDEB - Complementação da União - VAAT | B38: - | H38: -
A39: 6.3.1- Principal | B39: - | H39: -
A40: 6.3.2- Rendimentos de Aplicação Financeira | B40: - | H40: -
A42: Prefeitura Municipal de Cacapava do Sul-RS | Q42: Página 2 de 5
A43: RELATÓRIO RESUMIDO DA EXECUÇÃO ORÇAMENTÁRIA
A44: DEMONSTRATIVO DAS RECEITAS E DESPESAS COM MANUTENÇÃO E DESENVOLVIMENTO DO ENSINO - MDE
A45: ORÇAMENTO FISCAL E DA SEGURIDADE SOCIAL
A46: Janeiro a Junho 2021/Bimestre Maio-Junho
A48: RREO - Anexo 8 (LDB,art. 72) | L48: Em Reais
A49: FUNDEB
A50: RECEITAS RECEBIDAS DO FUNDEB NO EXERCÍCIO | B50: PREVISÃO ATUALIZADA (a) | H50: RECEITAS REALIZADAS Até o Bimestre (b)
...

Sheet Saúde
A1: Prefeitura Municipal de Cacapava do Sul-RS | AH1: Página 1 de 5
A2: Relatório Resumido da Execução Orçamentária
A3: Demonstrativo das Receitas e Despesas com Ações e Serviços Públicos de Saúde
A4: Orçamento Fiscal e da Seguridade Social
A5: Janeiro a Junho 2021/Bimestre Maio-Junho
A7: RREO – ANEXO XII (LC n° 141/2012 art.35)
A8: RECEITAS RESULTANTES DE IMPOSTOS E TRANSFERÊNCIAS CONSTITUCIONAIS E LEGAIS | J8: PREVISÃO INICIAL | Q8: PREVISÃO ATUALIZADA (a) | Y8: RECEITAS REALIZADAS
Y9: Até o Bimestre (b) | AF9: % (b/a) x 100
A10: RECEITA DE IMPOSTOS (I) | J10: 14.327.900,03 | Q10: 14.327.900,03 | Y10: 6.607.780,34 | AF10: 46,12
A11: Receita Resultante do Imposto Predial e Territorial Urbano - IPTU | J11: 4.037.453,83 | Q11: 4.037.453,83 | Y11: 2.130.194,98 | AF11: 52,76
A12: IPTU | J12: 3.167.486,58 | Q12: 3.167.486,58 | Y12: 1.897.815,16 | AF12: 59,92
A13: Multas, Juros de Mora, Divida Ativa e Outros Encargos do IPTU | J13: 869.967,25 | Q13: 869.967,25 | Y13: 232.379,82 | AF13: 26,71
A14: Receita Resultante do Imposto sobre Transmissão Inter Vivos - ITBI | J14: 1.078.358,27 | Q14: 1.078.358,27 | Y14: 1.038.829,71 | AF14: 96,33
A15: ITBI | J15: 1.060.847,40 | Q15: 1.060.847,40 | Y15: 1.038.829,71 | AF15: 97,92
A16: Multas, Juros de Mora, Dívida Ativa e Outros Encargos do ITBI | J16: 17.510,87 | Q16: 17.510,87 | Y16: - | AF16: -
A17: Receita Resultante do Imposto sobre Serviços de Qualquer Natureza - ISS | J17: 5.723.855,79 | Q17: 5.723.855,79 | Y17: 1.759.748,38 | AF17: 30,74
A18: ISS | J18: 5.602.856,40 | Q18: 5.602.856,40 | Y18: 1.683.833,82 | AF18: 30,05
A19: Multas, Juros de Mora, Dívida Ativa e Outros Encargos do ISS | J19: 120.999,39 | Q19: 120.999,39 | Y19: 75.914,56 | AF19: 62,74
A20: Receita Resultante do Imposto sobre a Renda e Proventos de Qualquer Natureza Retido na Fonte – IRRF | J20: 3.488.232,14 | Q20: 3.488.232,14 | Y20: 1.679.007,27 | AF20: 48,13
A21: RECEITA DE TRANSFERÊNCIAS CONSTITUCIONAIS E LEGAIS (II) | J21: - | Q21: - | Y21: - | AF21: -
... A30: TOTAL DAS RECEITAS RESULTANTES DE IMPOSTOS E TRANFERÊNCIAS CONSTITUCIONAIS E LEGAIS - (III) = (I) + (II) | J30: 14.327.900,03 | Q30: 14.327.900,03 | Y30: 6.607.780,34 | AF30: 46,12
A32: DESPESAS COM AÇÕES E SERVIÇOS PÚBLICOS DE SAÚDE (ASPS) – POR SUBFUNÇÃO E CATEGORIA ECONÔMICA | F32: DOTAÇÃO INICIAL | H32: DOTAÇÃO ATUALIZADA (c) | M32: DESPESAS EMPENHADAS | T32: DESPESAS LIQUIDADAS | AD32: DESPESAS PAGAS
M33: Até o bimestre (d) | P33: % (d/c) x 100 | T33: Até o bimestre (e) | Z33: % (e/c) x 100 | AD33: Até o bimestre (f) | AH33: % (f/c) x 100
A34: ATENÇÃO BÁSICA (IV) | F34: 3.376.172,48 | H34: 3.458.313,08 | M34: 1.659.412,04 | P34: 47,98 | T34: 1.643.833,49 | Z34: 47,53 | AD34: 1.628.089,80 | AH34: 47,08
A35: Despesas Correntes | F35: 3.376.172,48 | H35: 3.458.313,08 | M35: 1.659.412,04 | P35: 47,98 | T35: 1.643.833,49 | Z35: 47,53 | AD35: 1.628.089,80 | AH35: 47,08
A36: Despesas de Capital | F36: - | H36: - | M36: - | P36: - | T36: - | Z36: - | AD36: - | AH36: -
A37: ASSISTÊNCIA HOSPITALAR E AMBULATORIAL (V) | F37: 8.766.284,95 | H37: 8.856.811,52 | M37: 5.045.077,30 | P37: 56,96 | T37: 4.549.938,12 | Z37: 51,37 | AD37: 4.048.642,40 | AH37: 45,71
A38: Despesas Correntes | F38: 8.766.280,95 | H38: 8.845.240,35 | M38: 5.033.509,13 | P38: 56,91 | T38: 4.549.938,12 | Z38: 51,44 | AD38: 4.048.642,40 | AH38: 45,77
A39: Despesas de Capital | F39: 4,00 | H39: 11.571,17 | M39: 11.568,17 | P39: 99,97 | T39: - | Z39: - | AD39: - | AH39: -
A40: SUPORTE PROFILÁTICO E TERAPÊUTICO (VI) | F40: 403.453,40 | H40: 403.453,40 | M40: 295.205,48 | P40: 73,17 | T40: 244.688,94 | Z40: 60,65 | AD40: 189.993,61 | AH40: 47,09
A41: Despesas Correntes | F41: 403.453,40 | H41: 403.453,40 | M41: 295.205,48 | P41: 73,17 | T41: 244.688,94 | Z41: 60,65 | AD41: 189.993,61 | AH41: 47,09
A42: Despesas de Capital | F42: - | H42: - | M42: - | P42: - | T42: - | Z42: - | AD42: - | AH42: -
A43: VIGILÂNCIA SANITÁRIA (VII) | F43: 30.008,00 | H43: 50.008,00 | M43: - | P43: - | T43: - | Z43: - | AD43: - | AH43: -
A44: Despesas Correntes | F44: 30.007,00 | H44: 50.007,00 | M44: - | P44: - | T44: - | Z44: - | AD44: - | AH44: -
A45: Despesas de Capital | F45: 1,00 | H45: 1,00 | M45: - | P45: - | T45: - | Z45: - | AD45: - | AH45: -
... A47: Despesas Correntes | F47: 432.648,90 | H47: 432.648,90 | M47: 172.295,52 | P47: 39,82 | T47: 172.295,52 | Z47: 39,82 | AD47: 171.750,56 | AH47: 39,70
A48: Prefeitura Municipal de Cacapava do Sul-RS | AH48: Página 2 de 5
A49: Relatório Resumido da Execução Orçamentária
A50: Demonstrativo das Receitas e Despesas com Ações e Serviços Públicos de Saúde
A51: Orçamento Fiscal e da Seguridade Social
...

Sheet Dívida
A2: PREFEITURA MUNICIPAL DE CACAPAVA DO SUL - RS
A3: RELATÓRIO DE GESTÃO FISCAL
A4: DEMONSTRATIVO DA DÍVIDA CONSOLIDADA LÍQUIDA
A5: ORÇAMENTOS FISCAL E DA SEGURIDADE SOCIAL
A6: JANEIRO A JUNHO DE 2021
A8: RGF - ANEXO 2 (LRF, art.55, inciso I, alínea "b") | G8: R$ 1,00
A10: DÍVIDA CONSOLIDADA | E10: SALDO DO | F10: SALDO DO EXERCÍCIO DE 2021
E11: EXERCÍCIO | F11: Até o 1º | G11: Até o 2º
E12: ANTERIOR | F12: Semestre | G12: Semestre
A13: DÍVIDA CONSOLIDADA - DC (I) | E13: 1.674.324,20 | F13: 2.477.365,75 | G13: 0,00
B14: Dívida Mobiliária | E14: 0,00 | F14: 0,00 | G14: 0,00
B15: Dívida Contratual | E15: 1.672.307,53 | F15: 2.475.349,08 | G15: 0,00
C16: Empréstimos | E16: 0,00 | F16: 0,00 | G16: 0,00
D17: Internos | E17: 0,00 | F17: 0,00 | G17: 0,00
D18: Externos | E18: 0,00 | F18: 0,00 | G18: 0,00
C19: Reestruturação da Dívida de Estados e Municípios | E19: 0,00 | F19: 0,00 | G19: 0,00
C20: Financiamentos | E20: 331.874,78 | F20: 183.322,40 | G20: 0,00
D21: Internos | E21: 331.874,78 | F21: 183.322,40 | G21: 0,00
D22: Externos | E22: 0,00 | F22: 0,00 | G22: 0,00
C23: Parcelamento e Renegociação de dívidas | E23: 710.433,13 | F23: 1.842.027,12 | G23: 0,00
D24: De Tributos | E24: 0,00 | F24: 0,00 | G24: 0,00
D25: De Contribuições Previdenciárias | E25: 295.733,47 | F25: 1.428.405,46 | G25: 0,00
D26: De Demais Contribuições Sociais | E26: 0,00 | F26: 0,00 | G26: 0,00
D27: Do FGTS | E27: 0,00 | F27: 0,00 | G27: 0,00
D28: Com Instituição Não Financeira | E28: 414.699,66 | F28: 413.621,66 | G28: 0,00
C29: Demais Dívidas Contratuais | E29: 629.999,62 | F29: 449.999,56 | G29: 0,00
B30: Precatórios Posteriores a 05/05/2000 (inclusive) - Vencidos e não pagos | E30: 2.016,67 | F30: 2.016,67 | G30: 0,00
B31: Outras Dívidas | E31: 0,00 | F31: 0,00 | G31: 0,00
A32: DEDUÇÕES (II) | E32: 636.417,72 | F32: 650.297,04 | G32: 0,00
B33: Disponibilidade de Caixa¹ | E33: 0,00 | F33: 0,00 | G33: 0,00
C34: Disponibilidade de Caixa Bruta | E34: 17.546.881,59 | F34: 17.935.760,49 | G34: 0,00
C35: (-) Restos a Pagar Processados | E35: 26.650.439,28 | F35: 20.977.819,52 | G35: 0,00
B36: Demais Haveres Financeiros | E36: 636.417,72 | F36: 650.297,04 | G36: 0,00
A37: DÍVIDA CONSOLIDADA LÍQUIDA (DCL) (III) = (I - II) | E37: 1.037.906,48 | F37: 1.827.068,71 | G37: 0,00
A38: RECEITA CORRENTE LÍQUIDA - RCL (IV)³ | E38: 103.982.991,59 | F38: 110.065.662,63 | G38: 0,00
A39: (-) Transferências obrigatórias da União relativas às emendas individuais (art. 166-A, § 1º, da CF) (V) | E39: 0,00 | F39: 100.000,00 | G39: 0,00
A40: RECEITA CORRENTE LÍQUIDA AJUSTADA PARA CÁLCULO DOS LIMITES DE ENDIVIDAMENTO (VI) = (IV - V) | E40: 103.982.991,59 | F40: 109.965.662,63 | G40: 0,00 | I40: 1.0379063e+08
A41: % da DC sobre a RCL AJUSTADA (I/VI) | E41: 1,61 | F41: 2,25 | G41: 0,00
A42: % da DCL sobre a RCL AJUSTADA (III/VI) | E42: 1,00 | F42: 1,66 | G42: 0,00
A43: LIMITE DEFINIDO POR RESOLUÇÃO DO SENADO FEDERAL - <0,00%> | E43: 0,00 | F43: 0,00 | G43: 0,00
...

Sheet RCL
B1: DEMONSTRATIVO DA RECEITA CORRENTE LÍQUIDA | E1: INSTRUÇÃO NORMATIVA nº 4/2021 - TCE/RS. | H1: Página: 1/2 | I1: DEMONSTRATIVO DA RECEITA CORRENTE LÍQUIDA | M1: INSTRUÇÃO NORMATIVA nº 4/2021 - TCE/RS. | U1: Página: 2/2
C2: TOTAIS: | D2: 44348 | E2: 44317 | F2: 44287 | G2: 44256 | H2: 44228 | I2: 44197 | J2: 44166 | K2: 44136 | L2: 44105 | M2: 44075 | N2: 44044 | O2: 44013
A3: Lei Complementar Federal Nº 101/2000 - Inciso I do Artigo 53 | D3: 12º Mês | E3: 11º mês | F3: 10º Mês | G3: 09º mês | H3: 08º Mês | I3: 07º mês | J3: 06º Mês | K3: 05º Mês | L3: 04º Mês | M3: 03º Mês | N3: 02º Mês | O3: 01º Mês
A4: Discriminação | B4: Códificação: | C4: =SUM(D4:O4) -> 0
A5: I - RECEITAS CORRENTES | C5: =SUM(D5:O5) -> 1.1519367e+08 | D5: =D6-D7 -> 8870336.5 | E5: =E6-E7 -> 9932379.9 | F5: =F6-F7 -> 9629502.4 | G5: =G6-G7 -> 9014518.8 | H5: =H6-H7 -> 8766516.6 | I5: =I6-I7 -> 10099076 | J5: =J6-J7 -> 13680360 | K5: =K6-K7 -> 8375628.6 | ... O5: =O6-O7 -> 10067510
A6: Receitas Correntes | B6: 1.0.0.0.0.00.00.00 | C6: =SUM(D6:O6) -> 1.2830434e+08 | D6: =9968466.03 -> 9968466 | E6: 11100660 | F6: =10680236.85 -> 10680237 | G6: 10150954 | H6: =9916523.05 -> 9916523.1 | I6: =11591995.86 -> 11591996 | J6: =15002415.79 -> 15002416 | K6: =9384652.81 -> 9384652.8 | L6: =9577007.09 -> 9577007.1 | M6: =10323528.53 -> 10323529 | N6: 9864509.5 | O6: =10743386.53 -> 10743387
A7: (R) Deduções das Receitas Correntes | B7: 9.1.0.0.0.00.0.0.00.00.00.00 | C7: =SUM(D7:O7) -> 13110670 | D7: =1098129.55 -> 1098129.6 | E7: =1168280.37 -> 1168280.4 | F7: 1050734.4 | G7: 1136435.2 | H7: 1150006.5 | I7: 1492920.3 | J7: 1322055.5 | K7: 1009024.2 | L7: 1035886.1 | M7: 1008904.7 | N7: 962415.82 | O7: 675876.81
A8: II - DEDUÇÕES | C8: =SUM(D8:O8) -> 11203035 | D8: =SUM(D9:D30) -> 698021.15 | E8: =SUM(E9:E30) -> 853276.06 | F8: =SUM(F9:F30) -> 953538.44 | G8: =SUM(G9:G30) -> 694792.87 | H8: =SUM(H9:H30) -> 654440.6 | I8: =SUM(I9:I30) -> 656940.72 | J8: =SUM(J9:J30) -> 2256707.4 | K8: =SUM(K9:K30) -> 1092407.8 | ... O8: =SUM(O9:O30) -> 1295403.1
A9: Ativos/Inativos Poder Executivo/Indiretas | B9: 1.1.1.3.03.1.1.01 | C9: =SUM(D9:O9) -> 1289286.1 | J9: 352766.44 | K9: 183242.93 | L9: =189347.68 -> 189347.68 | M9: 186650.12 | N9: =187741.33 -> 187741.33 | O9: =189537.59 -> 189537.59
A10: Ativos/Inativos Poder Legislativo | B10: 1.1.1.3.03.1.1.02 | C10: =SUM(D10:O10) -> 133998.17 | J10: 43092.75 | K10: 14989.16 | L10: =15309.8 -> 15309.8 | M10: 14773.34 | N10: =15356.85 -> 15356.85 | O10: =30476.27 -> 30476.27
A11: Contribuições para Custeio dos Sistemas Previdenciário e Assistencial
A12: Contribuições Sociais Específicas de Estados, DF e Municípios | B12: 1.2.1.8.00.0.0.00.00.00
A13: Contribuição para o RPPS do Servidor Público | B13: 1.2.1.8.01 | C13: =SUM(D13:O13) -> 4675439 | D13: =298472.38+5398.89+88625.3 -> 392496.57 | E13: =298361.17+88371.47+5398.89 -> 392131.53 | F13: =313926.32+96754.49+6252.66 -> 416933.47 | G13: =318012.38+94784+6494.53 -> 419290.91 | H13: =307814.79+84619.56+4732.59 -> 397166.94 | I13: =302663.53+89412.23+5381.31 -> 397457.07 | J13: =628085.06+173817.83+10572.17 -> 812475.06 | K13: =282880.52+1399.1+391.41 -> 284671.03 | L13: =286728.19+1399.1+391.41 -> 288518.7 | M13: =288423.7+987.22+391.41 -> 289802.33 | N13: =288915.03+987.22+391.41 -> 290293.66 | O13: =292823.14+987.22+391.41 -> 294201.77
A14: Contribuição Social para o Financiamento da Seguridade Social | B14: 1.2.1.9.99.1.1.03 e .04 | C14: =SUM(D14:O14) -> 1586132.7 | D14: =80247.08+53261.04 -> 133508.12 | E14: =79557.62+53143.65 -> 132701.27 | F14: =81236.98+55047.24 -> 136284.22 | G14: =79585.02+54161.84 -> 133746.86 | H14: =77926.13+51030.99 -> 128957.12 | I14: =90346.65+50949.34 -> 141295.99 | J14: =79963.94+50813.43 -> 130777.37 | K14: =77968.47+50840.92 -> 128809.39 | L14: =78502.35+50588.55 -> 129090.9 | M14: =80515.09+49913.41 -> 130428.5 | N14: =80079.52+49775.11 -> 129854.63 | O14: =81056.9+49621.45 -> 130678.35
A15: Compensação Previdenciária ao RPPS | C15: =SUM(D15:O15) -> 0
A16: Compensação Financeira entre o Regime Geral e os Regimes Próprios de Previdência dos Servidores | B16: 1.9.9.0.03.1.1.00.00.00 | C16: =SUM(D16:O16) -> 434036.11 | D16: 41374.67 | E16: =41257.47 -> 41257.47 | F16: 41167.85 | G16: 41167.85 | J16: 84754.98 | K16: =42377.49 -> 42377.49 | L16: =42377.49 -> 42377.49 | M16: =42377.49 -> 42377.49 | N16: =14316.72 -> 14316.72 | O16: 42864.1
A17: Receitas do RPPS - Remuneração e Outras Receitas | C17: =SUM(D17:O17) -> 0
A18: Remuneração dos Recurso do Regime Próprio de Previdências Social - RPPS | B18: 1.3.2.1.00.4.0.00.00.00 | C18: =SUM(D18:O18) -> 1702624 | D18: =48213.11-50509.62 -> -2296.51 | E18: =196118.17-25818.29 -> 170299.88 | F18: =248546.13-11575.91 -> 236970.22 | G18: =70335.98-81867.41 -> -11531.43 | H18: =7644.48 -> 7644.48 | I18: =21390.5-13008.99 -> 8381.51 | J18: 693735.59 | K18: =342515.73 -> 342515.73 | L18: =47070.51-20621.03 -> 26449.48 | M18: =14354.66-166497.39 -> -152142.73 | N18: =70689.02-179085.33 -> -108396.31 | O18: 490994.11
A19: Outras Receitas Receitas Diretamente Arrecadadas pelo RPPS (1.2.1.8.03.1.1) 326 | B19: 1.9.9.0.99.1.X.01.00.00 | C19: =SUM(D19:O19) -> 19428.88 | D19: 1981.34 | E19: 1981.34 | F19: =1981.34 -> 1981.34 | G19: =1981.34 -> 1981.34 | H19: 1437.94 | I19: 1437.94 | J19: =1437.94 -> 1437.94 | K19: 1437.94 | L19: =1437.94 -> 1437.94 | M19: 2875.88 | O19: 1437.94
A20: Receitas do Fundo de Assistência Social Social dos Servidores | B20: 1.3.2.1.00.1.1.01.10 | C20: =SUM(D20:O20) -> 0
A21: Remuneração de Depósitos Bancários de Recursos Vinculados - Fundo de Assistência Social | B21: 1.3.2.1.00.1.X.01.09
A22: Receitas Diretamente Arrecadadas pelo Fundo de Assistência Social dos Servidores | B22: 1.9.9.0.99.1.X.02.00.00 | C22: =SUM(D22:O22) -> 0
A23: Receitas do Fundo de Assistência à Saúde do Servidor | C23: =SUM(D23:O23) -> 0
A24: Remuneração de Depósito Bancários de Recursos Vínculados - Fundo de Assistência à Saúde do Servidor | B24: 1.3.2.1.00.1.X.01.10.00 | C24: =SUM(D24:O24) -> 20565.79 | D24: =3681.13 -> 3681.13 | E24: =2624.65 -> 2624.65 | F24: =390.81 -> 390.81 | G24: 1595.84 | H24: 1427.22 | I24: =1444.23 -> 1444.23 | J24: 1446.92 | K24: 1444.86 | L24: 1444.86 | M24: =1483.26 -> 1483.26 | N24: 1537.17 | O24: 2044.84
A25: Receitas Diretamente Arrecadadas pelo Fundo de Assistência à Saúde dos Servidores | B25: 1.9.9.0.99.1.X.03.00.00 | C25: =SUM(D25:O25) -> 1341524.5 | D25: =127275.83 -> 127275.83 | E25: =112279.92 -> 112279.92 | F25: =119852.53-42 -> 119810.53 | G25: =108541.5 -> 108541.5 | H25: =119962.13-2155.23 -> 117806.9 | I25: =107183.73-259.75 -> 106923.98 | J25: 136220.31 | K25: =93159.28-240 -> 92919.28 | L25: =100767.09-99.3 -> 100667.79 | M25: =103537.23 -> 103537.23 | N25: =102373.08 -> 102373.08 | O25: =113770-601.82 -> 113168.18
A26: Outras Contribuições Sociais | C26: =SUM(D26:O26) -> 0
A27: Outras Contribuições Sociais (1) | B27: 1.2.1.9.00.0.0.00.00.00 | C27: =SUM(D27:O27) -> 0
A28: ( - ) Compensação Previdenciárfia à Prefeitura Municipal | B28: (1.2.1.9.99.1.X.01.00.00) | C28: =SUM(D28:O28) -> 0
A29: ( - ) Contribuição dos Inativos e Pensionistas à Prefeitura Municipal | B29: (1.2.1.9.99.1.X.02.00.00) | C29: =SUM(D29:O29) -> 0
A30: ( R ) Todas as contas dedutoras de receita correspondentes às utilizadas acima | C30: =SUM(D30:O30) -> 0
A31: III - SUBTOTAL (III = I - II) | C31: =SUM(D31:O31) -> 1.0399063e+08 | D31: =D5-D8 -> 8172315.3 | E31: =E5-E8 -> 9079103.9 | F31: =F5-F8 -> 8675964 | G31: =G5-G8 -> 8319725.9 | H31: =H5-H8 -> 8112076 | I31: =I5-I8 -> 9442134.8 | J31: =J5-J8 -> 11423653 | K31: =K5-K8 -> 7283220.8 | ... O31: =O5-O8 -> 8772106.6
A32: IV - ( + ) Perda para o FUNDEB | C32: =SUM(D32:O32) -> 0
A33: V - RECEITA CORRENTE LÍQUIDA (V = III + V) | C33: =SUM(D33:O33) -> 1.0399063e+08 | D33: =D31+D32 -> 8172315.3 | E33: =E31+E32 -> 9079103.9 | F33: =F31+F32 -> 8675964 | G33: =G31+G32 -> 8319725.9 | H33: =H31+H32 -> 8112076 | I33: =I31+I32 -> 9442134.8 | J33: =J31+J32 -> 11423653 | K33: =K31+K32 -> 7283220.8 | ... O33: =O31+O32 -> 8772106.6
A34: VI - Valor das Emendas Parlamentares de Individuais | C34: =SUM(D34:O34) -> 200000 | J34: 100000 | O34: =100000 -> 100000
A35: VII - RECEITA CORRENTE LÍQUIDA Endividamento) (VIII = V - VI) | C35: =SUM(D35:O35) -> 1.0379063e+08 | D35: =D33-D34 -> 8172315.3 | E35: =E33-E34 -> 9079103.9 | F35: =F33-F34 -> 8675964 | G35: =G33-G34 -> 8319725.9 | H35: =H33-H34 -> 8112076 | I35: =I33-I34 -> 9442134.8 | J35: =J33-J34 -> 11323653 | K35: =K33-K34 -> 7283220.8 | ... O35: =O33-O34 -> 8672106.6
A36: VIII - Valor das Emendas Parlamentares de Bancada | C36: =SUM(D36:O36) -> 0
A37: IX - RECEITA CORRENTE LIQUIDA (Despesas com Pessoal) (IX = VII - VIII) | C37: =SUM(D37:O37) -> 1.0379063e+08 | D37: =D35-D36 -> 8172315.3 | E37: =E35-E36 -> 9079103.9 | F37: =F35-F36 -> 8675964 | G37: =G35-G36 -> 8319725.9 | H37: =H35-H36 -> 8112076 | I37: =I35-I36 -> 9442134.8 | J37: =J35-J36 -> 11323653 | K37: =K35-K36 -> 7283220.8 | ... O37: =O35-O36 -> 8672106.6
D38: =8172315.33-D37 -> 0 | E38: =9079103.88-E37 -> 0
A39: ( 1 ) A Natureza de Receita 1.2.9.99.1.0.00.00.00 - Demais Contribuições Socias deverá ser detalhada conforme a necessidade do Orgão para a contabilização das contribuições para Fundos de Assitência Médica dos Servidores Municipais.
A40: ( 2 ) Valor correspondente à Soma das Receitas Arrecadadas no período com os complementos de recurso vínculado código 3110 - transferências da União decorrentes de Emendas Pralamentares Individuais e 3410 - TransferÊncias da União decorrentes de Emndas Parlamentares Individuais - COVID-19.
...

Sheet DCLP
B1: Modelo 2 - Demonstrativo da Despesa com Pessoal | H1: INSTRUÇÃO NORMATIVA nº 4/2021 - TCE/RS. | K1: Página: 1/2 | M1: Modelo 2 - Demonstrativo da Despesa com Pessoal | R1: INSTRUÇÃO NORMATIVA nº 4/2021 - TCE/RS. | X1: Página: 2/2
A2: Lei Complementar Federal nº 101/2000, artigo 54 e alínea "a" do inciso I do artigo 55
A3: Despesa Líquidada | B3: 9000 - Prefeitura e Fundos: | H3: Total dos últimos | I3: =RCL!D2 -> 44348 | J3: =RCL!E2 -> 44317 | K3: =RCL!F2 -> 44287 | L3: =RCL!G2 -> 44256 | M3: =RCL!H2 -> 44228 | N3: =RCL!I2 -> 44197 | O3: =RCL!J2 -> 44166 | P3: =RCL!K2 -> 44136 | ... T3: =RCL!O2 -> 44013
A4: Discriminação | B4: Detalhamento: | G4: Codificação: | H4: 12 meses | I4: 12º Mês | J4: 11º mês | K4: 10º Mês | L4: 9º Mês | M4: 8º Mês | N4: 7º Mês | O4: 6º Mês | P4: 5º Mês | Q4: 4º Mês | R4: 3º Mês | S4: 2º Mês | T4: 1º Mês
A5: I - NATUREZA DE DESPESA | H5: =SUM(I5:T5) -> 91638062 | I5: =I6+I7 -> 7299492 | J5: =J6+J7 -> 7278817.8 | K5: =K6+K7 -> 7237452.5 | L5: =L6+L7 -> 7701416.3 | M5: =M6+M7 -> 7539150.8 | N5: =N6+N7 -> 7252406.9 | O5: =O6+O7 -> 13900533 | P5: =P6+P7 -> 6729344.3 | ... T5: =T6+T7 -> 6446621.8
A6: Pessoal e encargos sociais | G6: 3.1.00.00.00.00 | H6: =SUM(I6:T6) -> 91115178 | I6: =7170867.52 -> 7170867.5 | J6: =7046389.84 -> 7046389.8 | K6: =7237452.49 -> 7237452.5 | L6: 7577072.3 | M6: =7501662.83 -> 7501662.8 | N6: 7252406.9 | O6: 13900533 | P6: =6729344.26 -> 6729344.3 | Q6: 6738219.1 | R6: 7053664.7 | S6: 6460942.9 | T6: =6446621.82 -> 6446621.8
A7: Outras Despesas de Pessoal de Contratos de Terceirização - Substituição de mão de obra (art. 18, § 1º da LRF) | G7: 3.3.XX.34.01.00 | H7: =SUM(I7:T7) -> 522884.5 | I7: =128624.5 -> 128624.5 | J7: =232428 -> 232428 | L7: 124344 | M7: 37488
A8: II - DEDUÇÕES | H8: =SUM(I8:T8) -> 33003963 | I8: =SUM(I9:I23) -> 2015189.9 | J8: =SUM(J9:J23) -> 1893137 | K8: =SUM(K9:K23) -> 2101713.6 | L8: =SUM(L9:L23) -> 2293464.9 | M8: =SUM(M9:M23) -> 2261955 | N8: =SUM(N9:N23) -> 2206181.3 | O8: =SUM(O9:O23) -> 5453631.8 | P8: =SUM(P9:P23) -> 2792799.6 | ... T8: =SUM(T9:T23) -> 2802105.1
A9: Aposentadoria do RPPS, Reserva Remunerada e Reformas dos Militares (com recursos do RPPS) | G9: 3.1.90.01 | H9: =SUM(I9:T9) -> 20673822 | I9: =1649294.67 -> 1649294.7 | J9: =1642118.8 -> 1642118.8 | K9: =1638614.89 -> 1638614.9 | L9: =1695217.98 -> 1695218 | M9: =1674599.82 -> 1674599.8 | N9: 1578605.8 | O9: 3078459.2 | P9: 1563349 | Q9: =1561967.53 -> 1561967.5 | R9: 1553214.3 | S9: 1520439.6 | T9: 1517940.4
A10: Pensões do RPPS e do Militar (com Recursos do RPPS) | G10: 3.1.90.03 | H10: =SUM(I10:T10) -> 2638432 | I10: =210844.25 -> 210844.25 | J10: =210918.91 -> 210918.91 | K10: =209700.26 -> 209700.26 | L10: =219471.11 -> 219471.11 | M10: =222290.44 -> 222290.44 | N10: =196354.43 -> 196354.43 | O10: 388793.29 | P10: 195275.91 | Q10: 195275.91 | R10: =195374.14 -> 195374.14 | S10: 196749.29 | T10: =197384.09 -> 197384.09
A11: Ajuda de Custo | G11: 3.1.90.16.99.01 | H11: =SUM(I11:T11) -> 0
A12: Remoções | G12: 3.1.90.16.99.02 | H12: =SUM(I12:T12) -> 0
A13: Despesas de Exercícios Anteriores | G13: 3.1.90.92 | H13: =SUM(I13:T13) -> 0
A14: Indenizações e Restituições Trabalhistas | G14: 3.1.9.0.94 | H14: =SUM(I14:T14) -> 2894347.5 | I14: =155051.03 -> 155051.03 | J14: =40099.27 -> 40099.27 | K14: =253398.44 -> 253398.44 | L14: =378775.85 -> 378775.85 | M14: 365064.69 | N14: 431221.06 | O14: =127016.84 -> 127016.84 | P14: =38072.38 -> 38072.38 | Q14: 291286.79 | R14: =629429.09 -> 629429.09 | S14: =89854.36 -> 89854.36 | T14: =95077.73 -> 95077.73
A15: LICENCA PREMIO INDENIZADA | G15: 3.1.9.0.11.48 | H15: =SUM(I15:T15) -> 0
A16: OUTROS BENEFICIOS PREVIDENCIARIOS - PESSOAL INATIVO | G16: 3.1.90.05.00.02 | H16: =SUM(I16:T16) -> 97.24 | S16: 48.62 | T16: 48.62
A17: 3.3.90.08 = Outros Benefícios Previdenciários do Servidor | G17: 3.1.9.0.08 | H17: =SUM(I17:T17) -> 7315 | O17: =1045 -> 1045 | P17: 2090 | Q17: 1045 | R17: 2090 | T17: =1045 -> 1045
A18: Abono de Permanência | G18: 3.1.9.0.11.07 | H18: =SUM(I18:T18) -> 95847.07 | O18: =38202.42 -> 38202.42 | P18: 12981.52 | Q18: =10140.05 -> 10140.05 | R18: =11943.55 -> 11943.55 | S18: 11218.85 | T18: =11360.68 -> 11360.68
A19: PRECATORIOS - PENSIONISTA CIVIL | G19: 3.1.9.0.91.36 | H19: =SUM(I19:T19) -> 8015.52 | O19: =1335.92 -> 1335.92 | P19: 1335.92 | Q19: 1335.92 | R19: 1335.92 | S19: 1335.92 | T19: 1335.92
A20: Contribuições Patronais para o RPPS - Pensionista = 3.1.9.1.13.03.03 | G20: 3.1.91.13.10.02 | H20: =SUM(I20:T20) -> 26010.3 | O20: 15801.22 | P20: =8044.24 -> 8044.24 | Q20: 541.21 | R20: 541.21 | S20: =541.21 -> 541.21 | T20: 541.21
A21: 08.11.02+08.11.03 Plano de Seguridade Social do Servidor - Pessoal Ativo 3.1.9.1.13.08 = AUXILIO-SAUDE | G21: 3.3.91.08.11.01 | H21: =SUM(I21:T21) -> 784672.7 | O21: 141295.99 | P21: =128916.01 -> 128916.01 | Q21: =127878.71 -> 127878.71 | R21: =128160.22 -> 128160.22 | S21: =129497.82 -> 129497.82 | T21: =128923.95 -> 128923.95
A22: Amortização do Passivo Atuarial com RPPS - Alíquota Suplementar (20.00; 21.01 e 20.02) | G22: 3.1.91.13.20 | H22: =SUM(I22:T22) -> 4586117 | O22: =1308915.48 -> 1308915.5 | P22: =659491.72 -> 659491.72 | Q22: 646130.89 | R22: =654875.8 -> 654875.8 | S22: =657793.22 -> 657793.22 | T22: =658909.91 -> 658909.91
A23: Ativos/Inativos Poder Executivo/Indiretas | G23: 1.1.1.3.03.1.1.01 | H23: =SUM(I23:T23) -> 1289286.1 | O23: =RCL!J9 -> 352766.44 | P23: =RCL!K9 -> 183242.93 | Q23: =RCL!L9 -> 189347.68 | R23: =RCL!M9 -> 186650.12 | S23: =RCL!N9 -> 187741.33 | T23: =RCL!O9 -> 189537.59
A24: III - TOTAL DAS NATUREZAS DE DESPESA (I - II) | H24: =SUM(I24:T24) -> 58634100 | I24: =I5-I8 -> 5284302.1 | J24: =J5-J8 -> 5385680.9 | K24: =K5-K8 -> 5135738.9 | L24: =L5-L8 -> 5407951.4 | M24: =M5-M8 -> 5277195.9 | N24: =N5-N8 -> 5046225.6 | O24: =O5-O8 -> 8446901.5 | P24: =P5-P8 -> 3936544.6 | ... T24: =T5-T8 -> 3644516.7
A25: Recursos para cobertura de Insuficências Financeiras | G25: 3.5.1.3.2.01.01 | H25: =SUM(I25:T25) -> 0
A26: Recursos para cobertura de Déficit Financeiro | G26: 3.5.1.3.2.02.01 | H26: =SUM(I26:T26) -> 0
A27: IV - TOTAL DAS CONTAS PATRIMONIAIS | H27: =SUM(I27:T27) -> 0 | I27: =SUM(I25:I26) -> 0 | J27: =SUM(J25:J26) -> 0 | K27: =SUM(K25:K26) -> 0 | L27: =SUM(L25:L26) -> 0 | M27: =SUM(M25:M26) -> 0 | N27: =SUM(N25:N26) -> 0 | O27: =SUM(O25:O26) -> 0 | P27: =SUM(P25:P26) -> 0 | ... T27: =SUM(T25:T26) -> 0
A28: Cálculo Despesa c/ Pessoal 1º e 2º Quadrimestre/1º Semestre: Emp. Não Liquidados | B28: Cálculo das contas das naturezas de despesas de pessoal dos Itens I e II | H28: =SUM(I28:T28) -> 278240.19 | I28: =7154869.31-(I6+I70) -> -15998.21 | J28: =7045109.36-J6+355000-J7 -> 121291.52 | K28: =7228639.21-K6+1584-K7 -> -7229.28 | L28: =7670632.48-L6+70000-L7 -> 39216.16 | M28: =7447735.4-M6+155000-M7 -> 63584.57 | N28: =7329782.33-N6 -> 77375.43
A29: Cálculo Despesa c/ Pessoal 3º Quadrimestre/2º Semestre: Restos a Pagar Não Processados | B29: Cálculo das contas das naturezas de despesas de pessoal dos Itens I e II | H29: =SUM(I29:T29) -> 0
A30: V - TOTAL DOS EMPENHOS NÃO LÍQUIDADOS - RESTOS A PAGAR NÃO PROCESSADOS | H30: =SUM(I30:T30) -> 278240.19 | I30: =SUM(I28:I29) -> -15998.21 | J30: =SUM(J28:J29) -> 121291.52 | K30: =SUM(K28:K29) -> -7229.28 | L30: =SUM(L28:L29) -> 39216.16 | M30: =SUM(M28:M29) -> 63584.57 | N30: =SUM(N28:N29) -> 77375.43 | O30: =SUM(O28:O29) -> 0 | P30: =SUM(P28:P29) -> 0 | ... T30: =SUM(T28:T29) -> 0
B31: Informação da Execução do Consórcio p/ consolidação - maio a Dez | G31: 8.5.3.2.4.01.01 | H31: =SUM(I31:T31) -> 0
A32: Contas Aplicáveis ao 1º Quadrimestre (1) | B32: Informação da Execução do Consórcio p/ consolidação - Exercício atual - 1º Bimestre | G32: 8.5.3.2.4.02.01 | H32: =SUM(I32:T32) -> 0
B33: Informação da Execução do Consórcio p/ consolidação - Exercício atual - 2º Bimestre | G33: 8.5.3.2.4.02.02 | H33: =SUM(I33:T33) -> 0
B34: Informação da Execução do Consórcio p/ consolidação - julho a Dez | G34: 8.5.3.2.4.01.02 | H34: =SUM(I34:T34) -> 0
A35: Contas Aplicáveis ao 1º Semestre (1) | B35: Informação da Execução do Consórcio p/ consolidação - Exercício atual - 1º Bimestre | G35: 8.5.3.2.4.02.01 | H35: =SUM(I35:T35) -> 0
B36: Informação da Execução do Consórcio p/ consolidação - Exercício atual - 2º Bimestre | G36: 8.5.3.2.4.02.02 | H36: =SUM(I36:T36) -> 0
B37: Informação da Execução do Consórcio p/ consolidação - Exercício atual - 3º Bimestre | G37: 8.5.3.2.4.02.03 | H37: =SUM(I37:T37) -> 0
B38: Informação da Execução do Consórcio p/ consolidação - Setembro a Dez | G38: 8.5.3.2.4.01.03 | H38: =SUM(I38:T38) -> 0
B39: Informação da Execução do Consórcio p/ consolidação - Exercício atual - 1º Bimestre | G39: 8.5.3.2.4.02.01 | H39: =SUM(I39:T39) -> 0
A40: Contas Aplicáveis ao 2º Quadremestre (1) | B40: Informação da Execução do Consórcio p/ consolidação - Exercício atual - 2º Bimestre | G40: 8.5.3.2.4.02.02 | H40: =SUM(I40:T40) -> 0
...

Sheet DCLP_RCL
C2: Evolução Mensal da Despesa Liquidada com Pessoal | J2: INSTRUÇÃO NORMATIVA nº 4/2021 - TCE/RS.
D4: =DCLP!I3 -> 44348 | E4: =DCLP!J3 -> 44317 | F4: =DCLP!K3 -> 44287 | G4: =DCLP!L3 -> 44256 | H4: =DCLP!M3 -> 44228 | I4: =DCLP!N3 -> 44197 | J4: =DCLP!O3 -> 44166 | K4: =DCLP!P3 -> 44136 | ... O4: =DCLP!T3 -> 44013
B5: TOTAIS DOS ÚLTIMOS 12 MESES | D5: 12º Mês | E5: 11º mês | F5: 10º Mês | G5: 9º Mês | H5: 8º Mês | I5: 7º Mês | J5: 6º Mês | K5: 5º Mês | L5: 4º Mês | M5: 3º Mês | N5: 2º Mês | O5: 1º Mês
B6: Despesa Liquida c/ Pessoal | C6: =(SUM(D6:O6)) -> 58634100 | D6: =DCLP!I50 -> 5284302.1 | E6: =DCLP!J50 -> 5385680.9 | F6: =DCLP!K50 -> 5135738.9 | G6: =DCLP!L50 -> 5407951.4 | H6: =DCLP!M50 -> 5277195.9 | I6: =DCLP!N50 -> 5046225.6 | J6: =DCLP!O50 -> 8446901.5 | K6: =DCLP!P50 -> 3936544.6 | ... O6: =DCLP!T50 -> 3644516.7
B7: Receita Corrente Líquida | C7: =SUM(D7:O7) -> 1.0379063e+08 | D7: =RCL!D37 -> 8172315.3 | E7: =RCL!E37 -> 9079103.9 | F7: =RCL!F37 -> 8675964 | G7: =RCL!G37 -> 8319725.9 | H7: =RCL!H37 -> 8112076 | I7: =RCL!I37 -> 9442134.8 | J7: =RCL!J37 -> 11323653 | K7: =RCL!K37 -> 7283220.8 | ... O7: =RCL!O37 -> 8672106.6
B8: Índice da DCLP s/ a RCL | C8: =C6/C7 -> 0.56492671 | D8: =D6/D7 -> 0.64661015 | E8: =E6/E7 -> 0.5931952 | F8: =F6/F7 -> 0.59195023 | G8: =G6/G7 -> 0.65001557 | H8: =H6/H7 -> 0.65053581 | I8: =I6/I7 -> 0.53443693 | J8: =J6/J7 -> 0.74595199 | ... O8: =O6/O7 -> 0.42025737
B9: Limite Máximo do Índice | C9: 0.54 | D9: 0.54 | E9: 0.54 | F9: 0.54 | G9: 0.54 | H9: 0.54 | I9: 0.54 | J9: 0.54 | K9: 0.54 | L9: 0.54 | M9: 0.54 | N9: 0.54 | O9: 0.54
B53: Fonte: | C53: Demonstrativos da Receita Corrente Realizada e da Despesa Líquidada Orçamentarias.
C57: Giovani Amestoy da Silva | F57: Ihoko Nakashima Mota | J57: Arlei Lopes Souza
C58: Prefeito Municipal | F58: Secret. de Município da Fazenda | J58: Contador - CRC/RS: 068452/O-6

Sheet RGF
A2: PREFEITURA MUNICIPAL DE CACAPAVA DO SUL - RS - PODER EXECUTIVO
A3: RELATÓRIO DE GESTÃO FISCAL
A4: DEMONSTRATIVO SIMPLIFICADO DO RELATÓRIO DE GESTÃO FISCAL
A5: ORÇAMENTOS FISCAL E DA SEGURIDADE SOCIAL
A6: 1º SEMESTRE DE 2021
A8: LRF, Art. 48 - Anexo 6 | C8: R$ 1,00
A9: RECEITA CORRENTE LÍQUIDA | B9: VALOR ATÉ O QUADRIMESTRE/SEMESTRE
A10: Receita Corrente líquida | B10: 1.0379063e+08
A11: Receita Corrente Líquida Ajustada para Cálculo dos Limites de Endividamento | B11: 1.0399063e+08
A12: Receita Corrente Líquida Ajustada para Cálculo dos Limites da Despesa com Pessoal | B12: 1.0399063e+08
A14: DESPESA COM PESSOAL | B14: VALOR | C14: % SOBRE A RCL AJUSTADA
A15: Despesa Total com Pessoal DTP | B15: =58634099.9 -> 58634100 | C15: =(B15/B10)*100 -> 56.492671
A16: Limite Máximo (incisos I,II e III, art. 20 da LRF) - 54,00% | B16: =B10*0.54 -> 56046941 | C16: 54
A17: Limite Prudencial (§ único, art. 22 da LRF) - 51,30% | B17: =B10*0.513 -> 53244594 | C17: 51.3
A18: Limite de Alerta (inciso II do §1º do art. 59 da LRF) - 48,60% | B18: =B10*0.486 -> 50442247 | C18: 48.6
A20: DÍVIDA CONSOLIDADA | B20: VALOR ATÉ O SEMESTRE DE REFERÊNCIA | C20: % SOBRE A RCL AJUSTADA
A21: Dívida Consolidada Líquida | B21: 1.827.068,71 | C21: =(B21/B11)*100 -> 1.7569551
A22: Limite Definido por Resolução do Senado Federal | B22: 0 | C22: 0
A24: GARANTIAS DE VALORES | B24: VALOR ATÉ O SEMESTRE DE REFERÊNCIA | C24: % SOBRE A RCL AJUSTADA
A25: Total das Garantias Concedidas | B25: 0 | C25: 0
A26: Limite Definido por Resolução do Senado Federal | B26: 0 | C26: 0
A28: OPERAÇÕES DE CRÉDITO | B28: VALOR | C28: % SOBRE A RCL AJUSTADA
A29: Operações de Crédito Internas e Externas | B29: 0 | C29: 0
A30: Limite Definido pelo Senado Federal para Operações de
A31: Crédito Externas e Internas | B31: 0 | C31: 0
A32: Operações de Crédito por Antecipação da Receita | B32: 0 | C32: 0
A33: Limite Definido pelo Senado Federal para Operações de
A34: Crédito por Antecipação da Receita | B34: 0 | C34: 0
A35: FONTE: GOVBR RF - Responsabilidade Fiscal, SECRETARIA DE MUNICÍPIO DA FAZENDA, 28/Jul/2021, 12h e 46m.
A39: Giovani Amestoy da Silva | B39: Ihoko Nakashima Mota | C39: Arlei Lopes Souza
A40: Prefeito Municipal | B40: Secret. de Município da Fazenda | C40: Contador - CRC/RS: 068452/O-6

Sheet AcompFAPS
B2: Aliquotas vigentes em 2021 do FAPS/RPPS
B3: ENTE | C3: SEGURADO
B4: Normal | C4: Normal
B5: 0.1999 | C5: 0.1184
B6: Suplementar | C6: Média dos Segurados
B7: 0.33
E9: Período: | F9: 2021 | G9: 2022 | H9: 2023 | I9: 2024 | J9: 2025
E10: Lei Municipal Nº 4167 de 04/08/2020 - Art. 4º - Aliquota do Passivo Atuarial. | F10: 0.33 | G10: 0.5 | H10: 0.585 | I10: 0.5675 | J10: 0.4
C14: Ano: 2021 | E14: Janeiro | F14: Fevereiro | G14: Março | H14: Abril | I14: Maio | J14: Junho | K14: TOTAIS:
B15: 7.9.9.0.01.1.1 | C15: Aportes Periodicos Amortiz Deficit Atuarial | D15: 311 | E15: 646851.22 | F15: 1584309.8 | G15: 1110585.6 | H15: 1101862.1 | I15: =1041204.38 -> 1041204.4 | J15: 1041463.5 | K15: =SUM(E15:J15) -> 6526276.6 | L15: =6526276.57-K15 -> 0
B16: 7.9.9.0.01.1.3 | C16: Aportes Periodicos Amortiz Deficit Atuarial - Div Ativa | D16: 320 | E16: 40013.54 | F16: 25467.31 | G16: =43738.35 -> 43738.35 | H16: 147124.29 | I16: =167667.79 -> 167667.79 | J16: 197063.87 | K16: =SUM(E16:J16) -> 621075.15 | L16: =621075.15-K16 -> 0
C18: Receitas Totais | E18: 1821306.7 | F18: 3418373.4 | G18: 2477692 | H18: 2713144.4 | I18: =2527081.2 -> 2527081.2 | J18: 2358458.2 | K18: =SUM(E18:J18) -> 15316056 | L18: =15316055.8-K18 -> 0
C19: Total da Despesa Paga | E19: 1774960.3 | F19: 1892028.5 | G19: 1916270.8 | H19: 1847527.9 | I19: 1862823.2 | K19: =SUM(E19:I19) -> 9293610.7 | L19: =9293610.65-K19 -> 0
C20: Resultado: | D20: (- ) | E20: =E18-E19 -> 46346.42 | F20: =F18-F19 -> 1526344.8 | G20: =G18-G19 -> 561421.16 | H20: =H18-H19 -> 865616.53 | I20: =I18-I19 -> 664258.01 | J20: =J18-J19 -> 2358458.2 | K20: =SUM(E20:I20) -> 3663987
C22: Valor do déficit para cobertura do Passivo Atuarial: | D22: ( = ) | E22: =SUM(E15:E16)-E20 -> 640518.34 | F22: =SUM(F15:F16)-F20 -> 83432.26 | G22: =SUM(G15:G16)-G20 -> 592902.82 | H22: =SUM(H15:H16)-H20 -> 383369.85 | I22: =SUM(I15:I16)-I20 -> 544614.16 | J22: =SUM(J15:J16)-J20 -> -1119930.9 | K22: =SUM(E22:I22) -> 2244837.4
C23: Progressão do Déficit no período | F23: =E22+F22 -> 723950.6 | G23: =F23+G22 -> 1316853.4 | H23: =G23+H22 -> 1700223.3 | I23: =H23+I22 -> 2244837.4 | J23: =I23+J22 -> 1124906.6
C25: Rendimentos Líquidos Auferidos do Período: | E25: =21390.5-13008.99 -> 8381.51 | F25: 7644.48 | G25: =70335.98-81867.41 -> -11531.43 | H25: 236970.22 | I25: =196118.17-25818.29 -> 170299.88 | J25: =48213.11-50509.62 -> -2296.51 | K25: =SUM(E25:J25) -> 409468.15
C28: Saldo dos Valores Aplicados: | E28: 33033587 | F28: 32875957 | G28: 34457888 | H28: 35776936 | I28: 35898682 | J28: =35480656.82 -> 35480657 | K28: TOTAIS:
F29: =F28-E28 -> -157630.07 | G29: =G28-F28 -> 1581931.6 | H29: =H28-G28 -> 1319048 | I29: =I28-H28 -> 121746.14 | J29: =J28-I28 -> -418025.45 | K29: =SUM(F29:J29) -> 2447070.2 | L29: =J28-E28-K29 -> 0
D31: Percentual dos Rendimentos em relação ao Saldo: | E31: =E25/E28 -> 0.00025372691 | F31: =F25/F28 -> 0.00023252495 | G31: =G25/G28 -> -0.00033465284 | H31: =H25/H28 -> 0.0066235471 | I31: =I25/I28 -> 0.0047439034 | J31: =J25/J28 -> -6.472569e-05 | K31: =SUM(E31:J31) -> 0.011454324

Sheet Exec_Orç
C1: POSIÇÃO DAS OBRIGAÇÕES REALIZADAS ATÉ JUNHO DE 2021.
H2: Empenhos de restos a Pagar
B3: Seq. | C3: ÓRGÃOS | D3: 1. Dotações: | E3: 2. Liquidado | F3: 3. Pago: | G3: 4. A Pagar = 2 - 3 | H3: 5. Saldo Inicial | I3: 6. RAP Pago | J3: 7. A liquidar | K3: 8.Restos a Pagar=5-(6+7)
B4: 1 | C4: Câmara | D4: 4189000 | E4: =Cronogra!AE24 -> 1668806.7 | F4: =1624307.91 -> 1624307.9 | G4: =E4-F4 -> 44498.78 | H4: 2150.91 | I4: 2150.91 | J4: =H4-I4 -> 0 | K4: =H4-I4 -> 0
B5: 2 | C5: Gabinete | D5: 2311581.5 | E5: =Cronogra!AE25 -> 1032379.3 | F5: 980304.02 | G5: =E5-F5 -> 52075.29 | H5: 430609.76 | I5: 93090.95 | J5: =430609.76-430609.76 -> 0 | K5: =H5-I5 -> 337518.81 | L5: =337518.81-K5 -> 0
B6: 3 | C6: SGM | D6: 1251892.3 | E6: =Cronogra!AE26 -> 340054.54 | F6: 321713.26 | G6: =E6-F6 -> 18341.28 | H6: 247473.7 | I6: 52717.16 | J6: =282751.59-247473.7 -> 35277.89 | K6: =H6-I6 -> 194756.54 | L6: =194756.54-K6 -> 0
B7: 4 | C7: SMCP | D7: 1831204.8 | E7: =Cronogra!AE27 -> 784533.97 | F7: 732056.16 | G7: =E7-F7 -> 52477.81 | H7: 597265.67 | I7: =91279.25 -> 91279.25 | J7: =597406.07-597265.67 -> 140.4 | K7: =H7-I7 -> 505986.42 | L7: =505986.42-K7 -> 0
B8: 5 | C8: SMA | D8: 8078865.6 | E8: =Cronogra!AE28 -> 3998623.7 | F8: 3486902 | G8: =E8-F8 -> 511721.73 | H8: 5923623 | I8: =771508.15 -> 771508.15 | J8: =5985138.89-5923622.99 -> 61515.9 | K8: =H8-I8 -> 5152114.8 | L8: =5152114.84-K8 -> 0
B9: 6 | C9: SMF | D9: 3547551.9 | E9: =Cronogra!AE29 -> 1541788.4 | F9: 1418449.2 | G9: =E9-F9 -> 123339.14 | H9: 1143866.1 | I9: 233409.11 | K9: =H9-I9 -> 910456.94 | L9: =910456.94-K9 -> 0
B10: 7 | C10: SMTur | D10: 1207536.1 | E10: =Cronogra!AE30 -> 344689.66 | F10: 322943.02 | G10: =E10-F10 -> 21746.64 | H10: 220079.47 | I10: 59826.08 | J10: =220135.97-220079.47 -> 56.5 | K10: =H10-I10 -> 160253.39 | L10: =160253.39-K10 -> 0
B11: 8 | C11: SMTSUI | D11: 12448467 | E11: =Cronogra!AE31 -> 5039978 | F11: 4546477.6 | G11: =E11-F11 -> 493500.33 | H11: =5336045.92 -> 5336045.9 | I11: 1235901 | J11: =5336045.92-3904796.9 -> 1431249 | K11: =H11-(I11+J11) -> 2668895.9 | L11: =2668895.86-K11 -> 0
B12: 9 | C12: SEDUC | D12: 42368245 | E12: =Cronogra!AE32 -> 15749150 | F12: 14516985 | G12: =E12-F12 -> 1232164.8 | H12: =5866343.08 -> 5866343.1 | I12: 1426736 | J12: =5866343.08-5665852.82 -> 200490.26 | K12: =H12-(I12+J12) -> 4239116.8 | L12: =4239116.84-K12 -> 0
B13: 10 | C13: SMSMA | D13: 29327281 | E13: =Cronogra!AE33 -> 13971037 | F13: 12695817 | G13: =E13-F13 -> 1275220.2 | H13: =7766012.8 -> 7766012.8 | I13: =2175436.15 -> 2175436.1 | J13: =7766012.8-7764842.78 -> 1170.02 | K13: =H13-(I13+J13) -> 5589406.6 | L13: =5589406.63-K13 -> 0
B14: 11 | C14: SMAS | D14: 4494711.6 | E14: =Cronogra!AE34 -> 1809680.3 | F14: 1676128.7 | G14: =E14-F14 -> 133551.59 | H14: 1002924.3 | I14: 232876.01 | J14: =1003608.34-1002924.31 -> 684.03 | K14: =H14-I14 -> 770048.3 | L14: =770048.3-K14 -> 0
B15: 12 | C15: SMAIC | D15: 2313005.8 | E15: =Cronogra!AE35 -> 679523.72 | F15: 595321.17 | G15: =E15-F15 -> 84202.55 | H15: 385992.62 | I15: 90450.45 | J15: =386792.28-(385992.62+495.16) -> 304.5 | K15: =H15-I15 -> 295542.17 | L15: =295542.17-K15 -> 0
B16: 13 | C16: Encargos | D16: 3021924.3 | E16: =Cronogra!AE36 -> 1322963.6 | F16: 1307565 | G16: =E16-F16 -> 15398.54 | H16: 386792.28 | I16: 90450.45 | J16: =386792.28-385992.62 -> 799.66 | K16: =H16-(I16+J16) -> 295542.17 | L16: =295542.17-K16 -> 0
B17: 15 | C17: FAPS | D17: =25810700.56 -> 25810701 | E17: =Cronogra!AE38 -> 11162076 | F17: 11154120 | G17: =E17-F17 -> 7957 | H17: 33584.9 | I17: 654 | J17: =33584.9-33584.9 -> 0 | K17: =H17-I17 -> 32930.9 | L17: =32930.9-K17 -> 0
B18: 16 | C18: FASM | D18: =4416737.33 -> 4416737.3 | E18: =Cronogra!AE39 -> 3076458.8 | F18: 3017792.2 | G18: =E18-F18 -> 58666.56 | H18: 49278.4 | I18: 49278.4 | J18: =49278.4-49278.4 -> 0 | K18: =H18-I18 -> 0
D19: =SUM(D4:D18) -> 1.4661871e+08 | E19: =SUM(E4:E18) -> 62521744 | F19: =SUM(F4:F18) -> 58396882 | G19: =SUM(G4:G18) -> 4124862.3 | H19: =SUM(H4:H18) -> 29392043 | I19: =SUM(I4:I18) -> 6605764.1 | J19: =SUM(J4:J18) -> 1731688.2 | K19: =SUM(K4:K18) -> 21152570 | L19: =21017199.93-K19 -> -135369.88
B20: Restos Cancelados | D20: =D19+Cruz!I24-Cruz!I27 -> 0 | E20: =62521743.79-E19 -> 0 | F20: =58396881.51-F19 -> 0 | G20: =4124862.28-G19 -> 0 | H20: =H19-(29440639.33) -> -48596.47 | I20: =6690599.37-I19 -> 84835.28 | J20: =(29440639.33-27707799.3)-J19 -> 1151.85 | K20: =21017199.93-K19 -> -135369.88
C21: Fonte: Relatório da "Situacao de Empenhos de Restos a Pagar Posicão até Junho/21"
D23: 1.Receita Realizada: | E23: 2.Desp. Liquidada | F23: 3.Despesa Paga: | G23: 4.Resultado: 1-3 | H23: 5.A Pagar: 2-3
C24: Pref. | D24: =Cruz!H16 -> 52151147 | E24: =SUM(E4:E16) -> 48283209 | F24: =SUM(F4:F16) -> 44224970 | G24: =D24-F24 -> 7926176.9 | H24: =E24-F24 -> 4058238.7
C25: FAPS | D25: =Cruz!H25 -> 15316056 | E25: =E17 -> 11162076 | F25: =F17 -> 11154120 | G25: =D25-F25 -> 4161936.3 | H25: =E25-F25 -> 7957
C26: FASM | D26: =Cruz!H26 -> 2316789.7 | E26: =E18 -> 3076458.8 | F26: =F18 -> 3017792.2 | G26: =D26-F26 -> -701002.51 | H26: =E26-F26 -> 58666.56
C27: Total: | D27: =SUM(D24:D26) -> 69783992 | E27: =SUM(E24:E26) -> 62521744 | F27: =SUM(F24:F26) -> 58396882 | G27: =SUM(G24:G26) -> 11387111 | H27: =SUM(H24:H26) -> 4124862.3

Sheet DespSEDUC
A3: Data Base: | B3: 44377
C4: 09 SECRETARIA DE MUNIC. DA EDUCACAO
C5: 09.01 ENSINO FUNDAMENTAL | E5: 09.02 ENSINO INFANTIL PRE-ESCOLA | H5: 09.03 ENSINO INFANTIL - CRECHE | J5: 09.05 ENSINO ESPECIAL | M5: 09.07 ENSINO JOVENS E ADULTOS - EJA
J6: 2.021 - 367
A9: Atividades: | B9: Dotações: | C9: Emp | D9: Líq | E9: Pgtos | F9: Saldo Dotações: | G9: Atividades: | H9: Dotações: | I9: Emp | J9: Líq | K9: Pgtos | L9: Saldo Dotações:
A10: 60% - 361 - 2.013 | B10: =12636603.36 -> 12636603 | C10: =6043841.78 -> 6043841.8 | D10: =6043841.78 -> 6043841.8 | E10: =5665953.7 -> 5665953.7 | F10: =B10-C10 -> 6592761.6 | G10: 40% - 361 - 2.014 | H10: 313301 | I10: 311129.25 | J10: 311129.25 | K10: 196314.52 | L10: =H10-I10 -> 2171.75
A11: 60% - PRE - 2.015 | B11: 3284610.6 | C11: 1592784.6 | D11: 1592784.6 | E11: 1493340.2 | F11: =B11-C11 -> 1691826 | G11: 40% PRE 2.016 | H11: 540184.71 | I11: 380338.94 | J11: 380338.94 | K11: 355067.18 | L11: =H11-I11 -> 159845.77
A12: 60% CRECHE 2.017 | B12: =2188774.08 -> 2188774.1 | C12: 1072315.9 | D12: 1072315.9 | E12: 1010368.2 | F12: =B12-C12 -> 1116458.2 | G12: 40% CRECHE 2.018 | H12: =1261737.86 -> 1261737.9 | I12: 817871.03 | J12: 817871.03 | K12: 774087.23 | L12: =H12-I12 -> 443866.83
A13: 60% Especial 2.021 | B13: 1223530.4 | C13: 722487.24 | D13: 722487.24 | E13: 678732.56 | F13: =B13-C13 -> 501043.13 | L13: =H13-I13 -> 0
A14: 60% EJA 2.022 | B14: 402256.61 | C14: 216776.16 | D14: 216776.16 | E14: 201306.71 | F14: =B14-C14 -> 185480.45 | G14: 40% EJA 2.023 | H14: 149580.78 | I14: 75127.83 | J14: 75127.83 | K14: 71070.43 | L14: =H14-I14 -> 74452.95
